{"text_format":"1","workbook":"xlsx","n_sheets":11,"sheets":["5 I","5 II","5 III","6 I","6 II","6 III","Общо І","Общо ІІ","Общо ІІІ","obl","zav"],"not_rendered":{"charts":0,"images":0,"macros":1,"external_links":0,"defined_names":0,"comments":0,"pivot_tables":0},"unopened":[],"bounds":{"document_bytes":16777216,"sheet_cells":100000,"rows_first":2000,"rows_last":500,"rows_between":2000,"halvings":0,"cell_chars":16384,"cell_head_chars":4096},"cells_cut":0,"cells_raw":0,"read":"whole","date_system":"1900"}

{"sheet":"5 I","index":0,"n_rows":350,"n_cols":12,"rows_kept":350,"cut":false,"hidden":false,"merged":[[2,11,3,13],[0,11,0,13],[1,11,1,13],[10,1,11,1],[10,2,11,2],[5,1,5,5],[0,2,0,3],[1,2,1,5],[2,4,2,5],[0,5,0,8],[10,3,10,5]]}
[{"$f":"IF(ISNA(VLOOKUP(C1,obl!A1:B28,2,FALSE))=TRUE,\"\",(VLOOKUP(C1,obl!A1:B28,2,FALSE)))","v":"05"},"Област:","05 Видин                ",null,null,{"$f":"IF(MID(C1,1,2)=MID(C2,1,2),\" \",\"избери заведение от същата област\")","v":"избери заведение от същата област"},null,null,null,null,null,"ПРИЛОЖЕНИ №5 и №6"]
[{"$f":"IF(ISNA(VLOOKUP(C2,zav!B1:C196,2,FALSE))=TRUE,\"\",(VLOOKUP(C2,zav!B1:C196,2,FALSE)))","v":""},"Лечебно заведение:",null,null,null,null,null,null,null,null,null,"към формуляр №365-О"]
[null,"Година:",2023,null,null,null,null,null,null,null,null,"Представя се от всички заведения за извънболнична помощ"]
[]
[]
[1,"Регистрирани заболявания в амбулаториите на лечебните заведения по вид на заболяването на деца от 0 до 17 годишна възраст"]
[]
[null,"Раздел I"]
[]
[null,null,null,null,null,null,null,"ХОРИЗОНТАЛЕН КОНТРОЛ:"]
[null,"НАИМЕНОВАНИЕ НА БОЛЕСТИТЕ ПО МКБ–10","Ши-фър","Регистрирани заболявания",null,null,null,"к.1і   к.2","к.1і   к.3"]
[null,null,null,"всичко","в т. ч. деца до 1 год.","Новооткрити заболявания - всичко"]
[null,"а","б",1,2,3]
[null,"ОБЩО I-XIX и ХХІІ клас","001",null,null,null,null,{"$f":"IF(D14<E14,\"грешка\",\"\")","v":""},{"$f":"IF(D14<F14,\"грешка\",\"\")","v":""}]
[null,"I. Някои инфекциозни и паразитни болести A00-B99","002",null,null,null,null,{"$f":"IF(D15<E15,\"грешка\",\"\")","v":""},{"$f":"IF(D15<F15,\"грешка\",\"\")","v":""}]
[null,"Чревни инфекции А00-А09","003",null,null,null,null,"",""]
[null,"Други салмонелозни инфекции А02","004",null,null,null,null,"",""]
[null,"Шигелоза А03","005",null,null,null,null,"",""]
[null,"Туберкулоза А15-А19","006",null,null,null,null,{"$f":"IF(D19<E19,\"грешка\",\"\")","v":""},{"$f":"IF(D19<F19,\"грешка\",\"\")","v":""}]
[null,"Сифилис А50-А53","007",null,null,null,null,"",""]
[null,"Вирусен хепатит В15-В19","008",null,null,null,null,"",""]
[null,"Аскаридоза В77","009",null,null,null,null,"",""]
[null,"Ентеробиоза В80","010",null,null,null,null,"",""]
[null,"II. Новообразувания C00-D48","011",null,null,null,null,"",""]
[null,"Злокачествени новообразувания C00-C97","012",null,null,null,null,"",""]
[null,"Доброкачествени новообразувания D10-D36","013",null,null,null,null,"",""]
[null,"III. Болести на кръвта, кръвотворните органи и отделни нарушения, включващи имунния механизъм D50–D89 ","014",null,null,null,null,"",""]
[null,"Анемии, свързани с храненето D50-D53","015",null,null,null,null,"",""]
[null,"Желязонедоимъчна анемия D50","016",null,null,null,null,"",""]
[null,"Хемолитични анемии D55-D59","017",null,null,null,null,"",""]
[null,"Апластични и други анемии D60-D64","018",null,null,null,null,"",""]
[null,"Остра постхеморагична анемия D62","019",null,null,null,null,"",""]
[null,"Нарушения на съсирването на кръвта, пурпура и други хеморагични състояния D65–D69","020",null,null,null,null,"",""]
[null,"Други болести на кръвта и кръвотворните органи D70–D77","021",null,null,null,null,"",""]
[null,"IV. Болести на ендокринната система, разстройства на храненето и на обмяната на веществата E00–E90","022",null,null,null,null,"",""]
[null,"Болести на щитовидната жлеза, свързани с йоден недоимък E00–E02 ","023",null,null,null,null,"",""]
[null,"Други видове хипотиреоидизъм E03 ","024",null,null,null,null,"",""]
[null,"Други видове нетоксична гуша E04 ","025",null,null,null,null,"",""]
[null,"Тиреотоксикоза [хипертиреоидизъм] E05 ","026",null,null,null,null,"",""]
[null,"Захарен диабет Е10-Е14","027",null,null,null,null,"",""]
[null,"Инсулинозависим захарен диабет Е10","028",null,null,null,null,"",""]
[null,"Неинсулинозависим захарен диабет Е11","029",null,null,null,null,"",""]
[null,"Хиперфункция на хипофизата Е22","030",null,null,null,null,"",""]
[null,"Хипофункция и други разстройства на хипофизата E23 ","031",null,null,null,null,"",""]
[null,"Разстройства на надбъбречните жлези E25–E27","032",null,null,null,null,"",""]
[null,"Недоимъчно хранене Е40-Е64","033",null,null,null,null,"",""]
[null,"Затлъстяване Е66","034",null,null,null,null,"",""]
[null,"V. Психични и поведенчески разстройства F00–F99","035",null,null,null,null,"",""]
[null,"Деменция F00-F03","036",null,null,null,null,"",""]
[null,"Делир, непредизвикан от алкохол и други психоактивни вещества F05","037",null,null,null,null,"",""]
[null,"Други разстройства, дължащи се на мозъчно заболяване F06,F07,F09","038",null,null,null,null,"",""]
[null,"Психични и поведенчески разстройства, дължащи се на употреба на алкохол F10","039",null,null,null,null,"",""]
[null,"Психични и поведенчески разстройства, дължащи се на употреба на други психоактивни вещества F11–F19","040",null,null,null,null,"",""]
[null,"Шизофрения, шизотипни и налудни разстройства F20–F29 ","041",null,null,null,null,"",""]
[null,"Шизофрения F20","042",null,null,null,null,"",""]
[null,"Остри и преходни психотични разстройства F23","043",null,null,null,null,"",""]
[null,"Разстройства на настроението [афективни разстройства] F30–F39 ","044",null,null,null,null,"",""]
[null,"Маниен епизод F30","045",null,null,null,null,"",""]
[null,"Биполярно афективно разстройство F31 ","046",null,null,null,null,"",""]
[null,"Депресивен епизод. Рецидивиращо депресивно разстройство F32, F33","047",null,null,null,null,"",""]
[null,"Невротични, свързани със стрес и соматоформни разстройства F40–F48 ","048",null,null,null,null,"",""]
[null,"Разстройства на храненето, съня и сексуалността F50,F51,F52","049",null,null,null,null,"",""]
[null,"Разстройства на личността и поведението в зряла възраст F60–F69 ","050",null,null,null,null,"",""]
[null,"Умствена изостаналост F70-F79","051",null,null,null,null,"",""]
[null,"Специфични разстройства в развитието F80-F83","052",null,null,null,null,"",""]
[null,"Генерализирани разстройства в развитието F84","053",null,null,null,null,"",""]
[null,"Хиперкинетични разстройства F90","054",null,null,null,null,"",""]
[null,"Други разстройства в поведението и емоциите F91–F95 ","055",null,null,null,null,"",""]
[null,"Неорганична енуреза F98.0","056",null,null,null,null,"",""]
[null,"VI. Болести на нервната система G00-G99","057",null,null,null,null,"",""]
[null,"Менингити G00-G03","058",null,null,null,null,"",""]
[null,"Енцефалит, миелит и енцефаломиелит G04","059",null,null,null,null,"",""]
[null,"Болест на Паркинсон G20","060",null,null,null,null,"",""]
[null,"Болест на Алцхаймер G30","061",null,null,null,null,"",""]
[null,"Множествена склероза G35","062",null,null,null,null,"",""]
[null,"Епилепсия, епилептичен статус G40, G41","063",null,null,null,null,"",""]
[null,"Мигрена G43 ","064",null,null,null,null,"",""]
[null,"Преходни церебрални исхемични пристъпи [атаки] и сродни синдроми G45","065",null,null,null,null,"",""]
[null,"Увреждания на троичния нерв G50","066",null,null,null,null,{"$f":"IF(D79<E79,\"грешка\",\"\")","v":""},{"$f":"IF(D79<F79,\"грешка\",\"\")","v":""}]
[null,"Увреждания на лицевия нерв G51 ","067",null,null,null,null,"",""]
[null,"Увреждания на нервни коренчета и плексуси, мононевропатии на горен крайник G54, G56","068",null,null,null,null,"",""]
[null,"Мононевропатии на долен крайник G57","069",null,null,null,null,"",""]
[null,"Полиневропатии и други увреждания на периферната нервна система G60–G64","070",null,null,null,null,"",""]
[null,"Детска церебрална парализа и други паралитични синдроми G80–G83 ","071",null,null,null,null,"",""]
[null,"Разстройства на вегетативната нервна система G90","072",null,null,null,null,"",""]
[null,"VII. Болести на окото и придатъците му H00–H59 ","073",null,null,null,null,"",""]
[null,"Болести на клепача, слъзните пътища и орбитата H00-H06","074",null,null,null,null,"",""]
[null,"Хордеолум и халацион H00","075",null,null,null,null,"",""]
[null,"Болести на конюнктивата H10-H13","076",null,null,null,null,"",""]
[null,"Болести на склерата, роговицата, ириса и цилиарното тяло H15–H22 ","077",null,null,null,null,"",""]
[null,"Кератит Н16","078",null,null,null,null,"",""]
[null,"Иридоциклит Н20","079",null,null,null,null,"",""]
[null,"Катаракта H25, H26","080",null,null,null,null,"",""]
[null,"Отлепване и разкъсване на ретината H33","081",null,null,null,null,"",""]
[null,"Глаукома H40-H42","082",null,null,null,null,"",""]
[null,"Болести на стъкловидното тяло и очната ябълка H43–H45 ","083",null,null,null,null,"",""]
[null,"Болести на зрителния нерв и зрителните пътища H46–H48 ","084",null,null,null,null,"",""]
[null,"Страбизъм H49, H50","085",null,null,null,null,"",""]
[null,"Слепота и намалено зрение H54","086",null,null,null,null,"",""]
[null,"VIII. Болести на ухото и мастоидния израстък H60–H95 ","087",null,null,null,null,"",""]
[null,"Болести на средното ухо и мастоидния израстък H65– H75 ","088",null,null,null,null,"",""]
[null,"Негнойно възпаление на средното ухо H65","089",null,null,null,null,"",""]
[null,"Гнойно и неуточнено възпаление на средното ухо H66","090",null,null,null,null,"",""]
[null,"Холестеатом на средното ухо H71","091",null,null,null,null,"",""]
[null,"Перфорация на тъпанчето H72","092",null,null,null,null,"",""]
[null,"Болести на вътрешното ухо H80-H83","093",null,null,null,null,"",""]
[null,"Отосклероза H80 ","094",null,null,null,null,"",""]
[null,"Глухота  H90, H91","095",null,null,null,null,"",""]
[null,"Други болести на ухото, некласифицирани другаде H93","096",null,null,null,null,"",""]
[null,"IХ. Болести на органите на кръвообращението I00–I99 ","097",null,null,null,null,"",""]
[null,"Остър ревматизъм I00-I02","098",null,null,null,null,"",""]
[null,"Хронични ревматични болести на сърцето I05–I09","099",null,null,null,null,"",""]
[null,"Хипертонични болести I10-I15","100",null,null,null,null,"",""]
[null,"Есенциална [първична] хипертония I10","101",null,null,null,null,"",""]
[null,"Исхемична болест на сърцето I20-I25","102",null,null,null,null,"",""]
[null,"Стенокардия I20","103",null,null,null,null,"",""]
[null,"Остър инфаркт на миокарда I21, I22","104",null,null,null,null,"",""]
[null,"Белодробен емболизъм I26","105",null,null,null,null,"",""]
[null,"Проводни нарушения и аритмии I44-I49","106",null,null,null,null,"",""]
[null,"Пароксизмална тахикардия I47","107",null,null,null,null,"",""]
[null,"Предсърдно мъждене и трептене I48","108",null,null,null,null,"",""]
[null,"Сърдечна недостатъчност I50","109",null,null,null,null,"",""]
[null,"Мозъчносъдови болести I60-I69","110",null,null,null,null,"",""]
[null,"Субарахноидален кръвоизлив I60","111",null,null,null,null,"",""]
[null,"Вътремозъчен и друг нетравматичен вътремозъчен кръвоизлив I61, I62 ","112",null,null,null,null,"",""]
[null,"Мозъчен инфаркт I63","113",null,null,null,null,"",""]
[null,"Инсулт, неуточнен като кръвоизлив или инфаркт I64 ","114",null,null,null,null,"",""]
[null,"Оклузия и стеноза на прецеребрални и церебрални артерии, които не са предизвикали мозъчен инфаркт I65, I66","115",null,null,null,null,"",""]
[null,"Флебит, тромбофлебит, емболия и тромбоза на вени I80–I82 ","116",null,null,null,null,"",""]
[null,"Варикозни вени на долните крайници I83","117",null,null,null,null,"",""]
[null,"Хемороиди I84","118",null,null,null,null,"",""]
[null,"Х. Болести на дихателната система J00-J99","119",null,null,null,null,"",""]
[null,"Остри инфекции на горните дихателни пътища J00–J06 ","120",null,null,null,null,"",""]
[null,"Грип J10, J11 ","121",null,null,null,null,"",""]
[null,"Вирусна пневмония, некласифицирана другаде J12 ","122",null,null,null,null,"",""]
[null,"Бактериални пневмонии J13–J18 ","123",null,null,null,null,"",""]
[null,"Остър бронхит и бронхиолит J20, J21 ","124",null,null,null,null,"",""]
[null,"Други болести на горните дихателни пътища J30–J39 ","125",null,null,null,null,"",""]
[null,"Вазомоторен и алергичен ринит J30 ","126",null,null,null,null,"",""]
[null,"Хроничен ринит, назофарингит, фарингит и синуит J31, J32 ","127",null,null,null,null,"",""]
[null,"Хронични болести на тонзилите и аденоидите J35","128",null,null,null,null,"",""]
[null,"Хроничен бронхит J41, J42","129",null,null,null,null,"",""]
[null,"Емфизем J43","130",null,null,null,null,{"$f":"IF(D143<E143,\"грешка\",\"\")","v":""},{"$f":"IF(D143<F143,\"грешка\",\"\")","v":""}]
[null,"Друга хронична обструктивна белодробна болест J44 ","131",null,null,null,null,"",""]
[null,"Астма J45, J46","132",null,null,null,null,"",""]
[null,"Бронхиектатична болест J47","133",null,null,null,null,"",""]
[null,"Болести на белия дроб, причинени от външни агенти J60–J70 ","134",null,null,null,null,"",""]
[null,"Други интерстициални белодробни болести J84 ","135",null,null,null,null,"",""]
[null,"Други болести на плеврата J90-J94","136",null,null,null,null,"",""]
[null,"ХI. Болести на храносмилателната система K00–K93 ","137",null,null,null,null,"",""]
[null,"Язва на стомаха и дванадесетопръстника K25–K27 ","138",null,null,null,null,"",""]
[null,"Гастрит и дуоденит K29","139",null,null,null,null,"",""]
[null,"Болести на апендикса K35-K38","140",null,null,null,null,"",""]
[null,"Хернии  K40-K46","141",null,null,null,null,"",""]
[null,"Ингвинална херния K40","142",null,null,null,null,"",""]
[null,"Болест на Crohn и улцерозен колит K50,K51","143",null,null,null,null,"",""]
[null,"Паралитичен илеус и непроходимост на червата без херния K56 ","144",null,null,null,null,"",""]
[null,"Фисура и фистула на ануса и ректума K60","145",null,null,null,null,"",""]
[null,"Перитонит K65","146",null,null,null,null,"",""]
[null,"Болести на черния дроб K70-K77","147",null,null,null,null,"",""]
[null,"Алкохолна болест на черния дроб K70","148",null,null,null,null,"",""]
[null,"Фиброза и цироза на черния дроб K74","149",null,null,null,null,"",""]
[null,"Холелитиаза и холецистит K80, K81","150",null,null,null,null,"",""]
[null,"ХII. Болести на кожата и подкожната тъкан L00–L99","151",null,null,null,null,"",""]
[null,"Инфекции на кожата и подкожната тъкан L00–L08 ","152",null,null,null,null,"",""]
[null,"Дерматит и екзема L20-L30","153",null,null,null,null,"",""]
[null,"Алергичен контактен дерматит L23","154",null,null,null,null,"",""]
[null,"Псориазис L40","155",null,null,null,null,"",""]
[null,"Уртикария и еритем L50-L54","156",null,null,null,null,"",""]
[null,"Уртикария L50","157",null,null,null,null,"",""]
[null,"ХIII. Болести на костно-мускулната система и на съединителната тъкан M00–M99 ","158",null,null,null,null,"",""]
[null,"Инфекциозни артропатии M00-M03","159",null,null,null,null,"",""]
[null,"Пиогенен артрит M00","160",null,null,null,null,"",""]
[null,"Възпалителни полиартропатии M05-M14","161",null,null,null,null,"",""]
[null,"Серопозитивен ревматоиден артрит M05","162",null,null,null,null,"",""]
[null,"Юношески [ювенилен] артрит M08","163",null,null,null,null,"",""]
[null,"Артрози M15-M19","164",null,null,null,null,"",""]
[null,"Коксартроза [артроза на тазобедрената става] M16 ","165",null,null,null,null,"",""]
[null,"Гонартроза [артроза на колянната става] M17 ","166",null,null,null,null,"",""]
[null,"Системни увреждания на съединителната тъкан M30–M36 ","167",null,null,null,null,"",""]
[null,"Дорзопатии M40-M54","168",null,null,null,null,"",""]
[null,"Сколиоза M41","169",null,null,null,null,"",""]
[null,"Болести на меките тъкани M60-M79","170",null,null,null,null,"",""]
[null,"Нарушения в плътността и структурата на костта M80–M85 ","171",null,null,null,null,"",""]
[null,"Други остеопатии M86-M90","172",null,null,null,null,"",""]
[null,"Остеомиелит M86","173",null,null,null,null,"",""]
[null,"Остеонекроза M87","174",null,null,null,null,"",""]
[null,"Юношеска остеохондроза M91, М92","175",null,null,null,null,"",""]
[null,"ХIV. Болести на пикочо-половата система N00–N99 ","176",null,null,null,null,"",""]
[null,"Болести на пикочната система N00-N39","177",null,null,null,null,"",""]
[null,"Гломерулни болести N00-N08","178",null,null,null,null,"",""]
[null,"Остър нефритен синдром N00","179",null,null,null,null,"",""]
[null,"Тубулоинтерстициални болести на бъбреците N10–N16 ","180",null,null,null,null,"",""]
[null,"Тубулоинтерстициален нефрит N10-N12","181",null,null,null,null,"",""]
[null,"Остър тубулоинтерстициален нефрит N10","182",null,null,null,null,"",""]
[null,"Хроничен тубулоинтерстициален нефрит N11 ","183",null,null,null,null,"",""]
[null,"Обструктивна и рефлуксна нефропатия N13","184",null,null,null,null,"",""]
[null,"Остра бъбречна недостатъчност N17","185",null,null,null,null,"",""]
[null,"Хронична бъбречна недостатъчност N18, N19","186",null,null,null,null,"",""]
[null,"Бъбречно-каменна болест N20-N23","187",null,null,null,null,"",""]
[null,"Цистит N30","188",null,null,null,null,"",""]
[null,"Уретрит и уретрален синдром N34","189",null,null,null,null,"",""]
[null,"Хиперплазия на простатата N40","190",null,null,null,null,"",""]
[null,"Хидроцеле и сперматоцеле N43","191",null,null,null,null,"",""]
[null,"Болести на млечните жлези N60-N64","192",null,null,null,null,"",""]
[null,"Салпингит и оофорит N70","193",null,null,null,null,"",""]
[null,"Възпалителна болест на шийката на матката N72","194",null,null,null,null,{"$f":"IF(D207<E207,\"грешка\",\"\")","v":""},{"$f":"IF(D207<F207,\"грешка\",\"\")","v":""}]
[null,"Пролапс на женските полови органи N81 ","195",null,null,null,null,"",""]
[null,"Невъзпалителни болести на шийката на матката N86–N88 ","196",null,null,null,null,"",""]
[null,"ХV. Бременност, раждане и послеродов период O00–O99 ","197",null,null,null,null,"",""]
[null,"Бременност, завършваща с аборт O00-O08","198",null,null,null,null,"",""]
[null,"Усложнения след аборт, извънматочна и гроздовидна бременност O08","199",null,null,null,null,"",""]
[null,"Отоци, протеинурия и хипертонични усложнения по време на бременността, раждането и послеродовия период O10–O16","200",null,null,null,null,"",""]
[null,"Еклампсия O15","201",null,null,null,null,"",""]
[null,"Други болести на майката, свързани предимно с бременността O20–O29 ","202",null,null,null,null,"",""]
[null,"Ексцесивно повръщане по време на бременността O21 ","203",null,null,null,null,"",""]
[null,"Медицински грижи за майката, свързани със състоянието на плода и околоплодния мехур и възможни усложнения в хода на родоразрешаването O30–O48","204",null,null,null,null,"",""]
[null,"Предлежаща плацента, преждевременно отлепване на плацентата и кръвотечение преди раждането O44–O46","205",null,null,null,null,"",""]
[null,"Усложнения, свързани предимно с послеродовия период O85–O92","206",null,null,null,null,"",""]
[null,"ХVI. Някои състояния, възникващи през перинаталния период P00–P96 ","207",null,null,null,null,"",""]
[null,"Увреждания на плода и новороденото от патологични състояния на майката, усложнения на бременността, раждането и родоразрешаването P00–P04","208",null,null,null,null,"",""]
[null,"Забавен фетален растеж, хипотрофия на плода и разстройства, свързани със скъсяване срока на бременността и ниско тегло при раждане P05–P07 ","209",null,null,null,null,"",""]
[null,"Родова травма P10-P15","210",null,null,null,null,"",""]
[null,"Вътреутробна хипоксия и асфиксия по време на раждането P20, P21 ","211",null,null,null,null,"",""]
[null,"Други респираторни състояния, възникващи в перинаталния период P22–P28 ","212",null,null,null,null,"",""]
[null,"Неонатални аспирационни синдроми P24","213",null,null,null,null,"",""]
[null,"Инфекциозни болести, характерни за перинаталния период P35–P39 ","214",null,null,null,null,"",""]
[null,"Хеморагични нарушения у плода и новороденото P50–P54","215",null,null,null,null,"",""]
[null,"Хемолитична болест на плода и новороденото P55 ","216",null,null,null,null,"",""]
[null,"ХVII. Вродени аномалии [пороци на развитието], деформации и хромозомни аберации Q00–Q99 ","217",null,null,null,null,"",""]
[null,"Вродена хидроцефалия и Spina bifida Q03, Q05 ","218",null,null,null,null,"",""]
[null,"Други вродени аномалии [пороци на развитието]  на нервната система Q00-Q02, Q04, Q06, Q07","219",null,null,null,null,"",""]
[null,"Вродени аномалии [пороци на развитието] на системата на кръвообращението Q20–Q28","220",null,null,null,null,"",""]
[null,"Цепка на устната и небцето  [заешка устна и вълча уста] Q35-Q37","221",null,null,null,null,"",""]
[null,"Вродена липса, атрезия и стеноза на тънко черво Q41 ","222",null,null,null,null,"",""]
[null,"Недесцендирал тестис Q53","223",null,null,null,null,"",""]
[null,"Вродени аномалии [пороци на развитието] и деформации на костно-мускулната система Q65–Q79 ","224",null,null,null,null,"",""]
[null,"Вродени деформации на бедрото Q65","225",null,null,null,null,"",""]
[null,"Вродени деформации на стъпалото Q66","226",null,null,null,null,"",""]
[null,"Синдром на Down Q90","227",null,null,null,null,"",""]
[null,"ХVIII. Симптоми, признаци и отклонения от нормата, открити при клинични и лабораторни изследвания, некласифицирани другаде R00–R99","228",null,null,null,null,"",""]
[null,"Болки в областта на корема и таза R10","229",null,null,null,null,"",""]
[null,"Гадене и повръщане R11","230",null,null,null,null,"",""]
[null,"Главоболие R51","231",null,null,null,null,"",""]
[null,"Припадък [синкоп] и колапс R55","232",null,null,null,null,"",""]
[null,"Отклонения от нормата, открити при получаване на диагностични изображения и провеждане на изследвания, при липса на установена диагноза R90–R94 ","233",null,null,null,null,"",""]
[null,"ХIX. Травми, отравяния и някои други последици от въздействието на външни причини S00–T98","234",null,null,null,null,"",""]
[null,"Травми на главата и шията S00-S19","235",null,null,null,null,"",""]
[null,"От тях: счупвания S02, S12","236",null,null,null,null,"",""]
[null,"Мозъчно сътресение S06.0","237",null,null,null,null,"",""]
[null,"Травми на гръдния кош, корема, поясния отдел на гръбначния стълб и таза S20–S39 ","238",null,null,null,null,"",""]
[null,"От тях: счупвания S22, S32","239",null,null,null,null,"",""]
[null,"Травми на раменен пояс и горен крайник S40–S69 ","240",null,null,null,null,"",""]
[null,"От тях: счупвания S42,S52,S62","241",null,null,null,null,"",""]
[null,"Травми на тазобедрената става и долен крайник S70–S99 ","242",null,null,null,null,"",""]
[null,"От тях: счупвания S72,S82,S92","243",null,null,null,null,"",""]
[null,"Травми, обхващащи няколко области от тялото Т00–Т07 ","244",null,null,null,null,"",""]
[null,"Последици от проникване на чуждо тяло през естествени отвори Т15–Т19","245",null,null,null,null,"",""]
[null,"Термични и химични изгаряния Т20–Т32","246",null,null,null,null,"",""]
[null,"Измръзване Т33–Т35","247",null,null,null,null,"",""]
[null,"Отравяния и токсични въздействия Т36–Т65","248",null,null,null,null,"",""]
[null,"Токсично въздействие на разяждащи вещества Т54 ","249",null,null,null,null,"",""]
[null,"Токсично въздействие на други отровни вещества, съдържащи се в изядени хранителни продукти Т62","250",null,null,null,null,"",""]
[null,"Топлинен и слънчев удар Т67.0","251",null,null,null,null,"",""]
[null,"Синдром на малтретиране Т74","252",null,null,null,null,{"$f":"IF(D265<E265,\"грешка\",\"\")","v":""},{"$f":"IF(D265<F265,\"грешка\",\"\")","v":""}]
[null,"ХXІІ. Кодове за специални цели U00–U85","253",null,null,null,null,"",""]
[null,"Нови заболявания с несигурна етиология или спешна употреба - временни кодове U00-U49","254",null,null,null,null,"",""]
[null,"Кодове за спешна употреба U07","255",null,null,null,null,"",""]
[null,"COVID-19, идентифициран вирус U07.1","256",null,null,null,null,"",""]
[null,"COVID-19, неидентифициран вирус U07.2","257",null,null,null,null,"",""]
[null,"В лична анамнеза има COVID-19 U08","258",null,null,null,null,{"$f":"IF(D271<E271,\"грешка\",\"\")","v":""},{"$f":"IF(D271<F271,\"грешка\",\"\")","v":""}]
[null,"В лична анамнеза има COVID-19, неуточнен U08.9","259",null,null,null,null,"",""]
[null,"Състояние след прекаран COVID-19 U09","260",null,null,null,null,"",""]
[null,"Състояние след прекаран COVID-19, неуточнен U09.9","261",null,null,null,null,"",""]
[null,"Мултисистемен възпалителен синдром, свързан с COVID-19 U10","262",null,null,null,null,"",""]
[null,"Мултисистемен възпалителен синдром, свързан с  COVID-19, неуточнен U10.9","263",null,null,null,null,"",""]
[null,"Необходимост от имунизация срещу COVID-19 U11","264",null,null,null,null,"",""]
[null,"Необходимост от имунизация срещу COVID-19, неуточнен U11.9","265",null,null,null,null,"",""]
[null,"Неблагоприятни реакции при терапевтично прилагане на ваксини за COVID-19 U12","266",null,null,null,null,"",""]
[null,"Неблагоприятни реакции при терапевтично прилагане на ваксини заCOVID-19, неуточнен U12.9","267",null,null,null,null,"",""]
[]
[]
["ВЕРТИКАЛЕН КОНТРОЛ:"]
[null,"ш.001= ш.002+ш.011+ш.014+ш.022+ш.035+ш.057+ш.073+ш.087+ ш.097+ш.119+ш.137+ш.151+ш.158+ш.176+ш.197+ш.207+ш.217+ш.228+ш.234+ш.253",null,{"$f":"IF(D14=D15+D24+D27+D35+D48+D70+D86+D100+D110+D132+D150+D164+D171+D189+D210+D220+D230+D241+D247+D266,\"\",\"грешка\")","v":""},{"$f":"IF(E14=E15+E24+E27+E35+E48+E70+E86+E100+E110+E132+E150+E164+E171+E189+E210+E220+E230+E241+E247+E266,\"\",\"грешка\")","v":""},""]
[null,"ш.002і   ш.003+ ш.006 до ш.010",null,{"$f":"IF(D15<D16+D19+D20+D21+D22+D23,\"грешка\",\"\")","v":""},{"$f":"IF(E15<E16+E19+E20+E21+E22+E23,\"грешка\",\"\")","v":""},""]
[null,"ш.003і   ш.004 + ш.005",null,{"$f":"IF(D16<D17+D18,\"грешка\",\"\")","v":""},{"$f":"IF(E16<E17+E18,\"грешка\",\"\")","v":""},{"$f":"IF(F16<F17+F18,\"грешка\",\"\")","v":""}]
[null,"ш.011і   ш.012 + ш.013",null,{"$f":"IF(D24<D25+D26,\"грешка\",\"\")","v":""},{"$f":"IF(E24<E25+E26,\"грешка\",\"\")","v":""},""]
[null,"ш.014і   ш.015+ш.017+ ш.018+ш.020+ ш.021",null,{"$f":"IF(D27<D28+D30+D31+D33+D34,\"грешка\",\"\")","v":""},{"$f":"IF(E27<E28+E30+E31+E33+E34,\"грешка\",\"\")","v":""},""]
[null,"ш.015і   ш.016",null,{"$f":"IF(D28<D29,\"грешка\",\"\")","v":""},{"$f":"IF(E28<E29,\"грешка\",\"\")","v":""},""]
[null,"ш.018і   ш.019",null,{"$f":"IF(D31<D32,\"грешка\",\"\")","v":""},{"$f":"IF(E31<E32,\"грешка\",\"\")","v":""},""]
[null,"ш.022і   сумата от ш.023 до ш.027 + ш.030 до ш.034",null,{"$f":"IF(D35<D36+D37+D38+D39+D40+D43+D44+D45+D46+D47,\"грешка\",\"\")","v":""},{"$f":"IF(E35<E36+E37+E38+E39+E40+E43+E44+E45+E46+E47,\"грешка\",\"\")","v":""},""]
[null,"ш.027і   ш.028 + ш.029",null,{"$f":"IF(D40<D41+D42,\"грешка\",\"\")","v":""},{"$f":"IF(E40<E41+E42,\"грешка\",\"\")","v":""},""]
[null,"ш.035і   сумата от ш.038 до ш.041 + ш.044 + ш.051 до ш.056",null,{"$f":"IF(D48<D49+D50+D51+D52+D53+D54+D57+D61+D62+D63+D64+D65+D66+D67+D68+D69,\"грешка\",\"\")","v":""},{"$f":"IF(E48<E49+E50+E51+E52+E53+E54+E57+E61+E62+E63+E64+E65+E66+E67+E68+E69,\"грешка\",\"\")","v":""},""]
[null,"ш.041і   ш.042+ш.043",null,{"$f":"IF(D54<D55+D56,\"грешка\",\"\")","v":""},{"$f":"IF(E54<E55+E56,\"грешка\",\"\")","v":""},""]
[null,"ш.044і   ш.045+ш.046+ш.047",null,{"$f":"IF(D57<D58+D59+D60,\"грешка\",\"\")","v":""},{"$f":"IF(E57<E58+E59+E60,\"грешка\",\"\")","v":""},""]
[null,"ш.057і   сумата от ш.058 до ш.072",null,{"$f":"IF(D70<D71+D72+D73+D74+D75+D76+D77+D78+D79+D80+D81+D82+D83+D84+D85,\"грешка\",\"\")","v":""},{"$f":"IF(E70<E71+E72+E73+E74+E75+E76+E77+E78+E79+E80+E81+E82+E83+E84+E85,\"грешка\",\"\")","v":""},""]
[null,"ш.073і   ш.074+ш.076+ш.077+ш.080 до ш.086",null,{"$f":"IF(D86<D87+D89+D90+D93+D94+D95+D96+D97+D98+D99,\"грешка\",\"\")","v":""},{"$f":"IF(E86<E87+E89+E90+E93+E94+E95+E96+E97+E98+E99,\"грешка\",\"\")","v":""},""]
[null,"ш.074і   ш.075",null,{"$f":"IF(D87<D88,\"грешка\",\"\")","v":""},{"$f":"IF(E87<E88,\"грешка\",\"\")","v":""},""]
[null,"ш.077і   ш.078+ш.079",null,{"$f":"IF(D90<D91+D92,\"грешка\",\"\")","v":""},{"$f":"IF(E90<E91+E92,\"грешка\",\"\")","v":""},""]
[null,"ш.087і   ш.088+ш.093+ш.095+ш.096",null,{"$f":"IF(D100<D101+D106+D108+D109,\"грешка\",\"\")","v":""},{"$f":"IF(E100<E101+E106+E108+E109,\"грешка\",\"\")","v":""},""]
[null,"ш.088і   ш.089+ш.090+ш.091+ш.092",null,{"$f":"IF(D101<D102+D103+D104+D105,\"грешка\",\"\")","v":""},{"$f":"IF(E101<E102+E103+E104+E105,\"грешка\",\"\")","v":""},""]
[null,"ш.093і   ш.094",null,{"$f":"IF(D106<D107,\"грешка\",\"\")","v":""},{"$f":"IF(E106<E107,\"грешка\",\"\")","v":""},""]
[null,"ш.097і   ш.098+ш.099+ш.100+ш.105+ш.106+ш.109+ш.110+ш.116+ ш.117+ш.118",null,{"$f":"IF(D110<D111+D112+D113+D115+D118+D119+D122+D123+D129+D130+D131,\"грешка\",\"\")","v":""},{"$f":"IF(E110<E111+E112+E113+E115+E118+E119+E122+E123+E129+E130+E131,\"грешка\",\"\")","v":""},{"$f":"IF(F110<F111+F112+F113+F115+F117+F118+F119+F122+F123+F129+F130+F131,\"грешка\",\"\")","v":""}]
[null,"ш.100і   ш.101",null,{"$f":"IF(D113<D114,\"грешка\",\"\")","v":""},{"$f":"IF(E113<E114,\"грешка\",\"\")","v":""},""]
[null,"ш.102і   ш.103",null,{"$f":"IF(D115<D116+D117,\"грешка\",\"\")","v":""},{"$f":"IF(E115<E116+E117,\"грешка\",\"\")","v":""},{"$f":"IF(F115<F116,\"грешка\",\"\")","v":""}]
[null,"ш.106і   ш.107 + ш.108",null,{"$f":"IF(D119<D120+D121,\"грешка\",\"\")","v":""},{"$f":"IF(E119<E120+E121,\"грешка\",\"\")","v":""},""]
[null,"ш.110і   ш.111 + ш.112",null,{"$f":"IF(D123<D124+D125+D126+D127+D128,\"грешка\",\"\")","v":""},{"$f":"IF(E123<E124+E125+E126+E127+E128,\"грешка\",\"\")","v":""},""]
[null,"ш.119і   сумата от ш.120 до ш.125 + ш.129 до ш.136",null,{"$f":"IF(D132<D133+D134+D135+D136+D137+D138+D142+D143+D144+D145+D146+D147+D148+D149,\"грешка\",\"\")","v":""},{"$f":"IF(E132<E133+E134+E135+E136+E137+E138+E142+E143+E144+E145+E146+E147+E148+E149,\"грешка\",\"\")","v":""},""]
[null,"ш.125і   сумата от ш.126 до ш.128",null,{"$f":"IF(D138<D139+D140+D141,\"грешка\",\"\")","v":""},{"$f":"IF(E138<E139+E140+E141,\"грешка\",\"\")","v":""},""]
[null,"ш.137і   сумата от ш.138 до ш.141 + ш.144 до ш.147 + ш.150",null,{"$f":"IF(D150<D151+D152+D153+D154+D156+D157+D158+D159+D160+D163,\"грешка\",\"\")","v":""},{"$f":"IF(E150<E151+E152+E153+E154+E156+E157+E158+E159+E160+E163,\"грешка\",\"\")","v":""},""]
[null,"ш.141і   ш.142",null,{"$f":"IF(D154<D155,\"грешка\",\"\")","v":""},{"$f":"IF(E154<E155,\"грешка\",\"\")","v":""},""]
[null,"ш.147і   ш.148+ш.149",null,{"$f":"IF(D160<D161+D162,\"грешка\",\"\")","v":""},{"$f":"IF(E160<E161+E162,\"грешка\",\"\")","v":""},""]
[null,"ш.151і   ш.152+ш.153+ш.155+ш.156",null,{"$f":"IF(D164<D165+D166+D168+D169,\"грешка\",\"\")","v":""},{"$f":"IF(E164<E165+E166+E168+E169,\"грешка\",\"\")","v":""},""]
[null,"ш.153і   ш.154",null,{"$f":"IF(D166<D167,\"грешка\",\"\")","v":""},{"$f":"IF(E166<E167,\"грешка\",\"\")","v":""},""]
[null,"ш.156і   ш.157",null,{"$f":"IF(D169<D170,\"грешка\",\"\")","v":""},{"$f":"IF(E169<E170,\"грешка\",\"\")","v":""},""]
[null,"ш.158і   ш.159+ш.161+ш.164+ш.167+ш.168+ш.170+ш.172+ш.175",null,{"$f":"IF(D171<D172+D174+D177+D180+D181+D183+D184+D185+D188,\"грешка\",\"\")","v":""},{"$f":"IF(E171<E172+E174+E177+E180+E181+E183+E184+E185+E188,\"грешка\",\"\")","v":""},""]
[null,"ш.159і   ш.160",null,{"$f":"IF(D172<D173,\"грешка\",\"\")","v":""},{"$f":"IF(E172<E173,\"грешка\",\"\")","v":""},""]
[null,"ш.161і   ш.163",null,{"$f":"IF(D174<D175+D176,\"грешка\",\"\")","v":""},{"$f":"IF(E174<E175+E176,\"грешка\",\"\")","v":""},""]
[null,"ш.164і   ш.165+ш.166",null,{"$f":"IF(D177<D178+D179,\"грешка\",\"\")","v":""},{"$f":"IF(E177<E178+E179,\"грешка\",\"\")","v":""},""]
[null,"ш.168і   ш.169",null,{"$f":"IF(D181<D182,\"грешка\",\"\")","v":""},{"$f":"IF(E181<E182,\"грешка\",\"\")","v":""},""]
[null,"ш.172і   ш.173",null,{"$f":"IF(D185<D186+D187,\"грешка\",\"\")","v":""},{"$f":"IF(E185<E186+E187,\"грешка\",\"\")","v":""},""]
[null,"ш.176і   ш.177+ш.191+ш.192+ш.193+ш.194+ш.196",null,{"$f":"IF(D189<D190+D203+D204+D205+D206+D207+D208+D209,\"грешка\",\"\")","v":""},{"$f":"IF(E189<E190+E203+E204+E205+E206+E207+E208+E209,\"грешка\",\"\")","v":""},""]
[null,"ш.177і   сумата от ш.178+ш.180+ш.185 до ш.189",null,{"$f":"IF(D190<D191+D193+D198+D199+D200+D201+D202,\"грешка\",\"\")","v":""},{"$f":"IF(E190<E191+E193+E198+E199+E200+E201+E202,\"грешка\",\"\")","v":""},{"$f":"IF(F190<F191+F193+F198+F199+F200+F201+F202,\"грешка\",\"\")","v":""}]
[null,"ш.178і   ш.179",null,{"$f":"IF(D191<D192,\"грешка\",\"\")","v":""},{"$f":"IF(E191<E192,\"грешка\",\"\")","v":""},""]
[null,"ш.180і   ш.181+ш.184",null,{"$f":"IF(D193<D194+D197,\"грешка\",\"\")","v":""},{"$f":"IF(E193<E194+E197,\"грешка\",\"\")","v":""},""]
[null,"ш.181і   ш.182+ш.183",null,{"$f":"IF(D194<D195+D196,\"грешка\",\"\")","v":""},{"$f":"IF(E194<E195+E196,\"грешка\",\"\")","v":""},""]
[null,"ш.197і   ш.198+ш.200+ш.202+ш.204+ш.206",null,{"$f":"IF(D210<D211+D213+D215+D217+D219,\"грешка\",\"\")","v":""},{"$f":"IF(E210<E211+E213+E215+E217+E219,\"грешка\",\"\")","v":""},""]
[null,"ш.198і   ш.199",null,{"$f":"IF(D211<D212,\"грешка\",\"\")","v":""},{"$f":"IF(E211<E212,\"грешка\",\"\")","v":""},""]
[null,"ш.200і   ш.201",null,{"$f":"IF(D213<D214,\"грешка\",\"\")","v":""},{"$f":"IF(E213<E214,\"грешка\",\"\")","v":""},""]
[null,"ш.202і   ш.203",null,{"$f":"IF(D215<D216,\"грешка\",\"\")","v":""},{"$f":"IF(E215<E216,\"грешка\",\"\")","v":""},""]
[null,"ш.204і   ш.205",null,{"$f":"IF(D217<D218,\"грешка\",\"\")","v":""},{"$f":"IF(E217<E218,\"грешка\",\"\")","v":""},""]
[null,"ш.207і  сумата от ш.208 до ш.212 + ш.214 до 216",null,{"$f":"IF(D220<D221+D222+D223+D224+D225+D227+D228+D229,\"грешка\",\"\")","v":""},{"$f":"IF(E220<E221+E222+E223+E224+E225+E227+E228+E229,\"грешка\",\"\")","v":""},""]
[null,"ш.212і   ш.213",null,{"$f":"IF(D225<D226,\"грешка\",\"\")","v":""},{"$f":"IF(E225<E226,\"грешка\",\"\")","v":""},""]
[null,"ш.217і  сумата от ш.218 до ш.224 + ш.227",null,{"$f":"IF(D230<D231+D232+D233+D234+D235+D236+D237+D240,\"грешка\",\"\")","v":""},{"$f":"IF(E230<E231+E232+E233+E234+E235+E236+E237+E240,\"грешка\",\"\")","v":""},""]
[null,"ш.224і  ш.225 + ш.226",null,{"$f":"IF(D237<D238+D239,\"грешка\",\"\")","v":""},{"$f":"IF(E237<E238+E239,\"грешка\",\"\")","v":""},""]
[null,"ш.228і   сумата от ш.229 до ш.233",null,{"$f":"IF(D241<D242+D243+D244+D245+D246,\"грешка\",\"\")","v":""},{"$f":"IF(E241<E242+E243+E244+E245+E246,\"грешка\",\"\")","v":""},""]
[null,"ш.234і  ш.235+ш.238+ш.240+ш.242+ш.244 до ш.248+ш.251+ш.252",null,{"$f":"IF(D247<D248+D251+D253+D255+D257+D258+D259+D260+D261+D264+D265,\"грешка\",\"\")","v":""},{"$f":"IF(E247<E248+E251+E253+E255+E257+E258+E259+E260+E261+E264+E265,\"грешка\",\"\")","v":""},""]
[null,"ш.235і  ш.236+ш.237",null,{"$f":"IF(D248<D249+D250,\"грешка\",\"\")","v":""},{"$f":"IF(E248<E249+E250,\"грешка\",\"\")","v":""},""]
[null,"ш.238і  ш.239",null,{"$f":"IF(D251<D252,\"грешка\",\"\")","v":""},{"$f":"IF(E251<E252,\"грешка\",\"\")","v":""},""]
[null,"ш.240і  ш.241",null,{"$f":"IF(D253<D254,\"грешка\",\"\")","v":""},{"$f":"IF(E253<E254,\"грешка\",\"\")","v":""},""]
[null,"ш.242і  ш.243",null,{"$f":"IF(D255<D256,\"грешка\",\"\")","v":""},{"$f":"IF(E255<E256,\"грешка\",\"\")","v":""},""]
[null,"ш.248і  ш.249 + ш.250",null,{"$f":"IF(D261<D262+D263,\"грешка\",\"\")","v":""},{"$f":"IF(E261<E262+E263,\"грешка\",\"\")","v":""},""]
[null,"ш.253і  ш.254",null,{"$f":"IF(D266<D267,\"грешка\",\"\")","v":""},{"$f":"IF(E266<E267,\"грешка\",\"\")","v":""},""]
[null,"ш.254і  ш.255+ш.258+ш.260+ш.262+ш.264+ш.266",null,{"$f":"IF(D267<D268+D271+D273+D275+D277+D279,\"грешка\",\"\")","v":""},{"$f":"IF(E267<E268+E271+E273+E275+E277+E279,\"грешка\",\"\")","v":""},""]
[null,"ш.255і  ш.256+ш.257",null,{"$f":"IF(D268<D269+D270,\"грешка\",\"\")","v":""},{"$f":"IF(E268<E269+E270,\"грешка\",\"\")","v":""},""]
[null,"ш.258і  ш.259",null,{"$f":"IF(D271<D272,\"грешка\",\"\")","v":""},{"$f":"IF(E271<E272,\"грешка\",\"\")","v":""},""]
[null,"ш.260і  ш.261",null,{"$f":"IF(D273<D274,\"грешка\",\"\")","v":""},{"$f":"IF(E273<E274,\"грешка\",\"\")","v":""},""]
[null,"ш.262і  ш.263",null,{"$f":"IF(D275<D276,\"грешка\",\"\")","v":""},{"$f":"IF(E275<E276,\"грешка\",\"\")","v":""},""]
[null,"ш.264і  ш.265",null,{"$f":"IF(D277<D278,\"грешка\",\"\")","v":""},{"$f":"IF(E277<E278,\"грешка\",\"\")","v":""},""]
[null,"ш.266і  ш.267",null,{"$f":"IF(D279<D280,\"грешка\",\"\")","v":""},{"$f":"IF(E279<E280,\"грешка\",\"\")","v":""},""]

{"sheet":"5 II","index":1,"n_rows":34,"n_cols":9,"rows_kept":34,"cut":false,"hidden":false,"merged":[[5,1,5,5],[2,4,2,5],[10,1,11,1],[10,2,11,2],[10,3,10,5]]}
[{"$f":"'5 I'!A1","v":"05"},"Област:",{"$f":"'5 I'!C1","v":"05 Видин                "}]
[{"$f":"'5 I'!A2","v":""},"Лечебно заведение:",{"$f":"'5 I'!C2","v":0}]
[null,"Година:",{"$f":"'5 I'!C3","v":2023}]
[]
[]
[2,"Фактори, влияещи върху здравното състояние на населението и контакта със здравните служби на деца от 0 до 17 годишна възраст"]
[]
[null,"Раздел IІ"]
[]
[null,null,null,null,null,null,null,"ХОРИЗОНТАЛЕН КОНТРОЛ:"]
[null,"НАИМЕНОВАНИЕ НА БОЛЕСТИТЕ ПО МКБ–10","Ши-фър","Регистрирани случаи",null,null,null,"к.1і   к.2","к.1і   к.3"]
[null,null,null,"всичко","в т. ч. деца до 1 год.","Новооткрити заболявания - всичко"]
[null,"а","б",1,2,3]
[null,"ХXI. Фактори, влияещи върху здравното състояние на населението и контакта със здравните служби Z00-Z99","01",null,null,null,null,{"$f":"IF(D14<E14,\"грешка\",\"\")","v":""},{"$f":"IF(D14<F14,\"грешка\",\"\")","v":""}]
[null,"Лица, обърнали се към здравните служби за медицински преглед и изследване Z00-Z13","02",null,null,null,null,{"$f":"IF(D15<E15,\"грешка\",\"\")","v":""},{"$f":"IF(D15<F15,\"грешка\",\"\")","v":""}]
[null,"Общ преглед и изследване на лица, които нямат оплаквания или установена диагноза Z00","03",null,null,null,null,"",""]
[null,"Други специални прегледи и изследвания на лица, които нямат оплаквания или установена диагноза Z01","04",null,null,null,null,"",""]
[null,"Изследване и обръщане с административни цели Z02","05",null,null,null,null,"",""]
[null,"Лица, обърнали се към здравни служби във връзка с обстоятелства, отнасящи се до репродуктивната функция Z30-Z39","06",null,null,null,null,"",""]
[null,"Наблюдение върху прилагането на противозачатъчни средства Z30","07",null,null,null,null,"",""]
[null,"Наблюдение върху протичането на нормална бременност Z34","08",null,null,null,null,"",""]
[null,"Грижа за изкуствени отвори Z43","09",null,null,null,null,"",""]
[null,"Помощ, включваща използване на рехабилитационни процедури Z50","10",null,null,null,null,"",""]
[null,"Рехабилитация при болест на сърцето Z50.0","11",null,null,null,null,"",""]
[null,"Друг вид физиотерапия Z50.1","12",null,null,null,null,"",""]
[null,"Рехабилитация на лица, страдащи от алкохолизъм Z50.2","13",null,null,null,null,"",""]
[null,"Рехабилитация на лица, страдащи от наркомания Z50.3","14",null,null,null,null,"",""]
[null,"Жертва на престъпление и тероризъм Z65.4","15",null,null,null,null,"",""]
[]
["ВЕРТИКАЛЕН КОНТРОЛ:"]
[null,"ш.01і   ш.02+ш.06+ш.09+ш.10+ш.15",null,{"$f":"IF(D14<D15+D19+D22+D23+D28,\"грешка\",\"\")","v":""},{"$f":"IF(E14<E15+E19+E22+E23+E28,\"грешка\",\"\")","v":""},""]
[null,"ш.02і   ш.03+ш.04+ш.05",null,{"$f":"IF(D15<D16+D17+D18,\"грешка\",\"\")","v":""},{"$f":"IF(E15<E16+E17+E18,\"грешка\",\"\")","v":""},""]
[null,"ш.06і   ш.07 + ш.08",null,{"$f":"IF(D19<D20+D21,\"грешка\",\"\")","v":""},{"$f":"IF(E19<E20+E21,\"грешка\",\"\")","v":""},""]
[null,"ш.10і   ш.11 до ш.014",null,{"$f":"IF(D23<D24+D25+D26+D27,\"грешка\",\"\")","v":""},{"$f":"IF(E23<E24+E25+E26+E27,\"грешка\",\"\")","v":""},""]

{"sheet":"5 III","index":2,"n_rows":37,"n_cols":12,"rows_kept":37,"cut":false,"hidden":false,"merged":[[10,3,10,4],[10,1,11,1],[5,1,5,4],[2,4,2,5],[10,2,11,2]]}
[{"$f":"'5 I'!A1","v":"05"},"Област:",{"$f":"'5 I'!C1","v":"05 Видин                "}]
[{"$f":"'5 I'!A2","v":""},"Лечебно заведение:",{"$f":"'5 I'!C2","v":0}]
[null,"Година:",{"$f":"'5 I'!C3","v":2023}]
[]
[]
[3,"Външни причини за заболеваемост и смъртност на деца от 0 до 17 годишна възраст"]
[]
[null,"Раздел IІІ"]
[]
[null,null,null,null,null,null,"ХОРИЗОНТАЛЕН КОНТРОЛ:"]
[null,"НАИМЕНОВАНИЕ  ПО МКБ–10","Ши-фър","Регистрирани случаи",null,null,"к.1і   к.2"]
[null,null,null,"всичко","в т. ч. деца до 1 год."]
[null,"а","б",1,2]
[null,"ХХ. Външни причини за заболеваемост и смъртност V01–Y98","01",null,null,null,{"$f":"IF(D14<E14,\"грешка\",\"\")","v":""}]
[null,"Злополуки V01–X59","02",null,null,null,{"$f":"IF(D15<E15,\"грешка\",\"\")","v":""}]
[null,"Транспортни злополуки V01–V99","03",null,null,null,""]
[null,"Пешеходец или велосипедист, пострадал при транспортна злополука V01–V19 ","04",null,null,null,""]
[null,"Мотоциклетист; лице, намиращо се в: моторно превозно средство на три колела; лек автомобил; тежкотоварен автомобил; автобус и пострадало при транспортна злополука; злополуки, свързани с други наземни транспортни средства; при воден транспорт; при въздушен транспорт и космически полети, и други V20–V99","05",null,null,null,""]
[null,"Други външни причини за травми при злополуки W00–X59","06",null,null,null,""]
[null,"Падания W00–W19","07",null,null,null,""]
[null,"Въздействие на неживи или живи механични сили W20–W64","08",null,null,null,""]
[null,"Случайно удавяне и потъване във вода и други злополуки със заплаха за дишането W65–W84","09",null,null,null,""]
[null,"Злополуки, предизвикани от въздействие на електрически ток, облъчване и екстремни стойности на температурата на околната среда или атмосферното налягане W85–W99","10",null,null,null,""]
[null,"Въздействие на дим, огън и пламък и съприкосновение с горещи и нажежени вещества (предмети) X00–X19","11",null,null,null,""]
[null,"Контакт с отровни животни и растения X20–X29","12",null,null,null,""]
[null,"Случайно отравяне и въздействие на отровни вещества X40–X49","13",null,null,null,""]
[null,"Умишлено самонараняване X60–X84","14",null,null,null,""]
[null,"Нападение X85–Y09","15",null,null,null,""]
[null,"Законни действия и военни операции Y35–Y36","16",null,null,null,""]
[]
["ВЕРТИКАЛЕН КОНТРОЛ:"]
[null,"ш.01,к.1 ≥ ш.234,к.1, Раздел I  ",null,{"$f":"IF(D14<'5 I'!D247,\"грешка\",\"\")","v":""}]
[null,"ш.01,к.2 ≥ ш.234,к.2, Раздел I",null,null,{"$f":"IF(E14<'5 I'!E247,\"грешка\",\"\")","v":""}]
[null,"ш.01і   ш.02 + ш.14+ ш.15+ ш.16",null,{"$f":"IF(D14<D15+D27+D28+D29,\"грешка\",\"\")","v":""},{"$f":"IF(E14<E15+E27+E28+E29,\"грешка\",\"\")","v":""},null,null,{"$f":"IF(H13<H14+H26+H27+H28,\"грешка\",\"\")","v":""},"","","",""]
[null,"ш.02=   на сумата от ш.03 и ш.06",null,{"$f":"IF(D15=D16+D19,\"\",\"грешка\")","v":""},{"$f":"IF(E15=E16+E19,\"\",\"грешка\")","v":""},null,null,{"$f":"IF(H14=H15+H18,\"\",\"грешка\")","v":""},"","","",""]
[null,"ш.03=   на сумата от ш.04 и ш.05",null,{"$f":"IF(D16=D17+D18,\"\",\"грешка\")","v":""},{"$f":"IF(E16=E17+E18,\"\",\"грешка\")","v":""},null,null,{"$f":"IF(H15=H16+H17,\"\",\"грешка\")","v":""},"","","",""]
[null,"ш.06і   на сумата от ш.07 до ш.13",null,{"$f":"IF(D19<D20+D21+D22+D23+D24+D25+D26,\"грешка\",\"\")","v":""},{"$f":"IF(E19<E20+E21+E22+E23+E24+E25+E26,\"грешка\",\"\")","v":""},null,null,{"$f":"IF(H18<H19+H20+H21+H22+H23+H24+H25,\"грешка\",\"\")","v":""},"","","",""]

{"sheet":"6 I","index":3,"n_rows":350,"n_cols":7,"rows_kept":350,"cut":false,"hidden":false,"merged":[[10,1,11,1],[10,2,11,2],[10,3,10,4],[5,1,5,4],[0,8,0,10],[1,8,1,10]]}
[{"$f":"'5 I'!A1","v":"05"},"Област:",{"$f":"'5 I'!C1","v":"05 Видин                "}]
[{"$f":"'5 I'!A2","v":""},"Лечебно заведение:",{"$f":"'5 I'!C2","v":0}]
[null,"Година:",{"$f":"'5 I'!C3","v":2023}]
[]
[]
[4,"Регистрирани заболявания в амбулаториите на лечебните заведения по вид на заболяването на лица на възраст над 18 години"]
[]
[null,"Раздел I"]
[]
[null,null,null,null,null,null,"ХОРИЗОНТАЛЕН КОНТРОЛ:"]
[null,"НАИМЕНОВАНИЕ НА БОЛЕСТИТЕ ПО МКБ–10","Ши-фър","Регистрирани заболявания",null,null,"к.1і   к.2"]
[null,null,null,"всичко","в т.ч. новооткрити "]
[null,"а","б",1,2]
[null,"ОБЩО I-XIX и ХХІІ клас","001",null,null,null,{"$f":"IF(D14<E14,\"грешка\",\"\")","v":""}]
[null,"I. Някои инфекциозни и паразитни болести A00-B99","002",null,null,null,{"$f":"IF(D15<E15,\"грешка\",\"\")","v":""}]
[null,"Чревни инфекции А00-А09","003",null,null,null,""]
[null,"Други салмонелозни инфекции А02","004",null,null,null,""]
[null,"Шигелоза А03","005",null,null,null,""]
[null,"Туберкулоза А15-А19","006",null,null,null,""]
[null,"Сифилис А50-А53","007",null,null,null,""]
[null,"Вирусен хепатит В15-В19","008",null,null,null,""]
[null,"Аскаридоза В77","009",null,null,null,""]
[null,"Ентеробиоза В80","010",null,null,null,""]
[null,"II. Новообразувания C00-D48","011",null,null,null,""]
[null,"Злокачествени новообразувания C00-C97","012",null,null,null,""]
[null,"Доброкачествени новообразувания D10-D36","013",null,null,null,""]
[null,"III. Болести на кръвта, кръвотворните органи и отделни нарушения, включващи имунния механизъм D50–D89 ","014",null,null,null,""]
[null,"Анемии, свързани с храненето D50-D53","015",null,null,null,""]
[null,"Желязонедоимъчна анемия D50","016",null,null,null,""]
[null,"Хемолитични анемии D55-D59","017",null,null,null,""]
[null,"Апластични и други анемии D60-D64","018",null,null,null,""]
[null,"Остра постхеморагична анемия D62","019",null,null,null,""]
[null,"Нарушения на съсирването на кръвта, пурпура и други хеморагични състояния D65–D69","020",null,null,null,""]
[null,"Други болести на кръвта и кръвотворните органи D70–D77","021",null,null,null,""]
[null,"IV. Болести на ендокринната система, разстройства на храненето и на обмяната на веществата E00–E90","022",null,null,null,""]
[null,"Болести на щитовидната жлеза, свързани с йоден недоимък E00–E02 ","023",null,null,null,""]
[null,"Други видове хипотиреоидизъм E03 ","024",null,null,null,""]
[null,"Други видове нетоксична гуша E04 ","025",null,null,null,""]
[null,"Тиреотоксикоза [хипертиреоидизъм] E05 ","026",null,null,null,""]
[null,"Захарен диабет Е10-Е14","027",null,null,null,""]
[null,"Инсулинозависим захарен диабет Е10","028",null,null,null,""]
[null,"Неинсулинозависим захарен диабет Е11","029",null,null,null,""]
[null,"Хиперфункция на хипофизата Е22","030",null,null,null,""]
[null,"Хипофункция и други разстройства на хипофизата E23 ","031",null,null,null,""]
[null,"Разстройства на надбъбречните жлези E25–E27","032",null,null,null,""]
[null,"Недоимъчно хранене Е40-Е64","033",null,null,null,""]
[null,"Затлъстяване Е66","034",null,null,null,""]
[null,"V. Психични и поведенчески разстройства F00–F99","035",null,null,null,""]
[null,"Деменция F00-F03","036",null,null,null,""]
[null,"Делир, непредизвикан от алкохол и други психоактивни вещества F05","037",null,null,null,""]
[null,"Други разстройства, дължащи се на мозъчно заболяване F06,F07,F09","038",null,null,null,""]
[null,"Психични и поведенчески разстройства, дължащи се на употреба на алкохол F10","039",null,null,null,""]
[null,"Психични и поведенчески разстройства, дължащи се на употреба на други психоактивни вещества F11–F19","040",null,null,null,""]
[null,"Шизофрения, шизотипни и налудни разстройства F20–F29 ","041",null,null,null,""]
[null,"Шизофрения F20","042",null,null,null,""]
[null,"Остри и преходни психотични разстройства F23","043",null,null,null,""]
[null,"Разстройства на настроението [афективни разстройства] F30–F39 ","044",null,null,null,""]
[null,"Маниен епизод F30","045",null,null,null,""]
[null,"Биполярно афективно разстройство F31 ","046",null,null,null,""]
[null,"Депресивен епизод. Рецидивиращо депресивно разстройство F32, F33","047",null,null,null,""]
[null,"Невротични, свързани със стрес и соматоформни разстройства F40–F48 ","048",null,null,null,""]
[null,"Разстройства на храненето, съня и сексуалността F50,F51,F52","049",null,null,null,""]
[null,"Разстройства на личността и поведението в зряла възраст F60–F69 ","050",null,null,null,""]
[null,"Умствена изостаналост F70-F79","051",null,null,null,""]
[null,"Специфични разстройства в развитието F80-F83","052",null,null,null,""]
[null,"Генерализирани разстройства в развитието F84","053",null,null,null,""]
[null,"Хиперкинетични разстройства F90","054",null,null,null,""]
[null,"Други разстройства в поведението и емоциите F91–F95 ","055",null,null,null,""]
[null,"Неорганична енуреза F98.0","056",null,null,null,""]
[null,"VI. Болести на нервната система G00-G99","057",null,null,null,""]
[null,"Менингити G00-G03","058",null,null,null,""]
[null,"Енцефалит, миелит и енцефаломиелит G04","059",null,null,null,""]
[null,"Болест на Паркинсон G20","060",null,null,null,""]
[null,"Болест на Алцхаймер G30","061",null,null,null,""]
[null,"Множествена склероза G35","062",null,null,null,""]
[null,"Епилепсия, епилептичен статус G40, G41","063",null,null,null,""]
[null,"Мигрена G43 ","064",null,null,null,""]
[null,"Преходни церебрални исхемични пристъпи [атаки] и сродни синдроми G45","065",null,null,null,""]
[null,"Увреждания на троичния нерв G50","066",null,null,null,{"$f":"IF(D79<E79,\"грешка\",\"\")","v":""}]
[null,"Увреждания на лицевия нерв G51 ","067",null,null,null,""]
[null,"Увреждания на нервни коренчета и плексуси, мононевропатии на горен крайник G54, G56","068",null,null,null,""]
[null,"Мононевропатии на долен крайник G57","069",null,null,null,""]
[null,"Полиневропатии и други увреждания на периферната нервна система G60–G64","070",null,null,null,""]
[null,"Детска церебрална парализа и други паралитични синдроми G80–G83 ","071",null,null,null,""]
[null,"Разстройства на вегетативната нервна система G90","072",null,null,null,""]
[null,"VII. Болести на окото и придатъците му H00–H59 ","073",null,null,null,""]
[null,"Болести на клепача, слъзните пътища и орбитата H00-H06","074",null,null,null,""]
[null,"Хордеолум и халацион H00","075",null,null,null,""]
[null,"Болести на конюнктивата H10-H13","076",null,null,null,""]
[null,"Болести на склерата, роговицата, ириса и цилиарното тяло H15–H22 ","077",null,null,null,""]
[null,"Кератит Н16","078",null,null,null,""]
[null,"Иридоциклит Н20","079",null,null,null,""]
[null,"Катаракта H25, H26","080",null,null,null,""]
[null,"Отлепване и разкъсване на ретината H33","081",null,null,null,""]
[null,"Глаукома H40-H42","082",null,null,null,""]
[null,"Болести на стъкловидното тяло и очната ябълка H43–H45 ","083",null,null,null,""]
[null,"Болести на зрителния нерв и зрителните пътища H46–H48 ","084",null,null,null,""]
[null,"Страбизъм H49, H50","085",null,null,null,""]
[null,"Слепота и намалено зрение H54","086",null,null,null,""]
[null,"VIII. Болести на ухото и мастоидния израстък H60–H95 ","087",null,null,null,""]
[null,"Болести на средното ухо и мастоидния израстък H65– H75 ","088",null,null,null,""]
[null,"Негнойно възпаление на средното ухо H65","089",null,null,null,""]
[null,"Гнойно и неуточнено възпаление на средното ухо H66","090",null,null,null,""]
[null,"Холестеатом на средното ухо H71","091",null,null,null,""]
[null,"Перфорация на тъпанчето H72","092",null,null,null,""]
[null,"Болести на вътрешното ухо H80-H83","093",null,null,null,""]
[null,"Отосклероза H80 ","094",null,null,null,""]
[null,"Глухота  H90, H91","095",null,null,null,""]
[null,"Други болести на ухото, некласифицирани другаде H93","096",null,null,null,""]
[null,"IХ. Болести на органите на кръвообращението I00–I99 ","097",null,null,null,""]
[null,"Остър ревматизъм I00-I02","098",null,null,null,""]
[null,"Хронични ревматични болести на сърцето I05–I09","099",null,null,null,""]
[null,"Хипертонични болести I10-I15","100",null,null,null,""]
[null,"Есенциална [първична] хипертония I10","101",null,null,null,""]
[null,"Исхемична болест на сърцето I20-I25","102",null,null,null,""]
[null,"Стенокардия I20","103",null,null,null,""]
[null,"Остър инфаркт на миокарда I21, I22","104",null,null,null,""]
[null,"Белодробен емболизъм I26","105",null,null,null,""]
[null,"Проводни нарушения и аритмии I44-I49","106",null,null,null,""]
[null,"Пароксизмална тахикардия I47","107",null,null,null,""]
[null,"Предсърдно мъждене и трептене I48","108",null,null,null,""]
[null,"Сърдечна недостатъчност I50","109",null,null,null,""]
[null,"Мозъчносъдови болести I60-I69","110",null,null,null,""]
[null,"Субарахноидален кръвоизлив I60","111",null,null,null,""]
[null,"Вътремозъчен и друг нетравматичен вътремозъчен кръвоизлив I61, I62 ","112",null,null,null,""]
[null,"Мозъчен инфаркт I63","113",null,null,null,""]
[null,"Инсулт, неуточнен като кръвоизлив или инфаркт I64 ","114",null,null,null,""]
[null,"Оклузия и стеноза на прецеребрални и церебрални артерии, които не са предизвикали мозъчен инфаркт I65, I66","115",null,null,null,""]
[null,"Флебит, тромбофлебит, емболия и тромбоза на вени I80–I82 ","116",null,null,null,""]
[null,"Варикозни вени на долните крайници I83","117",null,null,null,""]
[null,"Хемороиди I84","118",null,null,null,""]
[null,"Х. Болести на дихателната система J00-J99","119",null,null,null,""]
[null,"Остри инфекции на горните дихателни пътища J00–J06 ","120",null,null,null,""]
[null,"Грип J10, J11 ","121",null,null,null,""]
[null,"Вирусна пневмония, некласифицирана другаде J12 ","122",null,null,null,""]
[null,"Бактериални пневмонии J13–J18 ","123",null,null,null,""]
[null,"Остър бронхит и бронхиолит J20, J21 ","124",null,null,null,""]
[null,"Други болести на горните дихателни пътища J30–J39 ","125",null,null,null,""]
[null,"Вазомоторен и алергичен ринит J30 ","126",null,null,null,""]
[null,"Хроничен ринит, назофарингит, фарингит и синуит J31, J32 ","127",null,null,null,""]
[null,"Хронични болести на тонзилите и аденоидите J35","128",null,null,null,""]
[null,"Хроничен бронхит J41, J42","129",null,null,null,""]
[null,"Емфизем J43","130",null,null,null,{"$f":"IF(D143<E143,\"грешка\",\"\")","v":""}]
[null,"Друга хронична обструктивна белодробна болест J44 ","131",null,null,null,""]
[null,"Астма J45, J46","132",null,null,null,""]
[null,"Бронхиектатична болест J47","133",null,null,null,""]
[null,"Болести на белия дроб, причинени от външни агенти J60–J70 ","134",null,null,null,""]
[null,"Други интерстициални белодробни болести J84 ","135",null,null,null,""]
[null,"Други болести на плеврата J90-J94","136",null,null,null,""]
[null,"ХI. Болести на храносмилателната система K00–K93 ","137",null,null,null,""]
[null,"Язва на стомаха и дванадесетопръстника K25–K27 ","138",null,null,null,""]
[null,"Гастрит и дуоденит K29","139",null,null,null,""]
[null,"Болести на апендикса K35-K38","140",null,null,null,""]
[null,"Хернии  K40-K46","141",null,null,null,""]
[null,"Ингвинална херния K40","142",null,null,null,""]
[null,"Болест на Crohn и улцерозен колит K50,K51","143",null,null,null,""]
[null,"Паралитичен илеус и непроходимост на червата без херния K56 ","144",null,null,null,""]
[null,"Фисура и фистула на ануса и ректума K60","145",null,null,null,""]
[null,"Перитонит K65","146",null,null,null,""]
[null,"Болести на черния дроб K70-K77","147",null,null,null,""]
[null,"Алкохолна болест на черния дроб K70","148",null,null,null,""]
[null,"Фиброза и цироза на черния дроб K74","149",null,null,null,""]
[null,"Холелитиаза и холецистит K80, K81","150",null,null,null,""]
[null,"ХII. Болести на кожата и подкожната тъкан L00–L99","151",null,null,null,""]
[null,"Инфекции на кожата и подкожната тъкан L00–L08 ","152",null,null,null,""]
[null,"Дерматит и екзема L20-L30","153",null,null,null,""]
[null,"Алергичен контактен дерматит L23","154",null,null,null,""]
[null,"Псориазис L40","155",null,null,null,""]
[null,"Уртикария и еритем L50-L54","156",null,null,null,""]
[null,"Уртикария L50","157",null,null,null,""]
[null,"ХIII. Болести на костно-мускулната система и на съединителната тъкан M00–M99 ","158",null,null,null,""]
[null,"Инфекциозни артропатии M00-M03","159",null,null,null,""]
[null,"Пиогенен артрит M00","160",null,null,null,""]
[null,"Възпалителни полиартропатии M05-M14","161",null,null,null,""]
[null,"Серопозитивен ревматоиден артрит M05","162",null,null,null,""]
[null,"Юношески [ювенилен] артрит M08","163",null,null,null,""]
[null,"Артрози M15-M19","164",null,null,null,""]
[null,"Коксартроза [артроза на тазобедрената става] M16 ","165",null,null,null,""]
[null,"Гонартроза [артроза на колянната става] M17 ","166",null,null,null,""]
[null,"Системни увреждания на съединителната тъкан M30–M36 ","167",null,null,null,""]
[null,"Дорзопатии M40-M54","168",null,null,null,""]
[null,"Сколиоза M41","169",null,null,null,""]
[null,"Болести на меките тъкани M60-M79","170",null,null,null,""]
[null,"Нарушения в плътността и структурата на костта M80–M85 ","171",null,null,null,""]
[null,"Други остеопатии M86-M90","172",null,null,null,""]
[null,"Остеомиелит M86","173",null,null,null,""]
[null,"Остеонекроза M87","174",null,null,null,""]
[null,"Юношеска остеохондроза M91, М92","175",null,null,null,""]
[null,"ХIV. Болести на пикочо-половата система N00–N99 ","176",null,null,null,""]
[null,"Болести на пикочната система N00-N39","177",null,null,null,""]
[null,"Гломерулни болести N00-N08","178",null,null,null,""]
[null,"Остър нефритен синдром N00","179",null,null,null,""]
[null,"Тубулоинтерстициални болести на бъбреците N10–N16 ","180",null,null,null,""]
[null,"Тубулоинтерстициален нефрит N10-N12","181",null,null,null,""]
[null,"Остър тубулоинтерстициален нефрит N10","182",null,null,null,""]
[null,"Хроничен тубулоинтерстициален нефрит N11 ","183",null,null,null,""]
[null,"Обструктивна и рефлуксна нефропатия N13","184",null,null,null,""]
[null,"Остра бъбречна недостатъчност N17","185",null,null,null,""]
[null,"Хронична бъбречна недостатъчност N18, N19","186",null,null,null,""]
[null,"Бъбречно-каменна болест N20-N23","187",null,null,null,""]
[null,"Цистит N30","188",null,null,null,""]
[null,"Уретрит и уретрален синдром N34","189",null,null,null,""]
[null,"Хиперплазия на простатата N40","190",null,null,null,""]
[null,"Хидроцеле и сперматоцеле N43","191",null,null,null,""]
[null,"Болести на млечните жлези N60-N64","192",null,null,null,""]
[null,"Салпингит и оофорит N70","193",null,null,null,""]
[null,"Възпалителна болест на шийката на матката N72","194",null,null,null,{"$f":"IF(D207<E207,\"грешка\",\"\")","v":""}]
[null,"Пролапс на женските полови органи N81 ","195",null,null,null,""]
[null,"Невъзпалителни болести на шийката на матката N86–N88 ","196",null,null,null,""]
[null,"ХV. Бременност, раждане и послеродов период O00–O99 ","197",null,null,null,""]
[null,"Бременност, завършваща с аборт O00-O08","198",null,null,null,""]
[null,"Усложнения след аборт, извънматочна и гроздовидна бременност O08","199",null,null,null,""]
[null,"Отоци, протеинурия и хипертонични усложнения по време на бременността, раждането и послеродовия период O10–O16","200",null,null,null,""]
[null,"Еклампсия O15","201",null,null,null,""]
[null,"Други болести на майката, свързани предимно с бременността O20–O29 ","202",null,null,null,""]
[null,"Ексцесивно повръщане по време на бременността O21 ","203",null,null,null,""]
[null,"Медицински грижи за майката, свързани със състоянието на плода и околоплодния мехур и възможни усложнения в хода на родоразрешаването O30–O48","204",null,null,null,""]
[null,"Предлежаща плацента, преждевременно отлепване на плацентата и кръвотечение преди раждането O44–O46","205",null,null,null,""]
[null,"Усложнения, свързани предимно с послеродовия период O85–O92","206",null,null,null,""]
[null,"ХVI. Някои състояния, възникващи през перинаталния период P00–P96 ","207",null,null,null,""]
[null,"Увреждания на плода и новороденото от патологични състояния на майката, усложнения на бременността, раждането и родоразрешаването P00–P04","208",null,null,null,""]
[null,"Забавен фетален растеж, хипотрофия на плода и разстройства, свързани със скъсяване срока на бременността и ниско тегло при раждане P05–P07 ","209",null,null,null,""]
[null,"Родова травма P10-P15","210",null,null,null,""]
[null,"Вътреутробна хипоксия и асфиксия по време на раждането P20, P21 ","211",null,null,null,""]
[null,"Други респираторни състояния, възникващи в перинаталния период P22–P28 ","212",null,null,null,""]
[null,"Неонатални аспирационни синдроми P24","213",null,null,null,""]
[null,"Инфекциозни болести, характерни за перинаталния период P35–P39 ","214",null,null,null,""]
[null,"Хеморагични нарушения у плода и новороденото P50–P54","215",null,null,null,""]
[null,"Хемолитична болест на плода и новороденото P55 ","216",null,null,null,""]
[null,"ХVII. Вродени аномалии [пороци на развитието], деформации и хромозомни аберации Q00–Q99 ","217",null,null,null,""]
[null,"Вродена хидроцефалия и Spina bifida Q03, Q05 ","218",null,null,null,""]
[null,"Други вродени аномалии [пороци на развитието]  на нервната система Q00-Q02, Q04, Q06, Q07","219",null,null,null,""]
[null,"Вродени аномалии [пороци на развитието] на системата на кръвообращението Q20–Q28","220",null,null,null,""]
[null,"Цепка на устната и небцето  [заешка устна и вълча уста] Q35-Q37","221",null,null,null,""]
[null,"Вродена липса, атрезия и стеноза на тънко черво Q41 ","222",null,null,null,""]
[null,"Недесцендирал тестис Q53","223",null,null,null,""]
[null,"Вродени аномалии [пороци на развитието] и деформации на костно-мускулната система Q65–Q79 ","224",null,null,null,""]
[null,"Вродени деформации на бедрото Q65","225",null,null,null,""]
[null,"Вродени деформации на стъпалото Q66","226",null,null,null,""]
[null,"Синдром на Down Q90","227",null,null,null,""]
[null,"ХVIII. Симптоми, признаци и отклонения от нормата, открити при клинични и лабораторни изследвания, некласифицирани другаде R00–R99","228",null,null,null,""]
[null,"Болки в областта на корема и таза R10","229",null,null,null,""]
[null,"Гадене и повръщане R11","230",null,null,null,""]
[null,"Главоболие R51","231",null,null,null,""]
[null,"Припадък [синкоп] и колапс R55","232",null,null,null,""]
[null,"Отклонения от нормата, открити при получаване на диагностични изображения и провеждане на изследвания, при липса на установена диагноза R90–R94 ","233",null,null,null,""]
[null,"ХIX. Травми, отравяния и някои други последици от въздействието на външни причини S00–T98","234",null,null,null,""]
[null,"Травми на главата и шията S00-S19","235",null,null,null,""]
[null,"От тях: счупвания S02, S12","236",null,null,null,""]
[null,"Мозъчно сътресение S06.0","237",null,null,null,""]
[null,"Травми на гръдния кош, корема, поясния отдел на гръбначния стълб и таза S20–S39 ","238",null,null,null,""]
[null,"От тях: счупвания S22, S32","239",null,null,null,""]
[null,"Травми на раменен пояс и горен крайник S40–S69 ","240",null,null,null,""]
[null,"От тях: счупвания S42,S52,S62","241",null,null,null,""]
[null,"Травми на тазобедрената става и долен крайник S70–S99 ","242",null,null,null,""]
[null,"От тях: счупвания S72,S82,S92","243",null,null,null,""]
[null,"Травми, обхващащи няколко области от тялото Т00–Т07 ","244",null,null,null,""]
[null,"Последици от проникване на чуждо тяло през естествени отвори Т15–Т19","245",null,null,null,""]
[null,"Термични и химични изгаряния Т20–Т32","246",null,null,null,""]
[null,"Измръзване Т33–Т35","247",null,null,null,""]
[null,"Отравяния и токсични въздействия Т36–Т65","248",null,null,null,""]
[null,"Токсично въздействие на разяждащи вещества Т54 ","249",null,null,null,""]
[null,"Токсично въздействие на други отровни вещества, съдържащи се в изядени хранителни продукти Т62","250",null,null,null,""]
[null,"Топлинен и слънчев удар Т67.0","251",null,null,null,""]
[null,"Синдром на малтретиране Т74","252",null,null,null,""]
[null,"ХXІІ. Кодове за специални цели U00–U85","253",null,null,null,""]
[null,"Нови заболявания с несигурна етиология или спешна употреба - временни кодове U00-U49","254",null,null,null,""]
[null,"Кодове за спешна употреба U07","255",null,null,null,""]
[null,"COVID-19, идентифициран вирус U07.1","256",null,null,null,""]
[null,"COVID-19, неидентифициран вирус U07.2","257",null,null,null,""]
[null,"В лична анамнеза има COVID-19 U08","258",null,null,null,""]
[null,"В лична анамнеза има COVID-19, неуточнен U08.9","259",null,null,null,{"$f":"IF(D272<E272,\"грешка\",\"\")","v":""}]
[null,"Състояние след прекаран COVID-19 U09","260",null,null,null,""]
[null,"Състояние след прекаран COVID-19, неуточнен U09.9","261",null,null,null,""]
[null,"Мултисистемен възпалителен синдром, свързан с COVID-19 U10","262",null,null,null,""]
[null,"Мултисистемен възпалителен синдром, свързан с  COVID-19, неуточнен U10.9","263",null,null,null,""]
[null,"Необходимост от имунизация срещу COVID-19 U11","264",null,null,null,""]
[null,"Необходимост от имунизация срещу COVID-19, неуточнен U11.9","265",null,null,null,""]
[null,"Неблагоприятни реакции при терапевтично прилагане на ваксини за COVID-19 U12","266",null,null,null,""]
[null,"Неблагоприятни реакции при терапевтично прилагане на ваксини заCOVID-19, неуточнен U12.9","267",null,null,null,""]
[]
[]
["ВЕРТИКАЛЕН КОНТРОЛ:"]
[null,"ш.001= ш.002+ш.011+ш.014+ш.022+ш.035+ш.057+ш.073+ш.087+ ш.097+ш.119+ш.137+ш.151+ш.158+ш.176+ш.197+ш.217+ш.228+ш.234+ш.253",null,{"$f":"IF(D14=D15+D24+D27+D35+D48+D70+D86+D100+D110+D132+D150+D164+D171+D189+D210+D220+D230+D241+D247+D266,\"\",\"грешка\")","v":""},{"$f":"IF(E14=E15+E24+E27+E35+E48+E70+E86+E100+E110+E132+E150+E164+E171+E189+E210+E220+E230+E241+E247+E266,\"\",\"грешка\")","v":""}]
[null,"ш.002і   ш.003+ ш.006 до ш.008",null,{"$f":"IF(D15<D16+D19+D20+D21+D22+D23,\"грешка\",\"\")","v":""},{"$f":"IF(E15<E16+E19+E20+E21+E22+E23,\"грешка\",\"\")","v":""}]
[null,"ш.003і   ш.004 + ш.005",null,{"$f":"IF(D16<D17+D18,\"грешка\",\"\")","v":""},{"$f":"IF(E16<E17+E18,\"грешка\",\"\")","v":""}]
[null,"ш.011і   ш.012 + ш.013",null,{"$f":"IF(D24<D25+D26,\"грешка\",\"\")","v":""},{"$f":"IF(E24<E25+E26,\"грешка\",\"\")","v":""}]
[null,"ш.014і   ш.015+ш.017+ ш.018+ш.020+ ш.021",null,{"$f":"IF(D27<D28+D30+D31+D33+D34,\"грешка\",\"\")","v":""},{"$f":"IF(E27<E28+E30+E31+E33+E34,\"грешка\",\"\")","v":""}]
[null,"ш.015і   ш.016",null,{"$f":"IF(D28<D29,\"грешка\",\"\")","v":""},{"$f":"IF(E28<E29,\"грешка\",\"\")","v":""}]
[null,"ш.018і   ш.019",null,{"$f":"IF(D31<D32,\"грешка\",\"\")","v":""},{"$f":"IF(E31<E32,\"грешка\",\"\")","v":""}]
[null,"ш.022і   сумата от ш.023 до ш.027 + ш.030 до ш.034",null,{"$f":"IF(D35<D36+D37+D38+D39+D40+D43+D44+D45+D46+D47,\"грешка\",\"\")","v":""},{"$f":"IF(E35<E36+E37+E38+E39+E40+E43+E44+E45+E46+E47,\"грешка\",\"\")","v":""}]
[null,"ш.027і   ш.028 + ш.029",null,{"$f":"IF(D40<D41+D42,\"грешка\",\"\")","v":""},{"$f":"IF(E40<E41+E42,\"грешка\",\"\")","v":""}]
[null,"ш.035і   сумата от ш.036 до ш.041 + ш.044 + ш.048 до ш.051",null,{"$f":"IF(D48<D49+D50+D51+D52+D53+D54+D57+D61+D62+D63+D64+D65+D66+D67+D68+D69,\"грешка\",\"\")","v":""},{"$f":"IF(E48<E49+E50+E51+E52+E53+E54+E57+E61+E62+E63+E64+E65+E66+E67+E68+E69,\"грешка\",\"\")","v":""}]
[null,"ш.041і   ш.042+ш.043",null,{"$f":"IF(D54<D55+D56,\"грешка\",\"\")","v":""},{"$f":"IF(E54<E55+E56,\"грешка\",\"\")","v":""}]
[null,"ш.044і   ш.045+ш.046+ш.047",null,{"$f":"IF(D57<D58+D59+D60,\"грешка\",\"\")","v":""},{"$f":"IF(E57<E58+E59+E60,\"грешка\",\"\")","v":""}]
[null,"ш.057і   сумата от ш.058 до ш.072",null,{"$f":"IF(D70<D71+D72+D73+D74+D75+D76+D77+D78+D79+D80+D81+D82+D83+D84+D85,\"грешка\",\"\")","v":""},{"$f":"IF(E70<E71+E72+E73+E74+E75+E76+E77+E78+E79+E80+E81+E82+E83+E84+E85,\"грешка\",\"\")","v":""}]
[null,"ш.073і   ш.074+ш.076+ш.077+ш.080 до ш.086",null,{"$f":"IF(D86<D87+D89+D90+D93+D94+D95+D96+D97+D98+D99,\"грешка\",\"\")","v":""},{"$f":"IF(E86<E87+E89+E90+E93+E94+E95+E96+E97+E98+E99,\"грешка\",\"\")","v":""}]
[null,"ш.074і   ш.075",null,{"$f":"IF(D87<D88,\"грешка\",\"\")","v":""},{"$f":"IF(E87<E88,\"грешка\",\"\")","v":""}]
[null,"ш.077і   ш.078+ш.079",null,{"$f":"IF(D90<D91+D92,\"грешка\",\"\")","v":""},{"$f":"IF(E90<E91+E92,\"грешка\",\"\")","v":""}]
[null,"ш.087і   ш.088+ш.093+ш.095+ш.096",null,{"$f":"IF(D100<D101+D106+D108+D109,\"грешка\",\"\")","v":""},{"$f":"IF(E100<E101+E106+E108+E109,\"грешка\",\"\")","v":""}]
[null,"ш.088і   ш.089+ш.090+ш.091+ш.092",null,{"$f":"IF(D101<D102+D103+D104+D105,\"грешка\",\"\")","v":""},{"$f":"IF(E101<E102+E103+E104+E105,\"грешка\",\"\")","v":""}]
[null,"ш.093і   ш.094",null,{"$f":"IF(D106<D107,\"грешка\",\"\")","v":""},{"$f":"IF(E106<E107,\"грешка\",\"\")","v":""}]
[null,"ш.097і   ш.098+ш.099+ш.100+ш.102+ш.105+ш.106+ш.109+ш.110+ш.116+ ш.117+ш.118",null,{"$f":"IF(D110<D111+D112+D113+D115+D118+D119+D122+D123+D129+D130+D131,\"грешка\",\"\")","v":""},{"$f":"IF(E110<E111+E112+E113+E115+E118+E119+E122+E123+E129+E130+E131,\"грешка\",\"\")","v":""}]
[null,"ш.100і   ш.101",null,{"$f":"IF(D113<D114,\"грешка\",\"\")","v":""},{"$f":"IF(E113<E114,\"грешка\",\"\")","v":""}]
[null,"ш.102і   ш.103+ш.104",null,{"$f":"IF(D115<D116+D117,\"грешка\",\"\")","v":""},{"$f":"IF(E115<E116+E117,\"грешка\",\"\")","v":""}]
[null,"ш.106і   ш.107 + ш.108",null,{"$f":"IF(D119<D120+D121,\"грешка\",\"\")","v":""},{"$f":"IF(E119<E120+E121,\"грешка\",\"\")","v":""}]
[null,"ш.110і   ш.111 до ш.115",null,{"$f":"IF(D123<D124+D125+D126+D127+D128,\"грешка\",\"\")","v":""},{"$f":"IF(E123<E124+E125+E126+E127+E128,\"грешка\",\"\")","v":""}]
[null,"ш.119і   сумата от ш.120 до ш.125 + ш.129 до ш.136",null,{"$f":"IF(D132<D133+D134+D135+D136+D137+D138+D142+D143+D144+D145+D146+D147+D148+D149,\"грешка\",\"\")","v":""},{"$f":"IF(E132<E133+E134+E135+E136+E137+E138+E142+E143+E144+E145+E146+E147+E148+E149,\"грешка\",\"\")","v":""}]
[null,"ш.125і   сумата от ш.126 до ш.128",null,{"$f":"IF(D138<D139+D140+D141,\"грешка\",\"\")","v":""},{"$f":"IF(E138<E139+E140+E141,\"грешка\",\"\")","v":""}]
[null,"ш.137і   сумата от ш.138 до ш.141 + ш.143 до ш.147+ш.150",null,{"$f":"IF(D150<D151+D152+D153+D154+D156+D157+D158+D159+D160+D163,\"грешка\",\"\")","v":""},{"$f":"IF(E150<E151+E152+E153+E154+E156+E157+E158+E159+E160+E163,\"грешка\",\"\")","v":""}]
[null,"ш.141і   ш.142",null,{"$f":"IF(D154<D155,\"грешка\",\"\")","v":""},{"$f":"IF(E154<E155,\"грешка\",\"\")","v":""}]
[null,"ш.147і   ш.148+ш.149",null,{"$f":"IF(D160<D161+D162,\"грешка\",\"\")","v":""},{"$f":"IF(E160<E161+E162,\"грешка\",\"\")","v":""}]
[null,"ш.151і   ш.152+ш.153+ш.155+ш.156",null,{"$f":"IF(D164<D165+D166+D168+D169,\"грешка\",\"\")","v":""},{"$f":"IF(E164<E165+E166+E168+E169,\"грешка\",\"\")","v":""}]
[null,"ш.153і   ш.154",null,{"$f":"IF(D166<D167,\"грешка\",\"\")","v":""},{"$f":"IF(E166<E167,\"грешка\",\"\")","v":""}]
[null,"ш.156і   ш.157",null,{"$f":"IF(D169<D170,\"грешка\",\"\")","v":""},{"$f":"IF(E169<E170,\"грешка\",\"\")","v":""}]
[null,"ш.158і   ш.159+ш.161+ш.164+ш.167+ш.168+ш.170+ш.171+ш.172",null,{"$f":"IF(D171<D172+D174+D177+D180+D181+D183+D184+D185+D188,\"грешка\",\"\")","v":""},{"$f":"IF(E171<E172+E174+E177+E180+E181+E183+E184+E185+E188,\"грешка\",\"\")","v":""}]
[null,"ш.159і   ш.160",null,{"$f":"IF(D172<D173,\"грешка\",\"\")","v":""},{"$f":"IF(E172<E173,\"грешка\",\"\")","v":""}]
[null,"ш.161і   ш.162",null,{"$f":"IF(D174<D175+D176,\"грешка\",\"\")","v":""},{"$f":"IF(E174<E175+E176,\"грешка\",\"\")","v":""}]
[null,"ш.164і   ш.165+ш.166",null,{"$f":"IF(D177<D178+D179,\"грешка\",\"\")","v":""},{"$f":"IF(E177<E178+E179,\"грешка\",\"\")","v":""}]
[null,"ш.168і   ш.169",null,{"$f":"IF(D181<D182,\"грешка\",\"\")","v":""},{"$f":"IF(E181<E182,\"грешка\",\"\")","v":""}]
[null,"ш.172і   ш.173+ш.174",null,{"$f":"IF(D185<D186+D187,\"грешка\",\"\")","v":""},{"$f":"IF(E185<E186+E187,\"грешка\",\"\")","v":""}]
[null,"ш.176і   ш.177+ш.190 до ш.196",null,{"$f":"IF(D189<D190+D203+D204+D205+D206+D207+D208+D209,\"грешка\",\"\")","v":""},{"$f":"IF(E189<E190+E203+E204+E205+E206+E207+E208+E209,\"грешка\",\"\")","v":""}]
[null,"ш.177і   сумата от ш.178+ш.180+ш.185 до ш.189",null,{"$f":"IF(D190<D191+D193+D198+D199+D200+D201+D202,\"грешка\",\"\")","v":""},{"$f":"IF(E190<E191+E193+E198+E199+E200+E201+E202,\"грешка\",\"\")","v":""}]
[null,"ш.178і   ш.179",null,{"$f":"IF(D191<D192,\"грешка\",\"\")","v":""},{"$f":"IF(E191<E192,\"грешка\",\"\")","v":""}]
[null,"ш.180і   ш.181+ш.184",null,{"$f":"IF(D193<D194+D197,\"грешка\",\"\")","v":""},{"$f":"IF(E193<E194+E197,\"грешка\",\"\")","v":""}]
[null,"ш.181і   ш.182+ш.183",null,{"$f":"IF(D194<D195+D196,\"грешка\",\"\")","v":""},{"$f":"IF(E194<E195+E196,\"грешка\",\"\")","v":""}]
[null,"ш.197і   ш.198+ш.200+ш.202+ш.204+ш.206",null,{"$f":"IF(D210<D211+D213+D215+D217+D219,\"грешка\",\"\")","v":""},{"$f":"IF(E210<E211+E213+E215+E217+E219,\"грешка\",\"\")","v":""}]
[null,"ш.198і   ш.199",null,{"$f":"IF(D211<D212,\"грешка\",\"\")","v":""},{"$f":"IF(E211<E212,\"грешка\",\"\")","v":""}]
[null,"ш.200і   ш.201",null,{"$f":"IF(D213<D214,\"грешка\",\"\")","v":""},{"$f":"IF(E213<E214,\"грешка\",\"\")","v":""}]
[null,"ш.202і   ш.203",null,{"$f":"IF(D215<D216,\"грешка\",\"\")","v":""},{"$f":"IF(E215<E216,\"грешка\",\"\")","v":""}]
[null,"ш.204і   ш.205",null,{"$f":"IF(D217<D218,\"грешка\",\"\")","v":""},{"$f":"IF(E217<E218,\"грешка\",\"\")","v":""}]
[null,"ш.207і  сумата от ш.208 до ш.212 + ш.214 до 216",null,{"$f":"IF(D220<D221+D222+D223+D224+D225+D227+D228+D229,\"грешка\",\"\")","v":""},{"$f":"IF(E220<E221+E222+E223+E224+E225+E227+E228+E229,\"грешка\",\"\")","v":""}]
[null,"ш.212і   ш.213",null,{"$f":"IF(D225<D226,\"грешка\",\"\")","v":""},{"$f":"IF(E225<E226,\"грешка\",\"\")","v":""}]
[null,"ш.217і  сумата от ш.218 + ш.220 + ш.224",null,{"$f":"IF(D230<D231+D232+D233+D234+D235+D236+D237+D240,\"грешка\",\"\")","v":""},{"$f":"IF(E230<E231+E232+E233+E234+E235+E236+E237+E240,\"грешка\",\"\")","v":""}]
[null,"ш.224і  ш.225 + ш.226",null,{"$f":"IF(D237<D238+D239,\"грешка\",\"\")","v":""},{"$f":"IF(E237<E238+E239,\"грешка\",\"\")","v":""}]
[null,"ш.228і   сумата от ш.229 до ш.233",null,{"$f":"IF(D241<D242+D243+D244+D245+D246,\"грешка\",\"\")","v":""},{"$f":"IF(E241<E242+E243+E244+E245+E246,\"грешка\",\"\")","v":""}]
[null,"ш.234і  ш.235+ш.238+ш.240+ш.242+ш.244 до ш.248+ш.251+ш.252",null,{"$f":"IF(D247<D248+D251+D253+D255+D257+D258+D259+D260+D261+D264+D265,\"грешка\",\"\")","v":""},{"$f":"IF(E247<E248+E251+E253+E255+E257+E258+E259+E260+E261+E264+E265,\"грешка\",\"\")","v":""}]
[null,"ш.235і  ш.236+ш.237",null,{"$f":"IF(D248<D249+D250,\"грешка\",\"\")","v":""},{"$f":"IF(E248<E249+E250,\"грешка\",\"\")","v":""}]
[null,"ш.238і  ш.239",null,{"$f":"IF(D251<D252,\"грешка\",\"\")","v":""},{"$f":"IF(E251<E252,\"грешка\",\"\")","v":""}]
[null,"ш.240і  ш.241",null,{"$f":"IF(D253<D254,\"грешка\",\"\")","v":""},{"$f":"IF(E253<E254,\"грешка\",\"\")","v":""}]
[null,"ш.242і  ш.243",null,{"$f":"IF(D255<D256,\"грешка\",\"\")","v":""},{"$f":"IF(E255<E256,\"грешка\",\"\")","v":""}]
[null,"ш.248і  ш.249 + ш.250",null,{"$f":"IF(D261<D262+D263,\"грешка\",\"\")","v":""},{"$f":"IF(E261<E262+E263,\"грешка\",\"\")","v":""}]
[null,"ш.253і  ш.254",null,{"$f":"IF(D266<D267,\"грешка\",\"\")","v":""},{"$f":"IF(E266<E267,\"грешка\",\"\")","v":""}]
[null,"ш.254і  ш.255+ш.258+ш.260+ш.262+ш.264+ш.266",null,{"$f":"IF(D267<D268+D271+D273+D275+D277+D279,\"грешка\",\"\")","v":""},{"$f":"IF(E267<E268+E271+E273+E275+E277+E279,\"грешка\",\"\")","v":""}]
[null,"ш.255і  ш.256 + ш.257",null,{"$f":"IF(D268<D269+D270,\"грешка\",\"\")","v":""},{"$f":"IF(E268<E269+E270,\"грешка\",\"\")","v":""}]
[null,"ш.258і  ш.259",null,{"$f":"IF(D271<D272,\"грешка\",\"\")","v":""},{"$f":"IF(E271<E272,\"грешка\",\"\")","v":""}]
[null,"ш.260і  ш.261",null,{"$f":"IF(D273<D274,\"грешка\",\"\")","v":""},{"$f":"IF(E273<E274,\"грешка\",\"\")","v":""}]
[null,"ш.262і  ш.263",null,{"$f":"IF(D275<D276,\"грешка\",\"\")","v":""},{"$f":"IF(E275<E276,\"грешка\",\"\")","v":""}]
[null,"ш.264і  ш.265",null,{"$f":"IF(D277<D278,\"грешка\",\"\")","v":""},{"$f":"IF(E277<E278,\"грешка\",\"\")","v":""}]
[null,"ш.266і  ш.267",null,{"$f":"IF(D279<D280,\"грешка\",\"\")","v":""},{"$f":"IF(E279<E280,\"грешка\",\"\")","v":""}]

{"sheet":"6 II","index":4,"n_rows":34,"n_cols":7,"rows_kept":34,"cut":false,"hidden":false,"merged":[[5,1,5,4],[10,1,11,1],[10,2,11,2],[10,3,10,4]]}
[{"$f":"'5 I'!A1","v":"05"},"Област:",{"$f":"'5 I'!C1","v":"05 Видин                "}]
[{"$f":"'5 I'!A2","v":""},"Лечебно заведение:",{"$f":"'5 I'!C2","v":0}]
[null,"Година:",{"$f":"'5 I'!C3","v":2023}]
[]
[]
[5,"Фактори, влияещи върху здравното състояние на населението и контакта със здравните служби на лица на възраст над 18 години"]
[]
[null,"Раздел IІ"]
[]
[null,null,null,null,null,null,"ХОРИЗОНТАЛЕН КОНТРОЛ:"]
[null,"НАИМЕНОВАНИЕ НА БОЛЕСТИТЕ ПО МКБ–10","Ши-фър","Регистрирани случаи",null,null,"к.1і   к.2"]
[null,null,null,"всичко","в т.ч. новооткрити заболявания"]
[null,"а","б",1,2]
[null,"ХXI. Фактори, влияещи върху здравното състояние на населението и контакта със здравните служби Z00-Z99","01",null,null,null,{"$f":"IF(D14<E14,\"грешка\",\"\")","v":""}]
[null,"Лица, обърнали се към здравните служби за медицински преглед и изследване Z00-Z13","02",null,null,null,{"$f":"IF(D15<E15,\"грешка\",\"\")","v":""}]
[null,"Общ преглед и изследване на лица, които нямат оплаквания или установена диагноза Z00","03",null,null,null,""]
[null,"Други специални прегледи и изследвания на лица, които нямат оплаквания или установена диагноза Z01","04",null,null,null,""]
[null,"Изследване и обръщане с административни цели Z02","05",null,null,null,""]
[null,"Лица, обърнали се към здравни служби във връзка с обстоятелства, отнасящи се до репродуктивната функция Z30-Z39","06",null,null,null,""]
[null,"Наблюдение върху прилагането на противозачатъчни средства Z30","07",null,null,null,""]
[null,"Наблюдение върху протичането на нормална бременност Z34","08",null,null,null,""]
[null,"Грижа за изкуствени отвори Z43","09",null,null,null,""]
[null,"Помощ, включваща използване на рехабилитационни процедури Z50","10",null,null,null,""]
[null,"Рехабилитация при болест на сърцето Z50.0","11",null,null,null,""]
[null,"Друг вид физиотерапия Z50.1","12",null,null,null,""]
[null,"Рехабилитация на лица, страдащи от алкохолизъм Z50.2","13",null,null,null,""]
[null,"Рехабилитация на лица, страдащи от наркомания Z50.3","14",null,null,null,""]
[null,"Жертва на престъпление и тероризъм Z65.4","15",null,null,null,""]
[]
["ВЕРТИКАЛЕН КОНТРОЛ:"]
[null,"ш.01і   ш.02+ш.06+ш.09+ш.10+ш.15",null,{"$f":"IF(D14<D15+D19+D22+D23+D28,\"грешка\",\"\")","v":""},{"$f":"IF(E14<E15+E19+E22+E23+E28,\"грешка\",\"\")","v":""}]
[null,"ш.02і   ш.03+ш.04+ш.05",null,{"$f":"IF(D15<D16+D17+D18,\"грешка\",\"\")","v":""},{"$f":"IF(E15<E16+E17+E18,\"грешка\",\"\")","v":""}]
[null,"ш.06і   ш.07 + ш.08",null,{"$f":"IF(D19<D20+D21,\"грешка\",\"\")","v":""},{"$f":"IF(E19<E20+E21,\"грешка\",\"\")","v":""}]
[null,"ш.10і   ш.11 до ш.014",null,{"$f":"IF(D23<D24+D25+D26+D27,\"грешка\",\"\")","v":""},{"$f":"IF(E23<E24+E25+E26+E27,\"грешка\",\"\")","v":""}]

{"sheet":"6 III","index":5,"n_rows":37,"n_cols":4,"rows_kept":37,"cut":false,"hidden":false,"merged":[[5,1,5,3],[10,1,11,1],[10,2,11,2],[10,3,11,3]]}
[{"$f":"'5 I'!A1","v":"05"},"Област:",{"$f":"'5 I'!C1","v":"05 Видин                "}]
[{"$f":"'5 I'!A2","v":""},"Лечебно заведение:",{"$f":"'5 I'!C2","v":0}]
[null,"Година:",{"$f":"'5 I'!C3","v":2023}]
[]
[]
[6,"Външни причини за заболеваемост и смъртност на лица на възраст над 18 години"]
[]
[null,"Раздел IІІ"]
[]
[]
[null,"НАИМЕНОВАНИЕ  ПО МКБ–10","Ши-фър","Регистрирани случаи"]
[]
[null,"а","б",1]
[null,"ХХ. Външни причини за заболеваемост и смъртност V01–Y98","01"]
[null,"Злополуки V01–X59","02"]
[null,"Транспортни злополуки V01–V99","03"]
[null,"Пешеходец или велосипедист, пострадал при транспортна злополука V01–V19 ","04"]
[null,"Мотоциклетист; лице, намиращо се в: моторно превозно средство на три колела; лек автомобил; тежкотоварен автомобил; автобус и пострадало при транспортна злополука; злополуки, свързани с други наземни транспортни средства; при воден транспорт; при въздушен транспорт и космически полети, и други V20–V99","05"]
[null,"Други външни причини за травми при злополуки W00–X59","06"]
[null,"Падания W00–W19","07"]
[null,"Въздействие на неживи или живи механични сили W20–W64","08"]
[null,"Случайно удавяне и потъване във вода и други злополуки със заплаха за дишането W65–W84","09"]
[null,"Злополуки, предизвикани от въздействие на електрически ток, облъчване и екстремни стойности на температурата на околната среда или атмосферното налягане W85–W99","10"]
[null,"Въздействие на дим, огън и пламък и съприкосновение с горещи и нажежени вещества (предмети) X00–X19","11"]
[null,"Контакт с отровни животни и растения X20–X29","12"]
[null,"Случайно отравяне и въздействие на отровни вещества X40–X49","13"]
[null,"Умишлено самонараняване X60–X84","14"]
[null,"Нападение X85–Y09","15"]
[null,"Законни действия и военни операции Y35–Y36","16"]
[]
["ВЕРТИКАЛЕН КОНТРОЛ:"]
[null,"ш.01,к.1 ≥ ш.234,к.1, Раздел I  ",null,{"$f":"IF(D14<'6 I'!D247,\"грешка\",\"\")","v":""}]
[]
[null,"ш.01і   ш.02 + ш.14+ ш.15+ ш.16",null,{"$f":"IF(D14<D15+D27+D28+D29,\"грешка\",\"\")","v":""}]
[null,"ш.02=   на сумата от ш.03 и ш.06",null,{"$f":"IF(D15=D16+D19,\"\",\"грешка\")","v":""}]
[null,"ш.03=   на сумата от ш.04 и ш.05",null,{"$f":"IF(D16=D17+D18,\"\",\"грешка\")","v":""}]
[null,"ш.06і   на сумата от ш.07 до ш.13",null,{"$f":"IF(D19<D20+D21+D22+D23+D24+D25+D26,\"грешка\",\"\")","v":""}]

{"sheet":"Общо І","index":6,"n_rows":350,"n_cols":7,"rows_kept":350,"cut":false,"hidden":false,"merged":[[10,1,11,1],[10,2,11,2],[10,3,10,4],[5,1,5,4]]}
[{"$f":"'5 I'!A1","v":"05"},"Област:",{"$f":"'5 I'!C1","v":"05 Видин                "}]
[{"$f":"'5 I'!A2","v":""},"Лечебно заведение:",{"$f":"'5 I'!C2","v":0}]
[null,"Година:",{"$f":"'5 I'!C3","v":2023}]
[]
[]
[4,"Регистрирани заболявания в амбулаториите на лечебните заведения по вид на заболяването - ОБЩО"]
[]
[null,"Раздел I"]
[]
[null,null,null,null,null,null,"ХОРИЗОНТАЛЕН КОНТРОЛ:"]
[null,"НАИМЕНОВАНИЕ НА БОЛЕСТИТЕ ПО МКБ–10","Ши-фър","Регистрирани заболявания",null,null,"к.1і   к.2"]
[null,null,null,"всичко","в т.ч. новооткрити "]
[null,"а","б",1,2]
[null,"ОБЩО I-XIX и ХХІІ клас","001",{"$f":"'5 I'!D14+'6 I'!D14","v":0},{"$f":"'5 I'!F14+'6 I'!E14","v":0},null,{"$f":"IF(D14<E14,\"грешка\",\"\")","v":""}]
[null,"I. Някои инфекциозни и паразитни болести A00-B99","002",{"$f":"'5 I'!D15+'6 I'!D15","v":0},{"$f":"'5 I'!F15+'6 I'!E15","v":0},null,{"$f":"IF(D15<E15,\"грешка\",\"\")","v":""}]
[null,"Чревни инфекции А00-А09","003",{"$f":"'5 I'!D16+'6 I'!D16","v":0},{"$f":"'5 I'!F16+'6 I'!E16","v":0},null,""]
[null,"Други салмонелозни инфекции А02","004",{"$f":"'5 I'!D17+'6 I'!D17","v":0},{"$f":"'5 I'!F17+'6 I'!E17","v":0},null,""]
[null,"Шигелоза А03","005",{"$f":"'5 I'!D18+'6 I'!D18","v":0},{"$f":"'5 I'!F18+'6 I'!E18","v":0},null,""]
[null,"Туберкулоза А15-А19","006",{"$f":"'5 I'!D19+'6 I'!D19","v":0},{"$f":"'5 I'!F19+'6 I'!E19","v":0},null,""]
[null,"Сифилис А50-А53","007",{"$f":"'5 I'!D20+'6 I'!D20","v":0},{"$f":"'5 I'!F20+'6 I'!E20","v":0},null,""]
[null,"Вирусен хепатит В15-В19","008",{"$f":"'5 I'!D21+'6 I'!D21","v":0},{"$f":"'5 I'!F21+'6 I'!E21","v":0},null,""]
[null,"Аскаридоза В77","009",{"$f":"'5 I'!D22+'6 I'!D22","v":0},{"$f":"'5 I'!F22+'6 I'!E22","v":0},null,""]
[null,"Ентеробиоза В80","010",{"$f":"'5 I'!D23+'6 I'!D23","v":0},{"$f":"'5 I'!F23+'6 I'!E23","v":0},null,""]
[null,"II. Новообразувания C00-D48","011",{"$f":"'5 I'!D24+'6 I'!D24","v":0},{"$f":"'5 I'!F24+'6 I'!E24","v":0},null,""]
[null,"Злокачествени новообразувания C00-C97","012",{"$f":"'5 I'!D25+'6 I'!D25","v":0},{"$f":"'5 I'!F25+'6 I'!E25","v":0},null,""]
[null,"Доброкачествени новообразувания D10-D36","013",{"$f":"'5 I'!D26+'6 I'!D26","v":0},{"$f":"'5 I'!F26+'6 I'!E26","v":0},null,""]
[null,"III. Болести на кръвта, кръвотворните органи и отделни нарушения, включващи имунния механизъм D50–D89 ","014",{"$f":"'5 I'!D27+'6 I'!D27","v":0},{"$f":"'5 I'!F27+'6 I'!E27","v":0},null,""]
[null,"Анемии, свързани с храненето D50-D53","015",{"$f":"'5 I'!D28+'6 I'!D28","v":0},{"$f":"'5 I'!F28+'6 I'!E28","v":0},null,""]
[null,"Желязонедоимъчна анемия D50","016",{"$f":"'5 I'!D29+'6 I'!D29","v":0},{"$f":"'5 I'!F29+'6 I'!E29","v":0},null,""]
[null,"Хемолитични анемии D55-D59","017",{"$f":"'5 I'!D30+'6 I'!D30","v":0},{"$f":"'5 I'!F30+'6 I'!E30","v":0},null,""]
[null,"Апластични и други анемии D60-D64","018",{"$f":"'5 I'!D31+'6 I'!D31","v":0},{"$f":"'5 I'!F31+'6 I'!E31","v":0},null,""]
[null,"Остра постхеморагична анемия D62","019",{"$f":"'5 I'!D32+'6 I'!D32","v":0},{"$f":"'5 I'!F32+'6 I'!E32","v":0},null,""]
[null,"Нарушения на съсирването на кръвта, пурпура и други хеморагични състояния D65–D69","020",{"$f":"'5 I'!D33+'6 I'!D33","v":0},{"$f":"'5 I'!F33+'6 I'!E33","v":0},null,""]
[null,"Други болести на кръвта и кръвотворните органи D70–D77","021",{"$f":"'5 I'!D34+'6 I'!D34","v":0},{"$f":"'5 I'!F34+'6 I'!E34","v":0},null,""]
[null,"IV. Болести на ендокринната система, разстройства на храненето и на обмяната на веществата E00–E90","022",{"$f":"'5 I'!D35+'6 I'!D35","v":0},{"$f":"'5 I'!F35+'6 I'!E35","v":0},null,""]
[null,"Болести на щитовидната жлеза, свързани с йоден недоимък E00–E02 ","023",{"$f":"'5 I'!D36+'6 I'!D36","v":0},{"$f":"'5 I'!F36+'6 I'!E36","v":0},null,""]
[null,"Други видове хипотиреоидизъм E03 ","024",{"$f":"'5 I'!D37+'6 I'!D37","v":0},{"$f":"'5 I'!F37+'6 I'!E37","v":0},null,""]
[null,"Други видове нетоксична гуша E04 ","025",{"$f":"'5 I'!D38+'6 I'!D38","v":0},{"$f":"'5 I'!F38+'6 I'!E38","v":0},null,""]
[null,"Тиреотоксикоза [хипертиреоидизъм] E05 ","026",{"$f":"'5 I'!D39+'6 I'!D39","v":0},{"$f":"'5 I'!F39+'6 I'!E39","v":0},null,""]
[null,"Захарен диабет Е10-Е14","027",{"$f":"'5 I'!D40+'6 I'!D40","v":0},{"$f":"'5 I'!F40+'6 I'!E40","v":0},null,""]
[null,"Инсулинозависим захарен диабет Е10","028",{"$f":"'5 I'!D41+'6 I'!D41","v":0},{"$f":"'5 I'!F41+'6 I'!E41","v":0},null,""]
[null,"Неинсулинозависим захарен диабет Е11","029",{"$f":"'5 I'!D42+'6 I'!D42","v":0},{"$f":"'5 I'!F42+'6 I'!E42","v":0},null,""]
[null,"Хиперфункция на хипофизата Е22","030",{"$f":"'5 I'!D43+'6 I'!D43","v":0},{"$f":"'5 I'!F43+'6 I'!E43","v":0},null,""]
[null,"Хипофункция и други разстройства на хипофизата E23 ","031",{"$f":"'5 I'!D44+'6 I'!D44","v":0},{"$f":"'5 I'!F44+'6 I'!E44","v":0},null,""]
[null,"Разстройства на надбъбречните жлези E25–E27","032",{"$f":"'5 I'!D45+'6 I'!D45","v":0},{"$f":"'5 I'!F45+'6 I'!E45","v":0},null,""]
[null,"Недоимъчно хранене Е40-Е64","033",{"$f":"'5 I'!D46+'6 I'!D46","v":0},{"$f":"'5 I'!F46+'6 I'!E46","v":0},null,""]
[null,"Затлъстяване Е66","034",{"$f":"'5 I'!D47+'6 I'!D47","v":0},{"$f":"'5 I'!F47+'6 I'!E47","v":0},null,""]
[null,"V. Психични и поведенчески разстройства F00–F99","035",{"$f":"'5 I'!D48+'6 I'!D48","v":0},{"$f":"'5 I'!F48+'6 I'!E48","v":0},null,""]
[null,"Деменция F00-F03","036",{"$f":"'5 I'!D49+'6 I'!D49","v":0},{"$f":"'5 I'!F49+'6 I'!E49","v":0},null,""]
[null,"Делир, непредизвикан от алкохол и други психоактивни вещества F05","037",{"$f":"'5 I'!D50+'6 I'!D50","v":0},{"$f":"'5 I'!F50+'6 I'!E50","v":0},null,""]
[null,"Други разстройства, дължащи се на мозъчно заболяване F06,F07,F09","038",{"$f":"'5 I'!D51+'6 I'!D51","v":0},{"$f":"'5 I'!F51+'6 I'!E51","v":0},null,""]
[null,"Психични и поведенчески разстройства, дължащи се на употреба на алкохол F10","039",{"$f":"'5 I'!D52+'6 I'!D52","v":0},{"$f":"'5 I'!F52+'6 I'!E52","v":0},null,""]
[null,"Психични и поведенчески разстройства, дължащи се на употреба на други психоактивни вещества F11–F19","040",{"$f":"'5 I'!D53+'6 I'!D53","v":0},{"$f":"'5 I'!F53+'6 I'!E53","v":0},null,""]
[null,"Шизофрения, шизотипни и налудни разстройства F20–F29 ","041",{"$f":"'5 I'!D54+'6 I'!D54","v":0},{"$f":"'5 I'!F54+'6 I'!E54","v":0},null,""]
[null,"Шизофрения F20","042",{"$f":"'5 I'!D55+'6 I'!D55","v":0},{"$f":"'5 I'!F55+'6 I'!E55","v":0},null,""]
[null,"Остри и преходни психотични разстройства F23","043",{"$f":"'5 I'!D56+'6 I'!D56","v":0},{"$f":"'5 I'!F56+'6 I'!E56","v":0},null,""]
[null,"Разстройства на настроението [афективни разстройства] F30–F39 ","044",{"$f":"'5 I'!D57+'6 I'!D57","v":0},{"$f":"'5 I'!F57+'6 I'!E57","v":0},null,""]
[null,"Маниен епизод F30","045",{"$f":"'5 I'!D58+'6 I'!D58","v":0},{"$f":"'5 I'!F58+'6 I'!E58","v":0},null,""]
[null,"Биполярно афективно разстройство F31 ","046",{"$f":"'5 I'!D59+'6 I'!D59","v":0},{"$f":"'5 I'!F59+'6 I'!E59","v":0},null,""]
[null,"Депресивен епизод. Рецидивиращо депресивно разстройство F32, F33","047",{"$f":"'5 I'!D60+'6 I'!D60","v":0},{"$f":"'5 I'!F60+'6 I'!E60","v":0},null,""]
[null,"Невротични, свързани със стрес и соматоформни разстройства F40–F48 ","048",{"$f":"'5 I'!D61+'6 I'!D61","v":0},{"$f":"'5 I'!F61+'6 I'!E61","v":0},null,""]
[null,"Разстройства на храненето, съня и сексуалността F50,F51,F52","049",{"$f":"'5 I'!D62+'6 I'!D62","v":0},{"$f":"'5 I'!F62+'6 I'!E62","v":0},null,""]
[null,"Разстройства на личността и поведението в зряла възраст F60–F69 ","050",{"$f":"'5 I'!D63+'6 I'!D63","v":0},{"$f":"'5 I'!F63+'6 I'!E63","v":0},null,""]
[null,"Умствена изостаналост F70-F79","051",{"$f":"'5 I'!D64+'6 I'!D64","v":0},{"$f":"'5 I'!F64+'6 I'!E64","v":0},null,""]
[null,"Специфични разстройства в развитието F80-F83","052",{"$f":"'5 I'!D65+'6 I'!D65","v":0},{"$f":"'5 I'!F65+'6 I'!E65","v":0},null,""]
[null,"Генерализирани разстройства в развитието F84","053",{"$f":"'5 I'!D66+'6 I'!D66","v":0},{"$f":"'5 I'!F66+'6 I'!E66","v":0},null,""]
[null,"Хиперкинетични разстройства F90","054",{"$f":"'5 I'!D67+'6 I'!D67","v":0},{"$f":"'5 I'!F67+'6 I'!E67","v":0},null,""]
[null,"Други разстройства в поведението и емоциите F91–F95 ","055",{"$f":"'5 I'!D68+'6 I'!D68","v":0},{"$f":"'5 I'!F68+'6 I'!E68","v":0},null,""]
[null,"Неорганична енуреза F98.0","056",{"$f":"'5 I'!D69+'6 I'!D69","v":0},{"$f":"'5 I'!F69+'6 I'!E69","v":0},null,""]
[null,"VI. Болести на нервната система G00-G99","057",{"$f":"'5 I'!D70+'6 I'!D70","v":0},{"$f":"'5 I'!F70+'6 I'!E70","v":0},null,""]
[null,"Менингити G00-G03","058",{"$f":"'5 I'!D71+'6 I'!D71","v":0},{"$f":"'5 I'!F71+'6 I'!E71","v":0},null,""]
[null,"Енцефалит, миелит и енцефаломиелит G04","059",{"$f":"'5 I'!D72+'6 I'!D72","v":0},{"$f":"'5 I'!F72+'6 I'!E72","v":0},null,""]
[null,"Болест на Паркинсон G20","060",{"$f":"'5 I'!D73+'6 I'!D73","v":0},{"$f":"'5 I'!F73+'6 I'!E73","v":0},null,""]
[null,"Болест на Алцхаймер G30","061",{"$f":"'5 I'!D74+'6 I'!D74","v":0},{"$f":"'5 I'!F74+'6 I'!E74","v":0},null,""]
[null,"Множествена склероза G35","062",{"$f":"'5 I'!D75+'6 I'!D75","v":0},{"$f":"'5 I'!F75+'6 I'!E75","v":0},null,""]
[null,"Епилепсия, епилептичен статус G40, G41","063",{"$f":"'5 I'!D76+'6 I'!D76","v":0},{"$f":"'5 I'!F76+'6 I'!E76","v":0},null,""]
[null,"Мигрена G43 ","064",{"$f":"'5 I'!D77+'6 I'!D77","v":0},{"$f":"'5 I'!F77+'6 I'!E77","v":0},null,""]
[null,"Преходни церебрални исхемични пристъпи [атаки] и сродни синдроми G45","065",{"$f":"'5 I'!D78+'6 I'!D78","v":0},{"$f":"'5 I'!F78+'6 I'!E78","v":0},null,""]
[null,"Увреждания на троичния нерв G50","066",{"$f":"'5 I'!D79+'6 I'!D79","v":0},{"$f":"'5 I'!F79+'6 I'!E79","v":0},null,{"$f":"IF(D79<E79,\"грешка\",\"\")","v":""}]
[null,"Увреждания на лицевия нерв G51 ","067",{"$f":"'5 I'!D80+'6 I'!D80","v":0},{"$f":"'5 I'!F80+'6 I'!E80","v":0},null,""]
[null,"Увреждания на нервни коренчета и плексуси, мононевропатии на горен крайник G54, G56","068",{"$f":"'5 I'!D81+'6 I'!D81","v":0},{"$f":"'5 I'!F81+'6 I'!E81","v":0},null,""]
[null,"Мононевропатии на долен крайник G57","069",{"$f":"'5 I'!D82+'6 I'!D82","v":0},{"$f":"'5 I'!F82+'6 I'!E82","v":0},null,""]
[null,"Полиневропатии и други увреждания на периферната нервна система G60–G64","070",{"$f":"'5 I'!D83+'6 I'!D83","v":0},{"$f":"'5 I'!F83+'6 I'!E83","v":0},null,""]
[null,"Детска церебрална парализа и други паралитични синдроми G80–G83 ","071",{"$f":"'5 I'!D84+'6 I'!D84","v":0},{"$f":"'5 I'!F84+'6 I'!E84","v":0},null,""]
[null,"Разстройства на вегетативната нервна система G90","072",{"$f":"'5 I'!D85+'6 I'!D85","v":0},{"$f":"'5 I'!F85+'6 I'!E85","v":0},null,""]
[null,"VII. Болести на окото и придатъците му H00–H59 ","073",{"$f":"'5 I'!D86+'6 I'!D86","v":0},{"$f":"'5 I'!F86+'6 I'!E86","v":0},null,""]
[null,"Болести на клепача, слъзните пътища и орбитата H00-H06","074",{"$f":"'5 I'!D87+'6 I'!D87","v":0},{"$f":"'5 I'!F87+'6 I'!E87","v":0},null,""]
[null,"Хордеолум и халацион H00","075",{"$f":"'5 I'!D88+'6 I'!D88","v":0},{"$f":"'5 I'!F88+'6 I'!E88","v":0},null,""]
[null,"Болести на конюнктивата H10-H13","076",{"$f":"'5 I'!D89+'6 I'!D89","v":0},{"$f":"'5 I'!F89+'6 I'!E89","v":0},null,""]
[null,"Болести на склерата, роговицата, ириса и цилиарното тяло H15–H22 ","077",{"$f":"'5 I'!D90+'6 I'!D90","v":0},{"$f":"'5 I'!F90+'6 I'!E90","v":0},null,""]
[null,"Кератит Н16","078",{"$f":"'5 I'!D91+'6 I'!D91","v":0},{"$f":"'5 I'!F91+'6 I'!E91","v":0},null,""]
[null,"Иридоциклит Н20","079",{"$f":"'5 I'!D92+'6 I'!D92","v":0},{"$f":"'5 I'!F92+'6 I'!E92","v":0},null,""]
[null,"Катаракта H25, H26","080",{"$f":"'5 I'!D93+'6 I'!D93","v":0},{"$f":"'5 I'!F93+'6 I'!E93","v":0},null,""]
[null,"Отлепване и разкъсване на ретината H33","081",{"$f":"'5 I'!D94+'6 I'!D94","v":0},{"$f":"'5 I'!F94+'6 I'!E94","v":0},null,""]
[null,"Глаукома H40-H42","082",{"$f":"'5 I'!D95+'6 I'!D95","v":0},{"$f":"'5 I'!F95+'6 I'!E95","v":0},null,""]
[null,"Болести на стъкловидното тяло и очната ябълка H43–H45 ","083",{"$f":"'5 I'!D96+'6 I'!D96","v":0},{"$f":"'5 I'!F96+'6 I'!E96","v":0},null,""]
[null,"Болести на зрителния нерв и зрителните пътища H46–H48 ","084",{"$f":"'5 I'!D97+'6 I'!D97","v":0},{"$f":"'5 I'!F97+'6 I'!E97","v":0},null,""]
[null,"Страбизъм H49, H50","085",{"$f":"'5 I'!D98+'6 I'!D98","v":0},{"$f":"'5 I'!F98+'6 I'!E98","v":0},null,""]
[null,"Слепота и намалено зрение H54","086",{"$f":"'5 I'!D99+'6 I'!D99","v":0},{"$f":"'5 I'!F99+'6 I'!E99","v":0},null,""]
[null,"VIII. Болести на ухото и мастоидния израстък H60–H95 ","087",{"$f":"'5 I'!D100+'6 I'!D100","v":0},{"$f":"'5 I'!F100+'6 I'!E100","v":0},null,""]
[null,"Болести на средното ухо и мастоидния израстък H65– H75 ","088",{"$f":"'5 I'!D101+'6 I'!D101","v":0},{"$f":"'5 I'!F101+'6 I'!E101","v":0},null,""]
[null,"Негнойно възпаление на средното ухо H65","089",{"$f":"'5 I'!D102+'6 I'!D102","v":0},{"$f":"'5 I'!F102+'6 I'!E102","v":0},null,""]
[null,"Гнойно и неуточнено възпаление на средното ухо H66","090",{"$f":"'5 I'!D103+'6 I'!D103","v":0},{"$f":"'5 I'!F103+'6 I'!E103","v":0},null,""]
[null,"Холестеатом на средното ухо H71","091",{"$f":"'5 I'!D104+'6 I'!D104","v":0},{"$f":"'5 I'!F104+'6 I'!E104","v":0},null,""]
[null,"Перфорация на тъпанчето H72","092",{"$f":"'5 I'!D105+'6 I'!D105","v":0},{"$f":"'5 I'!F105+'6 I'!E105","v":0},null,""]
[null,"Болести на вътрешното ухо H80-H83","093",{"$f":"'5 I'!D106+'6 I'!D106","v":0},{"$f":"'5 I'!F106+'6 I'!E106","v":0},null,""]
[null,"Отосклероза H80 ","094",{"$f":"'5 I'!D107+'6 I'!D107","v":0},{"$f":"'5 I'!F107+'6 I'!E107","v":0},null,""]
[null,"Глухота  H90, H91","095",{"$f":"'5 I'!D108+'6 I'!D108","v":0},{"$f":"'5 I'!F108+'6 I'!E108","v":0},null,""]
[null,"Други болести на ухото, некласифицирани другаде H93","096",{"$f":"'5 I'!D109+'6 I'!D109","v":0},{"$f":"'5 I'!F109+'6 I'!E109","v":0},null,""]
[null,"IХ. Болести на органите на кръвообращението I00–I99 ","097",{"$f":"'5 I'!D110+'6 I'!D110","v":0},{"$f":"'5 I'!F110+'6 I'!E110","v":0},null,""]
[null,"Остър ревматизъм I00-I02","098",{"$f":"'5 I'!D111+'6 I'!D111","v":0},{"$f":"'5 I'!F111+'6 I'!E111","v":0},null,""]
[null,"Хронични ревматични болести на сърцето I05–I09","099",{"$f":"'5 I'!D112+'6 I'!D112","v":0},{"$f":"'5 I'!F112+'6 I'!E112","v":0},null,""]
[null,"Хипертонични болести I10-I15","100",{"$f":"'5 I'!D113+'6 I'!D113","v":0},{"$f":"'5 I'!F113+'6 I'!E113","v":0},null,""]
[null,"Есенциална [първична] хипертония I10","101",{"$f":"'5 I'!D114+'6 I'!D114","v":0},{"$f":"'5 I'!F114+'6 I'!E114","v":0},null,""]
[null,"Исхемична болест на сърцето I20-I25","102",{"$f":"'5 I'!D115+'6 I'!D115","v":0},{"$f":"'5 I'!F115+'6 I'!E115","v":0},null,""]
[null,"Стенокардия I20","103",{"$f":"'5 I'!D116+'6 I'!D116","v":0},{"$f":"'5 I'!F116+'6 I'!E116","v":0},null,""]
[null,"Остър инфаркт на миокарда I21, I22","104",{"$f":"'5 I'!D117+'6 I'!D117","v":0},{"$f":"'5 I'!F117+'6 I'!E117","v":0},null,""]
[null,"Белодробен емболизъм I26","105",{"$f":"'5 I'!D118+'6 I'!D118","v":0},{"$f":"'5 I'!F118+'6 I'!E118","v":0},null,""]
[null,"Проводни нарушения и аритмии I44-I49","106",{"$f":"'5 I'!D119+'6 I'!D119","v":0},{"$f":"'5 I'!F119+'6 I'!E119","v":0},null,""]
[null,"Пароксизмална тахикардия I47","107",{"$f":"'5 I'!D120+'6 I'!D120","v":0},{"$f":"'5 I'!F120+'6 I'!E120","v":0},null,""]
[null,"Предсърдно мъждене и трептене I48","108",{"$f":"'5 I'!D121+'6 I'!D121","v":0},{"$f":"'5 I'!F121+'6 I'!E121","v":0},null,""]
[null,"Сърдечна недостатъчност I50","109",{"$f":"'5 I'!D122+'6 I'!D122","v":0},{"$f":"'5 I'!F122+'6 I'!E122","v":0},null,""]
[null,"Мозъчносъдови болести I60-I69","110",{"$f":"'5 I'!D123+'6 I'!D123","v":0},{"$f":"'5 I'!F123+'6 I'!E123","v":0},null,""]
[null,"Субарахноидален кръвоизлив I60","111",{"$f":"'5 I'!D124+'6 I'!D124","v":0},{"$f":"'5 I'!F124+'6 I'!E124","v":0},null,""]
[null,"Вътремозъчен и друг нетравматичен вътремозъчен кръвоизлив I61, I62 ","112",{"$f":"'5 I'!D125+'6 I'!D125","v":0},{"$f":"'5 I'!F125+'6 I'!E125","v":0},null,""]
[null,"Мозъчен инфаркт I63","113",{"$f":"'5 I'!D126+'6 I'!D126","v":0},{"$f":"'5 I'!F126+'6 I'!E126","v":0},null,""]
[null,"Инсулт, неуточнен като кръвоизлив или инфаркт I64 ","114",{"$f":"'5 I'!D127+'6 I'!D127","v":0},{"$f":"'5 I'!F127+'6 I'!E127","v":0},null,""]
[null,"Оклузия и стеноза на прецеребрални и церебрални артерии, които не са предизвикали мозъчен инфаркт I65, I66","115",{"$f":"'5 I'!D128+'6 I'!D128","v":0},{"$f":"'5 I'!F128+'6 I'!E128","v":0},null,""]
[null,"Флебит, тромбофлебит, емболия и тромбоза на вени I80–I82 ","116",{"$f":"'5 I'!D129+'6 I'!D129","v":0},{"$f":"'5 I'!F129+'6 I'!E129","v":0},null,""]
[null,"Варикозни вени на долните крайници I83","117",{"$f":"'5 I'!D130+'6 I'!D130","v":0},{"$f":"'5 I'!F130+'6 I'!E130","v":0},null,""]
[null,"Хемороиди I84","118",{"$f":"'5 I'!D131+'6 I'!D131","v":0},{"$f":"'5 I'!F131+'6 I'!E131","v":0},null,""]
[null,"Х. Болести на дихателната система J00-J99","119",{"$f":"'5 I'!D132+'6 I'!D132","v":0},{"$f":"'5 I'!F132+'6 I'!E132","v":0},null,""]
[null,"Остри инфекции на горните дихателни пътища J00–J06 ","120",{"$f":"'5 I'!D133+'6 I'!D133","v":0},{"$f":"'5 I'!F133+'6 I'!E133","v":0},null,""]
[null,"Грип J10, J11 ","121",{"$f":"'5 I'!D134+'6 I'!D134","v":0},{"$f":"'5 I'!F134+'6 I'!E134","v":0},null,""]
[null,"Вирусна пневмония, некласифицирана другаде J12 ","122",{"$f":"'5 I'!D135+'6 I'!D135","v":0},{"$f":"'5 I'!F135+'6 I'!E135","v":0},null,""]
[null,"Бактериални пневмонии J13–J18 ","123",{"$f":"'5 I'!D136+'6 I'!D136","v":0},{"$f":"'5 I'!F136+'6 I'!E136","v":0},null,""]
[null,"Остър бронхит и бронхиолит J20, J21 ","124",{"$f":"'5 I'!D137+'6 I'!D137","v":0},{"$f":"'5 I'!F137+'6 I'!E137","v":0},null,""]
[null,"Други болести на горните дихателни пътища J30–J39 ","125",{"$f":"'5 I'!D138+'6 I'!D138","v":0},{"$f":"'5 I'!F138+'6 I'!E138","v":0},null,""]
[null,"Вазомоторен и алергичен ринит J30 ","126",{"$f":"'5 I'!D139+'6 I'!D139","v":0},{"$f":"'5 I'!F139+'6 I'!E139","v":0},null,""]
[null,"Хроничен ринит, назофарингит, фарингит и синуит J31, J32 ","127",{"$f":"'5 I'!D140+'6 I'!D140","v":0},{"$f":"'5 I'!F140+'6 I'!E140","v":0},null,""]
[null,"Хронични болести на тонзилите и аденоидите J35","128",{"$f":"'5 I'!D141+'6 I'!D141","v":0},{"$f":"'5 I'!F141+'6 I'!E141","v":0},null,""]
[null,"Хроничен бронхит J41, J42","129",{"$f":"'5 I'!D142+'6 I'!D142","v":0},{"$f":"'5 I'!F142+'6 I'!E142","v":0},null,""]
[null,"Емфизем J43","130",{"$f":"'5 I'!D143+'6 I'!D143","v":0},{"$f":"'5 I'!F143+'6 I'!E143","v":0},null,{"$f":"IF(D143<E143,\"грешка\",\"\")","v":""}]
[null,"Друга хронична обструктивна белодробна болест J44 ","131",{"$f":"'5 I'!D144+'6 I'!D144","v":0},{"$f":"'5 I'!F144+'6 I'!E144","v":0},null,""]
[null,"Астма J45, J46","132",{"$f":"'5 I'!D145+'6 I'!D145","v":0},{"$f":"'5 I'!F145+'6 I'!E145","v":0},null,""]
[null,"Бронхиектатична болест J47","133",{"$f":"'5 I'!D146+'6 I'!D146","v":0},{"$f":"'5 I'!F146+'6 I'!E146","v":0},null,""]
[null,"Болести на белия дроб, причинени от външни агенти J60–J70 ","134",{"$f":"'5 I'!D147+'6 I'!D147","v":0},{"$f":"'5 I'!F147+'6 I'!E147","v":0},null,""]
[null,"Други интерстициални белодробни болести J84 ","135",{"$f":"'5 I'!D148+'6 I'!D148","v":0},{"$f":"'5 I'!F148+'6 I'!E148","v":0},null,""]
[null,"Други болести на плеврата J90-J94","136",{"$f":"'5 I'!D149+'6 I'!D149","v":0},{"$f":"'5 I'!F149+'6 I'!E149","v":0},null,""]
[null,"ХI. Болести на храносмилателната система K00–K93 ","137",{"$f":"'5 I'!D150+'6 I'!D150","v":0},{"$f":"'5 I'!F150+'6 I'!E150","v":0},null,""]
[null,"Язва на стомаха и дванадесетопръстника K25–K27 ","138",{"$f":"'5 I'!D151+'6 I'!D151","v":0},{"$f":"'5 I'!F151+'6 I'!E151","v":0},null,""]
[null,"Гастрит и дуоденит K29","139",{"$f":"'5 I'!D152+'6 I'!D152","v":0},{"$f":"'5 I'!F152+'6 I'!E152","v":0},null,""]
[null,"Болести на апендикса K35-K38","140",{"$f":"'5 I'!D153+'6 I'!D153","v":0},{"$f":"'5 I'!F153+'6 I'!E153","v":0},null,""]
[null,"Хернии  K40-K46","141",{"$f":"'5 I'!D154+'6 I'!D154","v":0},{"$f":"'5 I'!F154+'6 I'!E154","v":0},null,""]
[null,"Ингвинална херния K40","142",{"$f":"'5 I'!D155+'6 I'!D155","v":0},{"$f":"'5 I'!F155+'6 I'!E155","v":0},null,""]
[null,"Болест на Crohn и улцерозен колит K50,K51","143",{"$f":"'5 I'!D156+'6 I'!D156","v":0},{"$f":"'5 I'!F156+'6 I'!E156","v":0},null,""]
[null,"Паралитичен илеус и непроходимост на червата без херния K56 ","144",{"$f":"'5 I'!D157+'6 I'!D157","v":0},{"$f":"'5 I'!F157+'6 I'!E157","v":0},null,""]
[null,"Фисура и фистула на ануса и ректума K60","145",{"$f":"'5 I'!D158+'6 I'!D158","v":0},{"$f":"'5 I'!F158+'6 I'!E158","v":0},null,""]
[null,"Перитонит K65","146",{"$f":"'5 I'!D159+'6 I'!D159","v":0},{"$f":"'5 I'!F159+'6 I'!E159","v":0},null,""]
[null,"Болести на черния дроб K70-K77","147",{"$f":"'5 I'!D160+'6 I'!D160","v":0},{"$f":"'5 I'!F160+'6 I'!E160","v":0},null,""]
[null,"Алкохолна болест на черния дроб K70","148",{"$f":"'5 I'!D161+'6 I'!D161","v":0},{"$f":"'5 I'!F161+'6 I'!E161","v":0},null,""]
[null,"Фиброза и цироза на черния дроб K74","149",{"$f":"'5 I'!D162+'6 I'!D162","v":0},{"$f":"'5 I'!F162+'6 I'!E162","v":0},null,""]
[null,"Холелитиаза и холецистит K80, K81","150",{"$f":"'5 I'!D163+'6 I'!D163","v":0},{"$f":"'5 I'!F163+'6 I'!E163","v":0},null,""]
[null,"ХII. Болести на кожата и подкожната тъкан L00–L99","151",{"$f":"'5 I'!D164+'6 I'!D164","v":0},{"$f":"'5 I'!F164+'6 I'!E164","v":0},null,""]
[null,"Инфекции на кожата и подкожната тъкан L00–L08 ","152",{"$f":"'5 I'!D165+'6 I'!D165","v":0},{"$f":"'5 I'!F165+'6 I'!E165","v":0},null,""]
[null,"Дерматит и екзема L20-L30","153",{"$f":"'5 I'!D166+'6 I'!D166","v":0},{"$f":"'5 I'!F166+'6 I'!E166","v":0},null,""]
[null,"Алергичен контактен дерматит L23","154",{"$f":"'5 I'!D167+'6 I'!D167","v":0},{"$f":"'5 I'!F167+'6 I'!E167","v":0},null,""]
[null,"Псориазис L40","155",{"$f":"'5 I'!D168+'6 I'!D168","v":0},{"$f":"'5 I'!F168+'6 I'!E168","v":0},null,""]
[null,"Уртикария и еритем L50-L54","156",{"$f":"'5 I'!D169+'6 I'!D169","v":0},{"$f":"'5 I'!F169+'6 I'!E169","v":0},null,""]
[null,"Уртикария L50","157",{"$f":"'5 I'!D170+'6 I'!D170","v":0},{"$f":"'5 I'!F170+'6 I'!E170","v":0},null,""]
[null,"ХIII. Болести на костно-мускулната система и на съединителната тъкан M00–M99 ","158",{"$f":"'5 I'!D171+'6 I'!D171","v":0},{"$f":"'5 I'!F171+'6 I'!E171","v":0},null,""]
[null,"Инфекциозни артропатии M00-M03","159",{"$f":"'5 I'!D172+'6 I'!D172","v":0},{"$f":"'5 I'!F172+'6 I'!E172","v":0},null,""]
[null,"Пиогенен артрит M00","160",{"$f":"'5 I'!D173+'6 I'!D173","v":0},{"$f":"'5 I'!F173+'6 I'!E173","v":0},null,""]
[null,"Възпалителни полиартропатии M05-M14","161",{"$f":"'5 I'!D174+'6 I'!D174","v":0},{"$f":"'5 I'!F174+'6 I'!E174","v":0},null,""]
[null,"Серопозитивен ревматоиден артрит M05","162",{"$f":"'5 I'!D175+'6 I'!D175","v":0},{"$f":"'5 I'!F175+'6 I'!E175","v":0},null,""]
[null,"Юношески [ювенилен] артрит M08","163",{"$f":"'5 I'!D176+'6 I'!D176","v":0},{"$f":"'5 I'!F176+'6 I'!E176","v":0},null,""]
[null,"Артрози M15-M19","164",{"$f":"'5 I'!D177+'6 I'!D177","v":0},{"$f":"'5 I'!F177+'6 I'!E177","v":0},null,""]
[null,"Коксартроза [артроза на тазобедрената става] M16 ","165",{"$f":"'5 I'!D178+'6 I'!D178","v":0},{"$f":"'5 I'!F178+'6 I'!E178","v":0},null,""]
[null,"Гонартроза [артроза на колянната става] M17 ","166",{"$f":"'5 I'!D179+'6 I'!D179","v":0},{"$f":"'5 I'!F179+'6 I'!E179","v":0},null,""]
[null,"Системни увреждания на съединителната тъкан M30–M36 ","167",{"$f":"'5 I'!D180+'6 I'!D180","v":0},{"$f":"'5 I'!F180+'6 I'!E180","v":0},null,""]
[null,"Дорзопатии M40-M54","168",{"$f":"'5 I'!D181+'6 I'!D181","v":0},{"$f":"'5 I'!F181+'6 I'!E181","v":0},null,""]
[null,"Сколиоза M41","169",{"$f":"'5 I'!D182+'6 I'!D182","v":0},{"$f":"'5 I'!F182+'6 I'!E182","v":0},null,""]
[null,"Болести на меките тъкани M60-M79","170",{"$f":"'5 I'!D183+'6 I'!D183","v":0},{"$f":"'5 I'!F183+'6 I'!E183","v":0},null,""]
[null,"Нарушения в плътността и структурата на костта M80–M85 ","171",{"$f":"'5 I'!D184+'6 I'!D184","v":0},{"$f":"'5 I'!F184+'6 I'!E184","v":0},null,""]
[null,"Други остеопатии M86-M90","172",{"$f":"'5 I'!D185+'6 I'!D185","v":0},{"$f":"'5 I'!F185+'6 I'!E185","v":0},null,""]
[null,"Остеомиелит M86","173",{"$f":"'5 I'!D186+'6 I'!D186","v":0},{"$f":"'5 I'!F186+'6 I'!E186","v":0},null,""]
[null,"Остеонекроза M87","174",{"$f":"'5 I'!D187+'6 I'!D187","v":0},{"$f":"'5 I'!F187+'6 I'!E187","v":0},null,""]
[null,"Юношеска остеохондроза M91, М92","175",{"$f":"'5 I'!D188+'6 I'!D188","v":0},{"$f":"'5 I'!F188+'6 I'!E188","v":0},null,""]
[null,"ХIV. Болести на пикочо-половата система N00–N99 ","176",{"$f":"'5 I'!D189+'6 I'!D189","v":0},{"$f":"'5 I'!F189+'6 I'!E189","v":0},null,""]
[null,"Болести на пикочната система N00-N39","177",{"$f":"'5 I'!D190+'6 I'!D190","v":0},{"$f":"'5 I'!F190+'6 I'!E190","v":0},null,""]
[null,"Гломерулни болести N00-N08","178",{"$f":"'5 I'!D191+'6 I'!D191","v":0},{"$f":"'5 I'!F191+'6 I'!E191","v":0},null,""]
[null,"Остър нефритен синдром N00","179",{"$f":"'5 I'!D192+'6 I'!D192","v":0},{"$f":"'5 I'!F192+'6 I'!E192","v":0},null,""]
[null,"Тубулоинтерстициални болести на бъбреците N10–N16 ","180",{"$f":"'5 I'!D193+'6 I'!D193","v":0},{"$f":"'5 I'!F193+'6 I'!E193","v":0},null,""]
[null,"Тубулоинтерстициален нефрит N10-N12","181",{"$f":"'5 I'!D194+'6 I'!D194","v":0},{"$f":"'5 I'!F194+'6 I'!E194","v":0},null,""]
[null,"Остър тубулоинтерстициален нефрит N10","182",{"$f":"'5 I'!D195+'6 I'!D195","v":0},{"$f":"'5 I'!F195+'6 I'!E195","v":0},null,""]
[null,"Хроничен тубулоинтерстициален нефрит N11 ","183",{"$f":"'5 I'!D196+'6 I'!D196","v":0},{"$f":"'5 I'!F196+'6 I'!E196","v":0},null,""]
[null,"Обструктивна и рефлуксна нефропатия N13","184",{"$f":"'5 I'!D197+'6 I'!D197","v":0},{"$f":"'5 I'!F197+'6 I'!E197","v":0},null,""]
[null,"Остра бъбречна недостатъчност N17","185",{"$f":"'5 I'!D198+'6 I'!D198","v":0},{"$f":"'5 I'!F198+'6 I'!E198","v":0},null,""]
[null,"Хронична бъбречна недостатъчност N18, N19","186",{"$f":"'5 I'!D199+'6 I'!D199","v":0},{"$f":"'5 I'!F199+'6 I'!E199","v":0},null,""]
[null,"Бъбречно-каменна болест N20-N23","187",{"$f":"'5 I'!D200+'6 I'!D200","v":0},{"$f":"'5 I'!F200+'6 I'!E200","v":0},null,""]
[null,"Цистит N30","188",{"$f":"'5 I'!D201+'6 I'!D201","v":0},{"$f":"'5 I'!F201+'6 I'!E201","v":0},null,""]
[null,"Уретрит и уретрален синдром N34","189",{"$f":"'5 I'!D202+'6 I'!D202","v":0},{"$f":"'5 I'!F202+'6 I'!E202","v":0},null,""]
[null,"Хиперплазия на простатата N40","190",{"$f":"'5 I'!D203+'6 I'!D203","v":0},{"$f":"'5 I'!F203+'6 I'!E203","v":0},null,""]
[null,"Хидроцеле и сперматоцеле N43","191",{"$f":"'5 I'!D204+'6 I'!D204","v":0},{"$f":"'5 I'!F204+'6 I'!E204","v":0},null,""]
[null,"Болести на млечните жлези N60-N64","192",{"$f":"'5 I'!D205+'6 I'!D205","v":0},{"$f":"'5 I'!F205+'6 I'!E205","v":0},null,""]
[null,"Салпингит и оофорит N70","193",{"$f":"'5 I'!D206+'6 I'!D206","v":0},{"$f":"'5 I'!F206+'6 I'!E206","v":0},null,""]
[null,"Възпалителна болест на шийката на матката N72","194",{"$f":"'5 I'!D207+'6 I'!D207","v":0},{"$f":"'5 I'!F207+'6 I'!E207","v":0},null,{"$f":"IF(D207<E207,\"грешка\",\"\")","v":""}]
[null,"Пролапс на женските полови органи N81 ","195",{"$f":"'5 I'!D208+'6 I'!D208","v":0},{"$f":"'5 I'!F208+'6 I'!E208","v":0},null,""]
[null,"Невъзпалителни болести на шийката на матката N86–N88 ","196",{"$f":"'5 I'!D209+'6 I'!D209","v":0},{"$f":"'5 I'!F209+'6 I'!E209","v":0},null,""]
[null,"ХV. Бременност, раждане и послеродов период O00–O99 ","197",{"$f":"'5 I'!D210+'6 I'!D210","v":0},{"$f":"'5 I'!F210+'6 I'!E210","v":0},null,""]
[null,"Бременност, завършваща с аборт O00-O08","198",{"$f":"'5 I'!D211+'6 I'!D211","v":0},{"$f":"'5 I'!F211+'6 I'!E211","v":0},null,""]
[null,"Усложнения след аборт, извънматочна и гроздовидна бременност O08","199",{"$f":"'5 I'!D212+'6 I'!D212","v":0},{"$f":"'5 I'!F212+'6 I'!E212","v":0},null,""]
[null,"Отоци, протеинурия и хипертонични усложнения по време на бременността, раждането и послеродовия период O10–O16","200",{"$f":"'5 I'!D213+'6 I'!D213","v":0},{"$f":"'5 I'!F213+'6 I'!E213","v":0},null,""]
[null,"Еклампсия O15","201",{"$f":"'5 I'!D214+'6 I'!D214","v":0},{"$f":"'5 I'!F214+'6 I'!E214","v":0},null,""]
[null,"Други болести на майката, свързани предимно с бременността O20–O29 ","202",{"$f":"'5 I'!D215+'6 I'!D215","v":0},{"$f":"'5 I'!F215+'6 I'!E215","v":0},null,""]
[null,"Ексцесивно повръщане по време на бременността O21 ","203",{"$f":"'5 I'!D216+'6 I'!D216","v":0},{"$f":"'5 I'!F216+'6 I'!E216","v":0},null,""]
[null,"Медицински грижи за майката, свързани със състоянието на плода и околоплодния мехур и възможни усложнения в хода на родоразрешаването O30–O48","204",{"$f":"'5 I'!D217+'6 I'!D217","v":0},{"$f":"'5 I'!F217+'6 I'!E217","v":0},null,""]
[null,"Предлежаща плацента, преждевременно отлепване на плацентата и кръвотечение преди раждането O44–O46","205",{"$f":"'5 I'!D218+'6 I'!D218","v":0},{"$f":"'5 I'!F218+'6 I'!E218","v":0},null,""]
[null,"Усложнения, свързани предимно с послеродовия период O85–O92","206",{"$f":"'5 I'!D219+'6 I'!D219","v":0},{"$f":"'5 I'!F219+'6 I'!E219","v":0},null,""]
[null,"ХVI. Някои състояния, възникващи през перинаталния период P00–P96 ","207",{"$f":"'5 I'!D220+'6 I'!D220","v":0},{"$f":"'5 I'!F220+'6 I'!E220","v":0},null,""]
[null,"Увреждания на плода и новороденото от патологични състояния на майката, усложнения на бременността, раждането и родоразрешаването P00–P04","208",{"$f":"'5 I'!D221+'6 I'!D221","v":0},{"$f":"'5 I'!F221+'6 I'!E221","v":0},null,""]
[null,"Забавен фетален растеж, хипотрофия на плода и разстройства, свързани със скъсяване срока на бременността и ниско тегло при раждане P05–P07 ","209",{"$f":"'5 I'!D222+'6 I'!D222","v":0},{"$f":"'5 I'!F222+'6 I'!E222","v":0},null,""]
[null,"Родова травма P10-P15","210",{"$f":"'5 I'!D223+'6 I'!D223","v":0},{"$f":"'5 I'!F223+'6 I'!E223","v":0},null,""]
[null,"Вътреутробна хипоксия и асфиксия по време на раждането P20, P21 ","211",{"$f":"'5 I'!D224+'6 I'!D224","v":0},{"$f":"'5 I'!F224+'6 I'!E224","v":0},null,""]
[null,"Други респираторни състояния, възникващи в перинаталния период P22–P28 ","212",{"$f":"'5 I'!D225+'6 I'!D225","v":0},{"$f":"'5 I'!F225+'6 I'!E225","v":0},null,""]
[null,"Неонатални аспирационни синдроми P24","213",{"$f":"'5 I'!D226+'6 I'!D226","v":0},{"$f":"'5 I'!F226+'6 I'!E226","v":0},null,""]
[null,"Инфекциозни болести, характерни за перинаталния период P35–P39 ","214",{"$f":"'5 I'!D227+'6 I'!D227","v":0},{"$f":"'5 I'!F227+'6 I'!E227","v":0},null,""]
[null,"Хеморагични нарушения у плода и новороденото P50–P54","215",{"$f":"'5 I'!D228+'6 I'!D228","v":0},{"$f":"'5 I'!F228+'6 I'!E228","v":0},null,""]
[null,"Хемолитична болест на плода и новороденото P55 ","216",{"$f":"'5 I'!D229+'6 I'!D229","v":0},{"$f":"'5 I'!F229+'6 I'!E229","v":0},null,""]
[null,"ХVII. Вродени аномалии [пороци на развитието], деформации и хромозомни аберации Q00–Q99 ","217",{"$f":"'5 I'!D230+'6 I'!D230","v":0},{"$f":"'5 I'!F230+'6 I'!E230","v":0},null,""]
[null,"Вродена хидроцефалия и Spina bifida Q03, Q05 ","218",{"$f":"'5 I'!D231+'6 I'!D231","v":0},{"$f":"'5 I'!F231+'6 I'!E231","v":0},null,""]
[null,"Други вродени аномалии [пороци на развитието]  на нервната система Q00-Q02, Q04, Q06, Q07","219",{"$f":"'5 I'!D232+'6 I'!D232","v":0},{"$f":"'5 I'!F232+'6 I'!E232","v":0},null,""]
[null,"Вродени аномалии [пороци на развитието] на системата на кръвообращението Q20–Q28","220",{"$f":"'5 I'!D233+'6 I'!D233","v":0},{"$f":"'5 I'!F233+'6 I'!E233","v":0},null,""]
[null,"Цепка на устната и небцето  [заешка устна и вълча уста] Q35-Q37","221",{"$f":"'5 I'!D234+'6 I'!D234","v":0},{"$f":"'5 I'!F234+'6 I'!E234","v":0},null,""]
[null,"Вродена липса, атрезия и стеноза на тънко черво Q41 ","222",{"$f":"'5 I'!D235+'6 I'!D235","v":0},{"$f":"'5 I'!F235+'6 I'!E235","v":0},null,""]
[null,"Недесцендирал тестис Q53","223",{"$f":"'5 I'!D236+'6 I'!D236","v":0},{"$f":"'5 I'!F236+'6 I'!E236","v":0},null,""]
[null,"Вродени аномалии [пороци на развитието] и деформации на костно-мускулната система Q65–Q79 ","224",{"$f":"'5 I'!D237+'6 I'!D237","v":0},{"$f":"'5 I'!F237+'6 I'!E237","v":0},null,""]
[null,"Вродени деформации на бедрото Q65","225",{"$f":"'5 I'!D238+'6 I'!D238","v":0},{"$f":"'5 I'!F238+'6 I'!E238","v":0},null,""]
[null,"Вродени деформации на стъпалото Q66","226",{"$f":"'5 I'!D239+'6 I'!D239","v":0},{"$f":"'5 I'!F239+'6 I'!E239","v":0},null,""]
[null,"Синдром на Down Q90","227",{"$f":"'5 I'!D240+'6 I'!D240","v":0},{"$f":"'5 I'!F240+'6 I'!E240","v":0},null,""]
[null,"ХVIII. Симптоми, признаци и отклонения от нормата, открити при клинични и лабораторни изследвания, некласифицирани другаде R00–R99","228",{"$f":"'5 I'!D241+'6 I'!D241","v":0},{"$f":"'5 I'!F241+'6 I'!E241","v":0},null,""]
[null,"Болки в областта на корема и таза R10","229",{"$f":"'5 I'!D242+'6 I'!D242","v":0},{"$f":"'5 I'!F242+'6 I'!E242","v":0},null,""]
[null,"Гадене и повръщане R11","230",{"$f":"'5 I'!D243+'6 I'!D243","v":0},{"$f":"'5 I'!F243+'6 I'!E243","v":0},null,""]
[null,"Главоболие R51","231",{"$f":"'5 I'!D244+'6 I'!D244","v":0},{"$f":"'5 I'!F244+'6 I'!E244","v":0},null,""]
[null,"Припадък [синкоп] и колапс R55","232",{"$f":"'5 I'!D245+'6 I'!D245","v":0},{"$f":"'5 I'!F245+'6 I'!E245","v":0},null,""]
[null,"Отклонения от нормата, открити при получаване на диагностични изображения и провеждане на изследвания, при липса на установена диагноза R90–R94 ","233",{"$f":"'5 I'!D246+'6 I'!D246","v":0},{"$f":"'5 I'!F246+'6 I'!E246","v":0},null,""]
[null,"ХIX. Травми, отравяния и някои други последици от въздействието на външни причини S00–T98","234",{"$f":"'5 I'!D247+'6 I'!D247","v":0},{"$f":"'5 I'!F247+'6 I'!E247","v":0},null,""]
[null,"Травми на главата и шията S00-S19","235",{"$f":"'5 I'!D248+'6 I'!D248","v":0},{"$f":"'5 I'!F248+'6 I'!E248","v":0},null,""]
[null,"От тях: счупвания S02, S12","236",{"$f":"'5 I'!D249+'6 I'!D249","v":0},{"$f":"'5 I'!F249+'6 I'!E249","v":0},null,""]
[null,"Мозъчно сътресение S06.0","237",{"$f":"'5 I'!D250+'6 I'!D250","v":0},{"$f":"'5 I'!F250+'6 I'!E250","v":0},null,""]
[null,"Травми на гръдния кош, корема, поясния отдел на гръбначния стълб и таза S20–S39 ","238",{"$f":"'5 I'!D251+'6 I'!D251","v":0},{"$f":"'5 I'!F251+'6 I'!E251","v":0},null,""]
[null,"От тях: счупвания S22, S32","239",{"$f":"'5 I'!D252+'6 I'!D252","v":0},{"$f":"'5 I'!F252+'6 I'!E252","v":0},null,""]
[null,"Травми на раменен пояс и горен крайник S40–S69 ","240",{"$f":"'5 I'!D253+'6 I'!D253","v":0},{"$f":"'5 I'!F253+'6 I'!E253","v":0},null,""]
[null,"От тях: счупвания S42,S52,S62","241",{"$f":"'5 I'!D254+'6 I'!D254","v":0},{"$f":"'5 I'!F254+'6 I'!E254","v":0},null,""]
[null,"Травми на тазобедрената става и долен крайник S70–S99 ","242",{"$f":"'5 I'!D255+'6 I'!D255","v":0},{"$f":"'5 I'!F255+'6 I'!E255","v":0},null,""]
[null,"От тях: счупвания S72,S82,S92","243",{"$f":"'5 I'!D256+'6 I'!D256","v":0},{"$f":"'5 I'!F256+'6 I'!E256","v":0},null,""]
[null,"Травми, обхващащи няколко области от тялото Т00–Т07 ","244",{"$f":"'5 I'!D257+'6 I'!D257","v":0},{"$f":"'5 I'!F257+'6 I'!E257","v":0},null,""]
[null,"Последици от проникване на чуждо тяло през естествени отвори Т15–Т19","245",{"$f":"'5 I'!D258+'6 I'!D258","v":0},{"$f":"'5 I'!F258+'6 I'!E258","v":0},null,""]
[null,"Термични и химични изгаряния Т20–Т32","246",{"$f":"'5 I'!D259+'6 I'!D259","v":0},{"$f":"'5 I'!F259+'6 I'!E259","v":0},null,""]
[null,"Измръзване Т33–Т35","247",{"$f":"'5 I'!D260+'6 I'!D260","v":0},{"$f":"'5 I'!F260+'6 I'!E260","v":0},null,""]
[null,"Отравяния и токсични въздействия Т36–Т65","248",{"$f":"'5 I'!D261+'6 I'!D261","v":0},{"$f":"'5 I'!F261+'6 I'!E261","v":0},null,""]
[null,"Токсично въздействие на разяждащи вещества Т54 ","249",{"$f":"'5 I'!D262+'6 I'!D262","v":0},{"$f":"'5 I'!F262+'6 I'!E262","v":0},null,""]
[null,"Токсично въздействие на други отровни вещества, съдържащи се в изядени хранителни продукти Т62","250",{"$f":"'5 I'!D263+'6 I'!D263","v":0},{"$f":"'5 I'!F263+'6 I'!E263","v":0},null,""]
[null,"Топлинен и слънчев удар Т67.0","251",{"$f":"'5 I'!D264+'6 I'!D264","v":0},{"$f":"'5 I'!F264+'6 I'!E264","v":0},null,""]
[null,"Синдром на малтретиране Т74","252",{"$f":"'5 I'!D265+'6 I'!D265","v":0},{"$f":"'5 I'!F265+'6 I'!E265","v":0},null,""]
[null,"ХXІІ. Кодове за специални цели U00–U85","253",{"$f":"'5 I'!D266+'6 I'!D266","v":0},{"$f":"'5 I'!F266+'6 I'!E266","v":0},null,""]
[null,"Нови заболявания с несигурна етиология или спешна употреба - временни кодове U00-U49","254",{"$f":"'5 I'!D267+'6 I'!D267","v":0},{"$f":"'5 I'!F267+'6 I'!E267","v":0},null,""]
[null,"Кодове за спешна употреба U07","255",{"$f":"'5 I'!D268+'6 I'!D268","v":0},{"$f":"'5 I'!F268+'6 I'!E268","v":0},null,""]
[null,"COVID-19, идентифициран вирус U07.1","256",{"$f":"'5 I'!D269+'6 I'!D269","v":0},{"$f":"'5 I'!F269+'6 I'!E269","v":0},null,""]
[null,"COVID-19, неидентифициран вирус U07.2","257",{"$f":"'5 I'!D270+'6 I'!D270","v":0},{"$f":"'5 I'!F270+'6 I'!E270","v":0},null,""]
[null,"В лична анамнеза има COVID-19 U08","258",{"$f":"'5 I'!D271+'6 I'!D271","v":0},{"$f":"'5 I'!F271+'6 I'!E271","v":0},null,""]
[null,"В лична анамнеза има COVID-19, неуточнен U08.9","259",{"$f":"'5 I'!D272+'6 I'!D272","v":0},{"$f":"'5 I'!F272+'6 I'!E272","v":0},null,{"$f":"IF(D272<E272,\"грешка\",\"\")","v":""}]
[null,"Състояние след прекаран COVID-19 U09","260",{"$f":"'5 I'!D273+'6 I'!D273","v":0},{"$f":"'5 I'!F273+'6 I'!E273","v":0},null,""]
[null,"Състояние след прекаран COVID-19, неуточнен U09.9","261",{"$f":"'5 I'!D274+'6 I'!D274","v":0},{"$f":"'5 I'!F274+'6 I'!E274","v":0},null,""]
[null,"Мултисистемен възпалителен синдром, свързан с COVID-19 U10","262",{"$f":"'5 I'!D275+'6 I'!D275","v":0},{"$f":"'5 I'!F275+'6 I'!E275","v":0},null,""]
[null,"Мултисистемен възпалителен синдром, свързан с  COVID-19, неуточнен U10.9","263",{"$f":"'5 I'!D276+'6 I'!D276","v":0},{"$f":"'5 I'!F276+'6 I'!E276","v":0},null,""]
[null,"Необходимост от имунизация срещу COVID-19 U11","264",{"$f":"'5 I'!D277+'6 I'!D277","v":0},{"$f":"'5 I'!F277+'6 I'!E277","v":0},null,""]
[null,"Необходимост от имунизация срещу COVID-19, неуточнен U11.9","265",{"$f":"'5 I'!D278+'6 I'!D278","v":0},{"$f":"'5 I'!F278+'6 I'!E278","v":0},null,""]
[null,"Неблагоприятни реакции при терапевтично прилагане на ваксини за COVID-19 U12","266",{"$f":"'5 I'!D279+'6 I'!D279","v":0},{"$f":"'5 I'!F279+'6 I'!E279","v":0},null,""]
[null,"Неблагоприятни реакции при терапевтично прилагане на ваксини заCOVID-19, неуточнен U12.9","267",{"$f":"'5 I'!D280+'6 I'!D280","v":0},{"$f":"'5 I'!F280+'6 I'!E280","v":0},null,""]
[]
[]
["ВЕРТИКАЛЕН КОНТРОЛ:"]
[null,"ш.001= ш.002+ш.011+ш.014+ш.022+ш.035+ш.057+ш.073+ш.087+ ш.097+ш.119+ш.137+ш.151+ш.158+ш.176+ш.197+ш.207+ш.217+ш.228+ш.234+ш.253",null,{"$f":"IF(D14=D15+D24+D27+D35+D48+D70+D86+D100+D110+D132+D150+D164+D171+D189+D210+D220+D230+D241+D247+D266,\"\",\"грешка\")","v":""},{"$f":"IF(E14=E15+E24+E27+E35+E48+E70+E86+E100+E110+E132+E150+E164+E171+E189+E210+E220+E230+E241+E247+E266,\"\",\"грешка\")","v":""}]
[null,"ш.002і   ш.003+ ш.006 до ш.008",null,{"$f":"IF(D15<D16+D19+D20+D21+D22+D23,\"грешка\",\"\")","v":""},{"$f":"IF(E15<E16+E19+E20+E21+E22+E23,\"грешка\",\"\")","v":""}]
[null,"ш.003і   ш.004 + ш.005",null,{"$f":"IF(D16<D17+D18,\"грешка\",\"\")","v":""},{"$f":"IF(E16<E17+E18,\"грешка\",\"\")","v":""}]
[null,"ш.011і   ш.012 + ш.013",null,{"$f":"IF(D24<D25+D26,\"грешка\",\"\")","v":""},{"$f":"IF(E24<E25+E26,\"грешка\",\"\")","v":""}]
[null,"ш.014і   ш.015+ш.017+ ш.018+ш.020+ ш.021",null,{"$f":"IF(D27<D28+D30+D31+D33+D34,\"грешка\",\"\")","v":""},{"$f":"IF(E27<E28+E30+E31+E33+E34,\"грешка\",\"\")","v":""}]
[null,"ш.015і   ш.016",null,{"$f":"IF(D28<D29,\"грешка\",\"\")","v":""},{"$f":"IF(E28<E29,\"грешка\",\"\")","v":""}]
[null,"ш.018і   ш.019",null,{"$f":"IF(D31<D32,\"грешка\",\"\")","v":""},{"$f":"IF(E31<E32,\"грешка\",\"\")","v":""}]
[null,"ш.022і   сумата от ш.023 до ш.027 + ш.030 до ш.034",null,{"$f":"IF(D35<D36+D37+D38+D39+D40+D43+D44+D45+D46+D47,\"грешка\",\"\")","v":""},{"$f":"IF(E35<E36+E37+E38+E39+E40+E43+E44+E45+E46+E47,\"грешка\",\"\")","v":""}]
[null,"ш.027і   ш.028 + ш.029",null,{"$f":"IF(D40<D41+D42,\"грешка\",\"\")","v":""},{"$f":"IF(E40<E41+E42,\"грешка\",\"\")","v":""}]
[null,"ш.035і   сумата от ш.036 до ш.041 + ш.044 + ш.048 до ш.056",null,{"$f":"IF(D48<D49+D50+D51+D52+D53+D54+D57+D61+D62+D63+D64+D65+D66+D67+D68+D69,\"грешка\",\"\")","v":""},{"$f":"IF(E48<E49+E50+E51+E52+E53+E54+E57+E61+E62+E63+E64+E65+E66+E67+E68+E69,\"грешка\",\"\")","v":""}]
[null,"ш.041і   ш.042+ш.043",null,{"$f":"IF(D54<D55+D56,\"грешка\",\"\")","v":""},{"$f":"IF(E54<E55+E56,\"грешка\",\"\")","v":""}]
[null,"ш.044і   ш.045+ш.046+ш.047",null,{"$f":"IF(D57<D58+D59+D60,\"грешка\",\"\")","v":""},{"$f":"IF(E57<E58+E59+E60,\"грешка\",\"\")","v":""}]
[null,"ш.057і   сумата от ш.058 до ш.072",null,{"$f":"IF(D70<D71+D72+D73+D74+D75+D76+D77+D78+D79+D80+D81+D82+D83+D84+D85,\"грешка\",\"\")","v":""},{"$f":"IF(E70<E71+E72+E73+E74+E75+E76+E77+E78+E79+E80+E81+E82+E83+E84+E85,\"грешка\",\"\")","v":""}]
[null,"ш.073і   ш.074+ш.076+ш.077+ш.080 до ш.086",null,{"$f":"IF(D86<D87+D89+D90+D93+D94+D95+D96+D97+D98+D99,\"грешка\",\"\")","v":""},{"$f":"IF(E86<E87+E89+E90+E93+E94+E95+E96+E97+E98+E99,\"грешка\",\"\")","v":""}]
[null,"ш.074і   ш.075",null,{"$f":"IF(D87<D88,\"грешка\",\"\")","v":""},{"$f":"IF(E87<E88,\"грешка\",\"\")","v":""}]
[null,"ш.077і   ш.078+ш.079",null,{"$f":"IF(D90<D91+D92,\"грешка\",\"\")","v":""},{"$f":"IF(E90<E91+E92,\"грешка\",\"\")","v":""}]
[null,"ш.087і   ш.088+ш.093+ш.095+ш.096",null,{"$f":"IF(D100<D101+D106+D108+D109,\"грешка\",\"\")","v":""},{"$f":"IF(E100<E101+E106+E108+E109,\"грешка\",\"\")","v":""}]
[null,"ш.088і   ш.089+ш.090+ш.091+ш.092",null,{"$f":"IF(D101<D102+D103+D104+D105,\"грешка\",\"\")","v":""},{"$f":"IF(E101<E102+E103+E104+E105,\"грешка\",\"\")","v":""}]
[null,"ш.093і   ш.094",null,{"$f":"IF(D106<D107,\"грешка\",\"\")","v":""},{"$f":"IF(E106<E107,\"грешка\",\"\")","v":""}]
[null,"ш.097і   ш.098+ш.099+ш.100+ш.102+ш.105+ш.106+ш.109+ш.110+ш.116+ ш.117+ш.118",null,{"$f":"IF(D110<D111+D112+D113+D115+D118+D119+D122+D123+D129+D130+D131,\"грешка\",\"\")","v":""},{"$f":"IF(E110<E111+E112+E113+E115+E118+E119+E122+E123+E129+E130+E131,\"грешка\",\"\")","v":""}]
[null,"ш.100і   ш.101",null,{"$f":"IF(D113<D114,\"грешка\",\"\")","v":""},{"$f":"IF(E113<E114,\"грешка\",\"\")","v":""}]
[null,"ш.102і   ш.103+ш.104",null,{"$f":"IF(D115<D116+D117,\"грешка\",\"\")","v":""},{"$f":"IF(E115<E116+E117,\"грешка\",\"\")","v":""}]
[null,"ш.106і   ш.107 + ш.108",null,{"$f":"IF(D119<D120+D121,\"грешка\",\"\")","v":""},{"$f":"IF(E119<E120+E121,\"грешка\",\"\")","v":""}]
[null,"ш.110і   ш.111 до ш.115",null,{"$f":"IF(D123<D124+D125+D126+D127+D128,\"грешка\",\"\")","v":""},{"$f":"IF(E123<E124+E125+E126+E127+E128,\"грешка\",\"\")","v":""}]
[null,"ш.119і   сумата от ш.120 до ш.125 + ш.129 до ш.136",null,{"$f":"IF(D132<D133+D134+D135+D136+D137+D138+D142+D143+D144+D145+D146+D147+D148+D149,\"грешка\",\"\")","v":""},{"$f":"IF(E132<E133+E134+E135+E136+E137+E138+E142+E143+E144+E145+E146+E147+E148+E149,\"грешка\",\"\")","v":""}]
[null,"ш.125і   сумата от ш.126 до ш.128",null,{"$f":"IF(D138<D139+D140+D141,\"грешка\",\"\")","v":""},{"$f":"IF(E138<E139+E140+E141,\"грешка\",\"\")","v":""}]
[null,"ш.137і   сумата от ш.138 до ш.141 + ш.143 до ш.147+ш.150",null,{"$f":"IF(D150<D151+D152+D153+D154+D156+D157+D158+D159+D160+D163,\"грешка\",\"\")","v":""},{"$f":"IF(E150<E151+E152+E153+E154+E156+E157+E158+E159+E160+E163,\"грешка\",\"\")","v":""}]
[null,"ш.141і   ш.142",null,{"$f":"IF(D154<D155,\"грешка\",\"\")","v":""},{"$f":"IF(E154<E155,\"грешка\",\"\")","v":""}]
[null,"ш.147і   ш.148+ш.149",null,{"$f":"IF(D160<D161+D162,\"грешка\",\"\")","v":""},{"$f":"IF(E160<E161+E162,\"грешка\",\"\")","v":""}]
[null,"ш.151і   ш.152+ш.153+ш.155+ш.156",null,{"$f":"IF(D164<D165+D166+D168+D169,\"грешка\",\"\")","v":""},{"$f":"IF(E164<E165+E166+E168+E169,\"грешка\",\"\")","v":""}]
[null,"ш.153і   ш.154",null,{"$f":"IF(D166<D167,\"грешка\",\"\")","v":""},{"$f":"IF(E166<E167,\"грешка\",\"\")","v":""}]
[null,"ш.156і   ш.157",null,{"$f":"IF(D169<D170,\"грешка\",\"\")","v":""},{"$f":"IF(E169<E170,\"грешка\",\"\")","v":""}]
[null,"ш.158і   ш.159+ш.161+ш.164+ш.167+ш.168+ш.170+ш.172+ш.175",null,{"$f":"IF(D171<D172+D174+D177+D180+D181+D183+D184+D185+D188,\"грешка\",\"\")","v":""},{"$f":"IF(E171<E172+E174+E177+E180+E181+E183+E184+E185+E188,\"грешка\",\"\")","v":""}]
[null,"ш.159і   ш.160",null,{"$f":"IF(D172<D173,\"грешка\",\"\")","v":""},{"$f":"IF(E172<E173,\"грешка\",\"\")","v":""}]
[null,"ш.161і   ш.162+ш.163",null,{"$f":"IF(D174<D175+D176,\"грешка\",\"\")","v":""},{"$f":"IF(E174<E175+E176,\"грешка\",\"\")","v":""}]
[null,"ш.164і   ш.165+ш.166",null,{"$f":"IF(D177<D178+D179,\"грешка\",\"\")","v":""},{"$f":"IF(E177<E178+E179,\"грешка\",\"\")","v":""}]
[null,"ш.168і   ш.169",null,{"$f":"IF(D181<D182,\"грешка\",\"\")","v":""},{"$f":"IF(E181<E182,\"грешка\",\"\")","v":""}]
[null,"ш.172і   ш.173+ш.174",null,{"$f":"IF(D185<D186+D187,\"грешка\",\"\")","v":""},{"$f":"IF(E185<E186+E187,\"грешка\",\"\")","v":""}]
[null,"ш.176і   ш.177+ш.190 до ш.196",null,{"$f":"IF(D189<D190+D203+D204+D205+D206+D207+D208+D209,\"грешка\",\"\")","v":""},{"$f":"IF(E189<E190+E203+E204+E205+E206+E207+E208+E209,\"грешка\",\"\")","v":""}]
[null,"ш.177і   сумата от ш.178+ш.180+ш.185 до ш.189",null,{"$f":"IF(D190<D191+D193+D198+D199+D200+D201+D202,\"грешка\",\"\")","v":""},{"$f":"IF(E190<E191+E193+E198+E199+E200+E201+E202,\"грешка\",\"\")","v":""}]
[null,"ш.178і   ш.179",null,{"$f":"IF(D191<D192,\"грешка\",\"\")","v":""},{"$f":"IF(E191<E192,\"грешка\",\"\")","v":""}]
[null,"ш.180і   ш.181+ш.184",null,{"$f":"IF(D193<D194+D197,\"грешка\",\"\")","v":""},{"$f":"IF(E193<E194+E197,\"грешка\",\"\")","v":""}]
[null,"ш.181і   ш.182+ш.183",null,{"$f":"IF(D194<D195+D196,\"грешка\",\"\")","v":""},{"$f":"IF(E194<E195+E196,\"грешка\",\"\")","v":""}]
[null,"ш.197і   ш.198+ш.200+ш.202+ш.204+ш.206",null,{"$f":"IF(D210<D211+D213+D215+D217+D219,\"грешка\",\"\")","v":""},{"$f":"IF(E210<E211+E213+E215+E217+E219,\"грешка\",\"\")","v":""}]
[null,"ш.198і   ш.199",null,{"$f":"IF(D211<D212,\"грешка\",\"\")","v":""},{"$f":"IF(E211<E212,\"грешка\",\"\")","v":""}]
[null,"ш.200і   ш.201",null,{"$f":"IF(D213<D214,\"грешка\",\"\")","v":""},{"$f":"IF(E213<E214,\"грешка\",\"\")","v":""}]
[null,"ш.202і   ш.203",null,{"$f":"IF(D215<D216,\"грешка\",\"\")","v":""},{"$f":"IF(E215<E216,\"грешка\",\"\")","v":""}]
[null,"ш.204і   ш.205",null,{"$f":"IF(D217<D218,\"грешка\",\"\")","v":""},{"$f":"IF(E217<E218,\"грешка\",\"\")","v":""}]
[null,"ш.207і  сумата от ш.208 до ш.212 + ш.214 до 216",null,{"$f":"IF(D220<D221+D222+D223+D224+D225+D227+D228+D229,\"грешка\",\"\")","v":""},{"$f":"IF(E220<E221+E222+E223+E224+E225+E227+E228+E229,\"грешка\",\"\")","v":""}]
[null,"ш.212і   ш.213",null,{"$f":"IF(D225<D226,\"грешка\",\"\")","v":""},{"$f":"IF(E225<E226,\"грешка\",\"\")","v":""}]
[null,"ш.217і  сумата от ш.218 до ш.224 и ш.227",null,{"$f":"IF(D230<D231+D232+D233+D234+D235+D236+D237+D240,\"грешка\",\"\")","v":""},{"$f":"IF(E230<E231+E232+E233+E234+E235+E236+E237+E240,\"грешка\",\"\")","v":""}]
[null,"ш.224і  ш.225 + ш.226",null,{"$f":"IF(D237<D238+D239,\"грешка\",\"\")","v":""},{"$f":"IF(E237<E238+E239,\"грешка\",\"\")","v":""}]
[null,"ш.228і   сумата от ш.229 до ш.223",null,{"$f":"IF(D241<D242+D243+D244+D245+D246,\"грешка\",\"\")","v":""},{"$f":"IF(E241<E242+E243+E244+E245+E246,\"грешка\",\"\")","v":""}]
[null,"ш.234і  ш.235+ш.238+ш.240+ш.242+ш.244 до ш.248+ш.251+ш.252",null,{"$f":"IF(D247<D248+D251+D253+D255+D257+D258+D259+D260+D261+D264+D265,\"грешка\",\"\")","v":""},{"$f":"IF(E247<E248+E251+E253+E255+E257+E258+E259+E260+E261+E264+E265,\"грешка\",\"\")","v":""}]
[null,"ш.235і  ш.236+ш.237",null,{"$f":"IF(D248<D249+D250,\"грешка\",\"\")","v":""},{"$f":"IF(E248<E249+E250,\"грешка\",\"\")","v":""}]
[null,"ш.238і  ш.239",null,{"$f":"IF(D251<D252,\"грешка\",\"\")","v":""},{"$f":"IF(E251<E252,\"грешка\",\"\")","v":""}]
[null,"ш.240і  ш.241",null,{"$f":"IF(D253<D254,\"грешка\",\"\")","v":""},{"$f":"IF(E253<E254,\"грешка\",\"\")","v":""}]
[null,"ш.242і  ш.243",null,{"$f":"IF(D255<D256,\"грешка\",\"\")","v":""},{"$f":"IF(E255<E256,\"грешка\",\"\")","v":""}]
[null,"ш.248і  ш.249 + ш.250",null,{"$f":"IF(D261<D262+D263,\"грешка\",\"\")","v":""},{"$f":"IF(E261<E262+E263,\"грешка\",\"\")","v":""}]
[null,"ш.253і  ш.254",null,{"$f":"IF(D266<D267,\"грешка\",\"\")","v":""},{"$f":"IF(E266<E267,\"грешка\",\"\")","v":""}]
[null,"ш.254і  ш.255+ш.258+ш.260+ш.262+ш.264+ш.266",null,{"$f":"IF(D267<D268+D271+D273+D275+D277+D279,\"грешка\",\"\")","v":""},{"$f":"IF(E267<E268+E271+E273+E275+E277+E279,\"грешка\",\"\")","v":""}]
[null,"ш.255і  ш.256 + ш.257",null,{"$f":"IF(D268<D269+D270,\"грешка\",\"\")","v":""},{"$f":"IF(E268<E269+E270,\"грешка\",\"\")","v":""}]
[null,"ш.258і  ш.259",null,{"$f":"IF(D271<D272,\"грешка\",\"\")","v":""},{"$f":"IF(E271<E272,\"грешка\",\"\")","v":""}]
[null,"ш.260і  ш.261",null,{"$f":"IF(D273<D274,\"грешка\",\"\")","v":""},{"$f":"IF(E273<E274,\"грешка\",\"\")","v":""}]
[null,"ш.262і  ш.263",null,{"$f":"IF(D275<D276,\"грешка\",\"\")","v":""},{"$f":"IF(E275<E276,\"грешка\",\"\")","v":""}]
[null,"ш.264і  ш.265",null,{"$f":"IF(D277<D278,\"грешка\",\"\")","v":""},{"$f":"IF(E277<E278,\"грешка\",\"\")","v":""}]
[null,"ш.266і  ш.267",null,{"$f":"IF(D279<D280,\"грешка\",\"\")","v":""},{"$f":"IF(E279<E280,\"грешка\",\"\")","v":""}]

{"sheet":"Общо ІІ","index":7,"n_rows":34,"n_cols":7,"rows_kept":34,"cut":false,"hidden":false,"merged":[[5,1,5,4],[10,1,11,1],[10,2,11,2],[10,3,10,4]]}
[{"$f":"'5 I'!A1","v":"05"},"Област:",{"$f":"'5 I'!C1","v":"05 Видин                "}]
[{"$f":"'5 I'!A2","v":""},"Лечебно заведение:",{"$f":"'5 I'!C2","v":0}]
[null,"Година:",{"$f":"'5 I'!C3","v":2023}]
[]
[]
[5,"Фактори, влияещи върху здравното състояние на населението и контакта със здравните служби - ОБЩО"]
[]
[null,"Раздел IІ"]
[]
[null,null,null,null,null,null,"ХОРИЗОНТАЛЕН КОНТРОЛ:"]
[null,"НАИМЕНОВАНИЕ НА БОЛЕСТИТЕ ПО МКБ–10","Ши-фър","Регистрирани случаи",null,null,"к.1і   к.2"]
[null,null,null,"всичко","в т.ч. новооткрити заболявания"]
[null,"а","б",1,2]
[null,"ХXI. Фактори, влияещи върху здравното състояние на населението и контакта със здравните служби Z00-Z99","01",{"$f":"'5 II'!D14+'6 II'!D14","v":0},{"$f":"'5 II'!F14+'6 II'!E14","v":0},null,{"$f":"IF(D14<E14,\"грешка\",\"\")","v":""}]
[null,"Лица, обърнали се към здравните служби за медицински преглед и изследване Z00-Z13","02",{"$f":"'5 II'!D15+'6 II'!D15","v":0},{"$f":"'5 II'!F15+'6 II'!E15","v":0},null,{"$f":"IF(D15<E15,\"грешка\",\"\")","v":""}]
[null,"Общ преглед и изследване на лица, които нямат оплаквания или установена диагноза Z00","03",{"$f":"'5 II'!D16+'6 II'!D16","v":0},{"$f":"'5 II'!F16+'6 II'!E16","v":0},null,""]
[null,"Други специални прегледи и изследвания на лица, които нямат оплаквания или установена диагноза Z01","04",{"$f":"'5 II'!D17+'6 II'!D17","v":0},{"$f":"'5 II'!F17+'6 II'!E17","v":0},null,""]
[null,"Изследване и обръщане с административни цели Z02","05",{"$f":"'5 II'!D18+'6 II'!D18","v":0},{"$f":"'5 II'!F18+'6 II'!E18","v":0},null,""]
[null,"Лица, обърнали се към здравни служби във връзка с обстоятелства, отнасящи се до репродуктивната функция Z30-Z39","06",{"$f":"'5 II'!D19+'6 II'!D19","v":0},{"$f":"'5 II'!F19+'6 II'!E19","v":0},null,""]
[null,"Наблюдение върху прилагането на противозачатъчни средства Z30","07",{"$f":"'5 II'!D20+'6 II'!D20","v":0},{"$f":"'5 II'!F20+'6 II'!E20","v":0},null,""]
[null,"Наблюдение върху протичането на нормална бременност Z34","08",{"$f":"'5 II'!D21+'6 II'!D21","v":0},{"$f":"'5 II'!F21+'6 II'!E21","v":0},null,""]
[null,"Грижа за изкуствени отвори Z43","09",{"$f":"'5 II'!D22+'6 II'!D22","v":0},{"$f":"'5 II'!F22+'6 II'!E22","v":0},null,""]
[null,"Помощ, включваща използване на рехабилитационни процедури Z50","10",{"$f":"'5 II'!D23+'6 II'!D23","v":0},null,null,""]
[null,"Рехабилитация при болест на сърцето Z50.0","11",{"$f":"'5 II'!D24+'6 II'!D24","v":0},null,null,""]
[null,"Друг вид физиотерапия Z50.1","12",{"$f":"'5 II'!D25+'6 II'!D25","v":0},null,null,""]
[null,"Рехабилитация на лица, страдащи от алкохолизъм Z50.2","13",{"$f":"'5 II'!D26+'6 II'!D26","v":0},null,null,""]
[null,"Рехабилитация на лица, страдащи от наркомания Z50.3","14",{"$f":"'5 II'!D27+'6 II'!D27","v":0},null,null,""]
[null,"Жертва на престъпление и тероризъм Z65.4","15",{"$f":"'5 II'!D28+'6 II'!D28","v":0},{"$f":"'5 II'!F28+'6 II'!E28","v":0},null,""]
[]
["ВЕРТИКАЛЕН КОНТРОЛ:"]
[null,"ш.01і   ш.02+ш.06+ш.09+ш.10+ш.15",null,{"$f":"IF(D14<D15+D19+D22+D23+D28,\"грешка\",\"\")","v":""},{"$f":"IF(E14<E15+E19+E22+E23+E28,\"грешка\",\"\")","v":""}]
[null,"ш.02і   ш.03+ш.04+ш.05",null,{"$f":"IF(D15<D16+D17+D18,\"грешка\",\"\")","v":""},{"$f":"IF(E15<E16+E17+E18,\"грешка\",\"\")","v":""}]
[null,"ш.06і   ш.07 + ш.08",null,{"$f":"IF(D19<D20+D21,\"грешка\",\"\")","v":""},{"$f":"IF(E19<E20+E21,\"грешка\",\"\")","v":""}]
[null,"ш.10і   ш.11 до ш.014",null,{"$f":"IF(D23<D24+D25+D26+D27,\"грешка\",\"\")","v":""},{"$f":"IF(E23<E24+E25+E26+E27,\"грешка\",\"\")","v":""}]

{"sheet":"Общо ІІІ","index":8,"n_rows":45,"n_cols":7,"rows_kept":45,"cut":false,"hidden":false,"merged":[[42,6,42,8],[43,2,43,4],[43,6,43,8],[44,2,44,4],[44,6,44,8],[5,1,5,3],[10,1,11,1],[10,2,11,2],[10,3,11,3],[42,2,42,4]]}
[{"$f":"'5 I'!A1","v":"05"},"Област:",{"$f":"'5 I'!C1","v":"05 Видин                "}]
[{"$f":"'5 I'!A2","v":""},"Лечебно заведение:",{"$f":"'5 I'!C2","v":0}]
[null,"Година:",{"$f":"'5 I'!C3","v":2023}]
[]
[]
[6,"Външни причини за заболеваемост и смъртност - ОБЩО"]
[]
[null,"Раздел IІІ"]
[]
[]
[null,"НАИМЕНОВАНИЕ  ПО МКБ–10","Ши-фър","Регистрирани случаи"]
[]
[null,"а","б",1]
[null,"ХХ. Външни причини за заболеваемост и смъртност V01–Y98","01",{"$f":"'5 III'!D14+'6 III'!D14","v":0}]
[null,"Злополуки V01–X59","02",{"$f":"'5 III'!D15+'6 III'!D15","v":0}]
[null,"Транспортни злополуки V01–V99","03",{"$f":"'5 III'!D16+'6 III'!D16","v":0}]
[null,"Пешеходец или велосипедист, пострадал при транспортна злополука V01–V19 ","04",{"$f":"'5 III'!D17+'6 III'!D17","v":0}]
[null,"Мотоциклетист; лице, намиращо се в: моторно превозно средство на три колела; лек автомобил; тежкотоварен автомобил; автобус и пострадало при транспортна злополука; злополуки, свързани с други наземни транспортни средства; при воден транспорт; при въздушен транспорт и космически полети, и други V20–V99","05",{"$f":"'5 III'!D18+'6 III'!D18","v":0}]
[null,"Други външни причини за травми при злополуки W00–X59","06",{"$f":"'5 III'!D19+'6 III'!D19","v":0}]
[null,"Падания W00–W19","07",{"$f":"'5 III'!D20+'6 III'!D20","v":0}]
[null,"Въздействие на неживи или живи механични сили W20–W64","08",{"$f":"'5 III'!D21+'6 III'!D21","v":0}]
[null,"Случайно удавяне и потъване във вода и други злополуки със заплаха за дишането W65–W84","09",{"$f":"'5 III'!D22+'6 III'!D22","v":0}]
[null,"Злополуки, предизвикани от въздействие на електрически ток, облъчване и екстремни стойности на температурата на околната среда или атмосферното налягане W85–W99","10",{"$f":"'5 III'!D23+'6 III'!D23","v":0}]
[null,"Въздействие на дим, огън и пламък и съприкосновение с горещи и нажежени вещества (предмети) X00–X19","11",{"$f":"'5 III'!D24+'6 III'!D24","v":0}]
[null,"Контакт с отровни животни и растения X20–X29","12",{"$f":"'5 III'!D25+'6 III'!D25","v":0}]
[null,"Случайно отравяне и въздействие на отровни вещества X40–X49","13",{"$f":"'5 III'!D26+'6 III'!D26","v":0}]
[null,"Умишлено самонараняване X60–X84","14",{"$f":"'5 III'!D27+'6 III'!D27","v":0}]
[null,"Нападение X85–Y09","15",{"$f":"'5 III'!D28+'6 III'!D28","v":0}]
[null,"Законни действия и военни операции Y35–Y36","16",{"$f":"'5 III'!D29+'6 III'!D29","v":0}]
[]
["ВЕРТИКАЛЕН КОНТРОЛ:"]
[null,"ш.01,к.1 ≥ ш.234,к.1, Раздел I  ",null,{"$f":"IF(D14<'5 I'!D247,\"грешка\",\"\")","v":""}]
[]
[null,"ш.01і   ш.02 + ш.14+ ш.15+ ш.16",null,{"$f":"IF(D14<D15+D27+D28+D29,\"грешка\",\"\")","v":""}]
[null,"ш.02=   на сумата от ш.03 и ш.06",null,{"$f":"IF(D15=D16+D19,\"\",\"грешка\")","v":""}]
[null,"ш.03=   на сумата от ш.04 и ш.05",null,{"$f":"IF(D16=D17+D18,\"\",\"грешка\")","v":""}]
[null,"ш.06і   на сумата от ш.07 до ш.13",null,{"$f":"IF(D19<D20+D21+D22+D23+D24+D25+D26,\"грешка\",\"\")","v":""}]
[]
[]
[]
[]
[null,"Данни за лицето попълнило е-формуляр"]
[null,"Име и фамилия",null,null,null,null,{"$f":"IF(C43=\"\",\"попълни име и фамилия\",\"\")","v":"попълни име и фамилия"}]
[null,"телефон",null,null,null,null,{"$f":"IF(C44=\"\",\"попълни телефон\",\"\")","v":"попълни телефон"}]
[null,"е-mail",null,null,null,null,{"$f":"IF(C45=\"\",\"попълни e-mail\",\"\")","v":"попълни e-mail"}]

{"sheet":"obl","index":9,"n_rows":28,"n_cols":2,"rows_kept":28,"cut":false,"hidden":true,"merged":[]}
["01 Благоевград                ","01"]
["02 Бургас       ","02"]
["03 Варна                ","03"]
["04 Велико Търново       ","04"]
["05 Видин                ","05"]
["06 Враца                ","06"]
["07 Габрово              ","07"]
["08 Добрич               ","08"]
["09 Кърджали             ","09"]
["10 Кюстендил            ","10"]
["11 Ловеч                ","11"]
["12 Монтана              ","12"]
["13 Пазарджик            ","13"]
["14 Перник               ","14"]
["15 Плевен               ","15"]
["16 Пловдив              ","16"]
["17 Разград              ","17"]
["18 Русе                 ","18"]
["19 Силистра             ","19"]
["20 Сливен               ","20"]
["21 Смолян               ","21"]
["22 София (столица)      ","22"]
["23 София                ","23"]
["24 Стара Загора         ","24"]
["25 Търговище            ","25"]
["26 Хасково              ","26"]
["27 Шумен                ","27"]
["28 Ямбол                ","28"]

{"sheet":"zav","index":10,"n_rows":196,"n_cols":3,"rows_kept":196,"cut":false,"hidden":true,"merged":[]}
["01","01  Индивидуални практики за ПМП - Благоевград","111"]
["01","01  Групови практики за ПМП - Благоевград","131"]
["01","01  Индивидуални практики за СМП - Благоевград","211"]
["01","01  Групови практики за СМП - Благоевград","231"]
["01","01  Медицински центрове - Благоевград","251"]
["01","01  Медико-дентални центрове - Благоевград","270"]
["01","01  Диагностично-консултативни центрове - Благоевград","281"]
["02","02  Индивидуални практики за ПМП - Бургас","111"]
["02","02  Групови практики за ПМП - Бургас","131"]
["02","02  Индивидуални практики за СМП - Бургас","211"]
["02","02  Групови практики за СМП - Бургас","231"]
["02","02  Медицински центрове - Бургас","251"]
["02","02  Медико-дентални центрове - Бургас","270"]
["02","02  Диагностично-консултативни центрове - Бургас","281"]
["03","03  Индивидуални практики за ПМП - Варна","111"]
["03","03  Групови практики за ПМП - Варна","131"]
["03","03  Индивидуални практики за СМП - Варна","211"]
["03","03  Групови практики за СМП - Варна","231"]
["03","03  Медицински центрове - Варна","251"]
["03","03  Медико-дентални центрове - Варна","270"]
["03","03  Диагностично-консултативни центрове - Варна","281"]
["04","04  Индивидуални практики за ПМП - В. Търново","111"]
["04","04  Групови практики за ПМП - В. Търново","131"]
["04","04  Индивидуални практики за СМП - В. Търново","211"]
["04","04  Групови практики за СМП - В. Търново","231"]
["04","04  Медицински центрове - В. Търново","251"]
["04","04  Медико-дентални центрове - В. Търново","270"]
["04","04  Диагностично-консултативни центрове - В. Търново","281"]
["05","05  Индивидуални практики за ПМП - Видин","111"]
["05","05  Групови практики за ПМП - Видин","131"]
["05","05  Индивидуални практики за СМП - Видин","211"]
["05","05  Групови практики за СМП - Видин","231"]
["05","05  Медицински центрове - Видин","251"]
["05","05  Медико-дентални центрове - Видин","270"]
["05","05  Диагностично-консултативни центрове - Видин","281"]
["06","06  Индивидуални практики за ПМП - Враца","111"]
["06","06  Групови практики за ПМП - Враца","131"]
["06","06  Индивидуални практики за СМП - Враца","211"]
["06","06  Групови практики за СМП - Враца","231"]
["06","06  Медицински центрове - Враца","251"]
["06","06  Медико-дентални центрове - Враца","270"]
["06","06  Диагностично-консултативни центрове - Враца","281"]
["07","07  Индивидуални практики за ПМП - Габрово","111"]
["07","07  Групови практики за ПМП - Габрово","131"]
["07","07  Индивидуални практики за СМП - Габрово","211"]
["07","07  Групови практики за СМП - Габрово","231"]
["07","07  Медицински центрове - Габрово","251"]
["07","07  Медико-дентални центрове - Габрово","270"]
["07","07  Диагностично-консултативни центрове - Габрово","281"]
["08","08  Индивидуални практики за ПМП - Добрич","111"]
["08","08   Групови практики за ПМП - Добрич","131"]
["08","08   Индивидуални практики за СМП - Добрич","211"]
["08","08   Групови практики за СМП - Добрич","231"]
["08","08   Медицински центрове - Добрич","251"]
["08","08   Медико-дентални центрове - Добрич","270"]
["08","08   Диагностично-консултативни центрове - Добрич","281"]
["09","09   Индивидуални практики за ПМП - Кърджали","111"]
["09","09   Групови практики за ПМП - Кърджали","131"]
["09","09   Индивидуални практики за СМП - Кърджали","211"]
["09","09   Групови практики за СМП - Кърджали","231"]
["09","09   Медицински центрове - Кърджали","251"]
["09","09   Медико-дентални центрове - Кърджали","270"]
["09","09   Диагностично-консултативни центрове - Кърджали","281"]
["10","10   Индивидуални практики за ПМП - Кюстендил","111"]
[10,"10   Групови практики за ПМП - Кюстендил","131"]
[10,"10   Индивидуални практики за СМП - Кюстендил","211"]
[10,"10   Групови практики за СМП - Кюстендил","231"]
[10,"10   Медицински центрове - Кюстендил","251"]
[10,"10   Медико-дентални центрове - Кюстендил","270"]
[10,"10   Диагностично-консултативни центрове - Кюстендил","281"]
["11","11   Индивидуални практики за ПМП - Ловеч","111"]
[11,"11   Групови практики за ПМП - Ловеч","131"]
[11,"11   Индивидуални практики за СМП - Ловеч","211"]
[11,"11   Групови практики за СМП - Ловеч","231"]
[11,"11   Медицински центрове - Ловеч","251"]
[11,"11   Медико-дентални центрове - Ловеч","270"]
[11,"11   Диагностично-консултативни центрове - Ловеч","281"]
[12,"12   Индивидуални практики за ПМП - Монтана","111"]
[12,"12   Групови практики за ПМП - Монтана","131"]
[12,"12   Индивидуални практики за СМП - Монтана","211"]
[12,"12   Групови практики за СМП - Монтана","231"]
[12,"12   Медицински центрове - Монтана","251"]
[12,"12   Медико-дентални центрове - Монтана","270"]
[12,"12   Диагностично-консултативни центрове - Монтана","281"]
[13,"13   Индивидуални практики за ПМП - Пазарджик","111"]
[13,"13   Групови практики за ПМП - Пазарджик","131"]
[13,"13   Индивидуални практики за СМП - Пазарджик","211"]
[13,"13   Групови практики за СМП - Пазарджик","231"]
[13,"13   Медицински центрове - Пазарджик","251"]
[13,"13   Медико-дентални центрове - Пазарджик","270"]
[13,"13   Диагностично-консултативни центрове - Пазарджик","281"]
[14,"14   Индивидуални практики за ПМП - Перник","111"]
[14,"14   Групови практики за ПМП - Перник","131"]
[14,"14   Индивидуални практики за СМП - Перник","211"]
[14,"14   Групови практики за СМП - Перник","231"]
[14,"14   Медицински центрове - Перник","251"]
[14,"14   Медико-дентални центрове - Перник","270"]
[14,"14   Диагностично-консултативни центрове - Перник","281"]
[15,"15   Индивидуални практики за ПМП - Плевен","111"]
[15,"15   Групови практики за ПМП - Плевен","131"]
[15,"15   Индивидуални практики за СМП - Плевен","211"]
[15,"15   Групови практики за СМП - Плевен","231"]
[15,"15   Медицински центрове - Плевен","251"]
[15,"15   Медико-дентални центрове - Плевен","270"]
[15,"15   Диагностично-консултативни центрове - Плевен","281"]
[16,"16   Индивидуални практики за ПМП - Пловдив","111"]
[16,"16   Групови практики за ПМП - Пловдив","131"]
[16,"16   Индивидуални практики за СМП - Пловдив","211"]
[16,"16   Групови практики за СМП - Пловдив","231"]
[16,"16   Медицински центрове - Пловдив","251"]
[16,"16   Медико-дентални центрове - Пловдив","270"]
[16,"16   Диагностично-консултативни центрове - Пловдив","281"]
[17,"17   Индивидуални практики за ПМП - Разград","111"]
[17,"17   Групови практики за ПМП - Разград","131"]
[17,"17   Индивидуални практики за СМП - Разград","211"]
[17,"17   Групови практики за СМП - Разград","231"]
[17,"17   Медицински центрове - Разград","251"]
[17,"17   Медико-дентални центрове - Разград","270"]
[17,"17   Диагностично-консултативни центрове - Разград","281"]
[18,"18   Индивидуални практики за ПМП - Русе","111"]
[18,"18   Групови практики за ПМП - Русе","131"]
[18,"18   Индивидуални практики за СМП - Русе","211"]
[18,"18   Групови практики за СМП - Русе","231"]
[18,"18   Медицински центрове - Русе","251"]
[18,"18   Медико-дентални центрове - Русе","270"]
[18,"18   Диагностично-консултативни центрове - Русе","281"]
[19,"19   Индивидуални практики за ПМП - Силистра","111"]
[19,"19   Групови практики за ПМП - Силистра","131"]
[19,"19   Индивидуални практики за СМП - Силистра","211"]
[19,"19   Групови практики за СМП - Силистра","231"]
[19,"19   Медицински центрове - Силистра","251"]
[19,"19   Медико-дентални центрове - Силистра","270"]
[19,"19   Диагностично-консултативни центрове - Силистра","281"]
[20,"20   Индивидуални практики за ПМП - Сливен","111"]
[20,"20   Групови практики за ПМП - Сливен","131"]
[20,"20   Индивидуални практики за СМП - Сливен","211"]
[20,"20   Групови практики за СМП - Сливен","231"]
[20,"20   Медицински центрове - Сливен","251"]
[20,"20   Медико-дентални центрове - Сливен","270"]
[20,"20   Диагностично-консултативни центрове - Сливен","281"]
[21,"21   Индивидуални практики за ПМП - Смолян","111"]
[21,"21   Групови практики за ПМП - Смолян","131"]
[21,"21   Индивидуални практики за СМП - Смолян","211"]
[21,"21   Групови практики за СМП - Смолян","231"]
[21,"21   Медицински центрове - Смолян","251"]
[21,"21   Медико-дентални центрове - Смолян","270"]
[21,"21   Диагностично-консултативни центрове - Смолян","281"]
[22,"22   Индивидуални практики за ПМП - София (столица)","111"]
[22,"22   Групови практики за ПМП - София (столица)","131"]
[22,"22   Индивидуални практики за СМП - София (столица)","211"]
[22,"22   Групови практики за СМП - София (столица)","231"]
[22,"22   Медицински центрове - София (столица)","251"]
[22,"22   Медико-дентални центрове - София (столица)","270"]
[22,"22   Диагностично-консултативни центрове - София (столица)","281"]
[23,"23   Индивидуални практики за ПМП - София","111"]
[23,"23   Групови практики за ПМП - София","131"]
[23,"23   Индивидуални практики за СМП - София","211"]
[23,"23   Групови практики за СМП - София","231"]
[23,"23   Медицински центрове - София","251"]
[23,"23   Медико-дентални центрове - София","270"]
[23,"23   Диагностично-консултативни центрове - София","281"]
[24,"24   Индивидуални практики за ПМП - Ст. Загора","111"]
[24,"24   Групови практики за ПМП - Ст. Загора","131"]
[24,"24   Индивидуални практики за СМП - Ст. Загора","211"]
[24,"24   Групови практики за СМП - Ст. Загора","231"]
[24,"24   Медицински центрове - Ст. Загора","251"]
[24,"24   Медико-дентални центрове - Ст. Загора","270"]
[24,"24   Диагностично-консултативни центрове - Ст. Загора","281"]
[25,"25   Индивидуални практики за ПМП - Търговище","111"]
[25,"25   Групови практики за ПМП - Търговище","131"]
[25,"25   Индивидуални практики за СМП - Търговище","211"]
[25,"25   Групови практики за СМП - Търговище","231"]
[25,"25   Медицински центрове - Търговище","251"]
[25,"25   Медико-дентални центрове - Търговище","270"]
[25,"25   Диагностично-консултативни центрове - Търговище","281"]
[26,"26   Индивидуални практики за ПМП - Хасково","111"]
[26,"26   Групови практики за ПМП - Хасково","131"]
[26,"26   Индивидуални практики за СМП - Хасково","211"]
[26,"26   Групови практики за СМП - Хасково","231"]
[26,"26   Медицински центрове - Хасково","251"]
[26,"26   Медико-дентални центрове - Хасково","270"]
[26,"26   Диагностично-консултативни центрове - Хасково","281"]
[27,"27   Индивидуални практики за ПМП - Шумен","111"]
[27,"27   Групови практики за ПМП - Шумен","131"]
[27,"27   Индивидуални практики за СМП - Шумен","211"]
[27,"27   Групови практики за СМП - Шумен","231"]
[27,"27   Медицински центрове - Шумен","251"]
[27,"27   Медико-дентални центрове - Шумен","270"]
[27,"27   Диагностично-консултативни центрове - Шумен","281"]
[28,"28   Индивидуални практики за ПМП - Ямбол","111"]
[28,"28   Групови практики за ПМП - Ямбол","131"]
[28,"28   Индивидуални практики за СМП - Ямбол","211"]
[28,"28   Групови практики за СМП - Ямбол","231"]
[28,"28   Медицински центрове - Ямбол","251"]
[28,"28   Медико-дентални центрове - Ямбол","270"]
[28,"28   Диагностично-консултативни центрове - Ямбол","281"]